{"text_format":"1","workbook":"xlsx","n_sheets":14,"sheets":["Answer","ข้อมูลนักเรียน","คณิตศาสตร์","ภาษาไทย","วิทยาศาสตร์","ภาษาอังกฤษ","สรุปรายคน","สรุปรวม","สรุปรายสาระ","การใช้งาน","ClearFormat","PastrankfromSh8","คำนวณตามสาระ","List"],"not_rendered":{"charts":0,"images":3,"macros":1,"external_links":0,"defined_names":282,"comments":0,"pivot_tables":0},"unopened":[],"bounds":{"document_bytes":16777216,"sheet_cells":100000,"rows_first":2000,"rows_last":500,"rows_between":2000,"halvings":0,"cell_chars":16384,"cell_head_chars":4096},"cells_cut":0,"cells_raw":0,"read":"whole","date_system":"1900"}

{"sheet":"Answer","index":0,"n_rows":43,"n_cols":19,"rows_kept":43,"cut":false,"hidden":true,"merged":[[30,13,32,13],[33,13,35,13],[30,12,32,12],[33,12,35,12],[0,0,0,18],[1,15,1,18],[1,0,1,3],[1,5,1,8],[1,10,1,13]]}
["เฉลยคำตอบแบบทดสอบวินิจฉัย ปีการศึกษา 2562"]
["รายวิชาคณิตศาสตร์",null,null,null,null,"รายวิชาภาษาไทย",null,null,null,null,"รายวิชาวิทยาศาสตร์",null,null,null,null,"รายวิชาภาษาอังกฤษ"]
["ข้อที่","คำตอบ","คะแนน","สาระ",null,"ข้อที่","คำตอบ","คะแนน","สาระ",null,"ข้อที่","คำตอบ","คะแนน","สาระ",null,"ข้อที่","คำตอบ","คะแนน","สาระ"]
[1,1,5,"สาระที่ 1 จำนวนและการดำเนินการ",null,1,4,2.5,"สาระที่ 1 การอ่าน",null,1,3,3.5,"สาระที่ 1 สิ่งมีชีวิตกับกระบวนการดำรงชีวิต",null,1,4,2.5,"สาระที่ 1 ภาษาเพื่อการสื่อสาร"]
[2,4,5,"สาระที่ 1 จำนวนและการดำเนินการ",null,2,3,2.5,"สาระที่ 1 การอ่าน",null,2,4,3.5,"สาระที่ 1 สิ่งมีชีวิตกับกระบวนการดำรงชีวิต",null,2,3,2.5,"สาระที่ 1 ภาษาเพื่อการสื่อสาร"]
[3,1,5,"สาระที่ 1 จำนวนและการดำเนินการ",null,3,1,2.5,"สาระที่ 1 การอ่าน",null,3,3,3.5,"สาระที่ 1 สิ่งมีชีวิตกับกระบวนการดำรงชีวิต",null,3,4,2.5,"สาระที่ 1 ภาษาเพื่อการสื่อสาร"]
[4,3,5,"สาระที่ 1 จำนวนและการดำเนินการ",null,4,3,2.5,"สาระที่ 1 การอ่าน",null,4,2,3.5,"สาระที่ 1 สิ่งมีชีวิตกับกระบวนการดำรงชีวิต",null,4,2,2.5,"สาระที่ 1 ภาษาเพื่อการสื่อสาร"]
[5,3,5,"สาระที่ 1 จำนวนและการดำเนินการ",null,5,2,2.5,"สาระที่ 1 การอ่าน",null,5,2,3.5,"สาระที่ 1 สิ่งมีชีวิตกับกระบวนการดำรงชีวิต",null,5,3,2.5,"สาระที่ 1 ภาษาเพื่อการสื่อสาร"]
[6,2,5,"สาระที่ 1 จำนวนและการดำเนินการ",null,6,4,2.5,"สาระที่ 1 การอ่าน",null,6,2,3.5,"สาระที่ 1 สิ่งมีชีวิตกับกระบวนการดำรงชีวิต",null,6,1,2.5,"สาระที่ 1 ภาษาเพื่อการสื่อสาร"]
[7,4,5,"สาระที่ 2 การวัด",null,7,1,2.5,"สาระที่ 1 การอ่าน",null,7,2,3.5,"สาระที่ 1 สิ่งมีชีวิตกับกระบวนการดำรงชีวิต",null,7,1,2.5,"สาระที่ 1 ภาษาเพื่อการสื่อสาร"]
[8,3,5,"สาระที่ 2 การวัด",null,8,3,2.5,"สาระที่ 1 การอ่าน",null,8,4,3.5,"สาระที่ 2 ชีวิตกับสิ่งแวดล้อม",null,8,2,2.5,"สาระที่ 1 ภาษาเพื่อการสื่อสาร"]
[9,3,5,"สาระที่ 2 การวัด",null,9,4,2.5,"สาระที่ 1 การอ่าน",null,9,3,3.5,"สาระที่ 2 ชีวิตกับสิ่งแวดล้อม",null,9,2,2.5,"สาระที่ 1 ภาษาเพื่อการสื่อสาร"]
[10,2,5,"สาระที่ 2 การวัด",null,10,1,2.5,"สาระที่ 1 การอ่าน",null,10,4,3.5,"สาระที่ 3 สารและสมบัติของสาร",null,10,4,2.5,"สาระที่ 1 ภาษาเพื่อการสื่อสาร"]
[11,2,5,"สาระที่ 3 เรขาคณิต",null,11,1,2.5,"สาระที่ 2 การเขียน",null,11,1,3.5,"สาระที่ 3 สารและสมบัติของสาร",null,11,3,2.5,"สาระที่ 1 ภาษาเพื่อการสื่อสาร"]
[12,3,5,"สาระที่ 3 เรขาคณิต",null,12,4,2.5,"สาระที่ 2 การเขียน",null,12,1,3.5,"สาระที่ 3 สารและสมบัติของสาร",null,12,1,2.5,"สาระที่ 1 ภาษาเพื่อการสื่อสาร"]
[13,4,5,"สาระที่ 4 พีชคณิต",null,13,3,2.5,"สาระที่ 3 การฟัง การดูและการพูด",null,13,2,3.5,"สาระที่ 3 สารและสมบัติของสาร",null,13,2,2.5,"สาระที่ 1 ภาษาเพื่อการสื่อสาร"]
[14,2,5,"สาระที่ 5 การวิเคราะห์ข้อมูลและความน่าจะเป็น",null,14,1,2.5,"สาระที่ 3 การฟัง การดูและการพูด",null,14,1,3.5,"สาระที่ 3 สารและสมบัติของสาร",null,14,3,2.5,"สาระที่ 1 ภาษาเพื่อการสื่อสาร"]
[15,4,5,"สาระที่ 3 เรขาคณิต",null,15,3,2.5,"สาระที่ 3 การฟัง การดูและการพูด",null,15,3,3.5,"สาระที่ 4 แรงและการเคลื่อนที่",null,15,4,2.5,"สาระที่ 1 ภาษาเพื่อการสื่อสาร"]
[16,1,5,"สาระที่ 5 การวิเคราะห์ข้อมูลและความน่าจะเป็น",null,16,1,2.5,"สาระที่ 3 การฟัง การดูและการพูด",null,16,4,3.5,"สาระที่ 4 แรงและการเคลื่อนที่",null,16,1,2.5,"สาระที่ 1 ภาษาเพื่อการสื่อสาร"]
[17,265,5,"สาระที่ 1 จำนวนและการดำเนินการ",null,17,2,2.5,"สาระที่ 3 การฟัง การดูและการพูด",null,17,1,3.5,"สาระที่ 4 แรงและการเคลื่อนที่",null,17,4,2.5,"สาระที่ 1 ภาษาเพื่อการสื่อสาร"]
[18,3000,5,"สาระที่ 2 การวัด",null,18,2,2.5,"สาระที่ 4 หลักการใช้ภาษาไทย",null,18,2,3.5,"สาระที่ 5 พลังงาน",null,18,1,2.5,"สาระที่ 1 ภาษาเพื่อการสื่อสาร"]
[19,5,5,"สาระที่ 4 พีชคณิต",null,19,1,2.5,"สาระที่ 4 หลักการใช้ภาษาไทย",null,19,3,3.5,"สาระที่ 5 พลังงาน",null,19,3,2.5,"สาระที่ 1 ภาษาเพื่อการสื่อสาร"]
[20,12,5,"สาระที่ 5 การวิเคราะห์ข้อมูลและความน่าจะเป็น",null,20,3,2.5,"สาระที่ 4 หลักการใช้ภาษาไทย",null,20,2,3.5,"สาระที่ 5 พลังงาน",null,20,2,2.5,"สาระที่ 1 ภาษาเพื่อการสื่อสาร"]
[null,null,null,null,null,21,1,2.5,"สาระที่ 4 หลักการใช้ภาษาไทย",null,21,2,3.5,"สาระที่ 5 พลังงาน",null,21,4,2.5,"สาระที่ 1 ภาษาเพื่อการสื่อสาร"]
[null,null,null,null,null,22,2,2.5,"สาระที่ 4 หลักการใช้ภาษาไทย",null,22,4,3.5,"สาระที่ 6 กระบวนการเปลี่ยนแปลงของโลก",null,22,2,2.5,"สาระที่ 1 ภาษาเพื่อการสื่อสาร"]
[null,null,null,null,null,23,4,2.5,"สาระที่ 4 หลักการใช้ภาษาไทย",null,23,1,3.5,"สาระที่ 6 กระบวนการเปลี่ยนแปลงของโลก",null,23,4,2.5,"สาระที่ 1 ภาษาเพื่อการสื่อสาร"]
[null,null,null,null,null,24,1,2.5,"สาระที่ 4 หลักการใช้ภาษาไทย",null,24,2,3.5,"สาระที่ 6 กระบวนการเปลี่ยนแปลงของโลก",null,24,3,2.5,"สาระที่ 1 ภาษาเพื่อการสื่อสาร"]
[null,null,null,null,null,25,1,2.5,"สาระที่ 4 หลักการใช้ภาษาไทย",null,25,4,3.5,"สาระที่ 7 ดาราศาสตร์และอวกาศ",null,25,1,2.5,"สาระที่ 1 ภาษาเพื่อการสื่อสาร"]
[null,null,null,null,null,26,3,2.5,"สาระที่ 4 หลักการใช้ภาษาไทย",null,26,1,3.5,"สาระที่ 7 ดาราศาสตร์และอวกาศ",null,26,3,2.5,"สาระที่ 1 ภาษาเพื่อการสื่อสาร"]
[null,null,null,null,null,27,4,2.5,"สาระที่ 4 หลักการใช้ภาษาไทย",null,null,"1=ใช่","2=ไม่ใช่","ข้อสอบเลือกตอบแบบเชิงซ้อน",null,27,4,2.5,"สาระที่ 2 ภาษาและวัฒนธรรม"]
[null,null,null,null,null,28,2,2.5,"สาระที่ 5 วรรณคดีและวรรณกรรม",null,27.1,1,4.5,"สาระที่ 1 สิ่งมีชีวิตกับกระบวนการดำรงชีวิต",null,28,3,2.5,"สาระที่ 2 ภาษาและวัฒนธรรม"]
[null,null,null,null,null,29,3,2.5,"สาระที่ 5 วรรณคดีและวรรณกรรม",null,27.2,2,null,null,null,29,4,2.5,"สาระที่ 2 ภาษาและวัฒนธรรม"]
[null,null,null,null,null,30,2,2.5,"สาระที่ 5 วรรณคดีและวรรณกรรม",null,27.3,1,null,null,null,30,3,2.5,"สาระที่ 2 ภาษาและวัฒนธรรม"]
[null,null,null,null,null,31,3,2.5,"สาระที่ 5 วรรณคดีและวรรณกรรม",null,28.1,1,4.5,"สาระที่ 5 พลังงาน",null,31,3,2.5,"สาระที่ 2 ภาษาและวัฒนธรรม"]
[null,null,null,null,null,32,4,2.5,"สาระที่ 5 วรรณคดีและวรรณกรรม",null,28.2,2,null,null,null,32,3,2.5,"สาระที่ 2 ภาษาและวัฒนธรรม"]
[null,null,null,null,null,33,null,10,"สาระที่ 2 การเขียน",null,28.3,1,null,null,null,33,2,2.5,"สาระที่ 2 ภาษาและวัฒนธรรม"]
[null,null,null,null,null,34,null,10,"สาระที่ 2 การเขียน",null,null,null,null,null,null,34,1,2.5,"สาระที่ 2 ภาษาและวัฒนธรรม"]
[null,null,null,null,null,null,null,null,null,null,null,null,null,null,null,35,1,2.5,"สาระที่ 4 ภาษากับความสัมพันธ์กับชุมชนและโลก"]
[null,null,null,null,null,null,null,null,null,null,null,null,null,null,null,36,4,2.5,"สาระที่ 4 ภาษากับความสัมพันธ์กับชุมชนและโลก"]
[null,null,null,null,null,null,null,null,null,null,null,null,null,null,null,37,3,2.5,"สาระที่ 4 ภาษากับความสัมพันธ์กับชุมชนและโลก"]
[null,null,null,null,null,null,null,null,null,null,null,null,null,null,null,38,4,2.5,"สาระที่ 4 ภาษากับความสัมพันธ์กับชุมชนและโลก"]
[null,null,null,null,null,null,null,null,null,null,null,null,null,null,null,39,1,2.5,"สาระที่ 4 ภาษากับความสัมพันธ์กับชุมชนและโลก"]
[null,null,null,null,null,null,null,null,null,null,null,null,null,null,null,40,2,2.5,"สาระที่ 4 ภาษากับความสัมพันธ์กับชุมชนและโลก"]

{"sheet":"ข้อมูลนักเรียน","index":1,"n_rows":362,"n_cols":4,"rows_kept":362,"cut":false,"hidden":false,"merged":[[7,1,7,3],[1,1,1,3],[9,1,9,3],[3,1,3,2],[4,1,4,2],[6,1,6,2],[5,1,5,2]]}
[]
[null,"กรอกข้อมูลทั่วไป"]
[]
[null,"โรงเรียน",null,"พิมพ์ชื่อโรงเรียน"]
[null,"ศูนย์อำนวยการเครือข่าย",null,"พิมพ์ชื่อศูนย์อำนวยการเครือข่าย"]
[null,"อำเภอ",null,"AAAA"]
[null,"จังหวัด",null,"สกลนคร"]
[null,"สำนักงานเขตพื้นที่การศึกษาประถมศึกษาสกลนคร  เขต 1"]
[]
[null,"กรอกข้อมูลนักเรียน"]
[]
[null,"ห้อง","ลำดับที่","ชื่อ-สกุล"]
[null,"1","1","นายก"]
[null,"1","2","นายข"]
[null,"1","3","นายพ"]
[null,"1","4","นายขเร"]
[null,null,"5","นางสาว"]
[null,null,"6"]
[null,null,"7"]
[null,null,"8"]
[null,null,"9"]
[null,null,"10"]
[null,null,"11"]
[null,null,"12"]
[null,null,"13"]
[null,null,"14"]
[null,null,"15"]
[null,null,"16"]
[null,null,"17"]
[null,null,"18"]
[null,null,"19"]
[null,null,"20"]
[null,null,"21"]
[null,null,"22"]
[null,null,"23"]
[null,null,"24"]
[null,null,"25"]
[null,null,"26"]
[null,null,"27"]
[null,null,"28"]
[null,null,"29"]
[null,null,"30"]
[null,null,"31"]
[null,null,"32"]
[null,null,"33"]
[null,null,"34"]
[null,null,"35"]
[null,null,"36"]
[null,null,"37"]
[null,null,"38"]
[null,null,"39"]
[null,null,"40"]
[null,null,"41"]
[null,null,"42"]
[null,null,"43"]
[null,null,"44"]
[null,null,"45"]
[null,null,"46"]
[null,null,"47"]
[null,null,"48"]
[null,null,"49"]
[null,null,"50"]
[null,null,"51"]
[null,null,"52"]
[null,null,"53"]
[null,null,"54"]
[null,null,"55"]
[null,null,"56"]
[null,null,"57"]
[null,null,"58"]
[null,null,"59"]
[null,null,"60"]
[null,null,"61"]
[null,null,"62"]
[null,null,"63"]
[null,null,"64"]
[null,null,"65"]
[null,null,"66"]
[null,null,"67"]
[null,null,"68"]
[null,null,"69"]
[null,null,"70"]
[null,null,"71"]
[null,null,"72"]
[null,null,"73"]
[null,null,"74"]
[null,null,"75"]
[null,null,"76"]
[null,null,"77"]
[null,null,"78"]
[null,null,"79"]
[null,null,"80"]
[null,null,"81"]
[null,null,"82"]
[null,null,"83"]
[null,null,"84"]
[null,null,"85"]
[null,null,"86"]
[null,null,"87"]
[null,null,"88"]
[null,null,"89"]
[null,null,"90"]
[null,null,"91"]
[null,null,"92"]
[null,null,"93"]
[null,null,"94"]
[null,null,"95"]
[null,null,"96"]
[null,null,"97"]
[null,null,"98"]
[null,null,"99"]
[null,null,"100"]
[null,null,"101"]
[null,null,"102"]
[null,null,"103"]
[null,null,"104"]
[null,null,"105"]
[null,null,"106"]
[null,null,"107"]
[null,null,"108"]
[null,null,"109"]
[null,null,"110"]
[null,null,"111"]
[null,null,"112"]
[null,null,"113"]
[null,null,"114"]
[null,null,"115"]
[null,null,"116"]
[null,null,"117"]
[null,null,"118"]
[null,null,"119"]
[null,null,"120"]
[null,null,"121"]
[null,null,"122"]
[null,null,"123"]
[null,null,"124"]
[null,null,"125"]
[null,null,"126"]
[null,null,"127"]
[null,null,"128"]
[null,null,"129"]
[null,null,"130"]
[null,null,"131"]
[null,null,"132"]
[null,null,"133"]
[null,null,"134"]
[null,null,"135"]
[null,null,"136"]
[null,null,"137"]
[null,null,"138"]
[null,null,"139"]
[null,null,"140"]
[null,null,"141"]
[null,null,"142"]
[null,null,"143"]
[null,null,"144"]
[null,null,"145"]
[null,null,"146"]
[null,null,"147"]
[null,null,"148"]
[null,null,"149"]
[null,null,"150"]
[null,null,"151"]
[null,null,"152"]
[null,null,"153"]
[null,null,"154"]
[null,null,"155"]
[null,null,"156"]
[null,null,"157"]
[null,null,"158"]
[null,null,"159"]
[null,null,"160"]
[null,null,"161"]
[null,null,"162"]
[null,null,"163"]
[null,null,"164"]
[null,null,"165"]
[null,null,"166"]
[null,null,"167"]
[null,null,"168"]
[null,null,"169"]
[null,null,"170"]
[null,null,"171"]
[null,null,"172"]
[null,null,"173"]
[null,null,"174"]
[null,null,"175"]
[null,null,"176"]
[null,null,"177"]
[null,null,"178"]
[null,null,"179"]
[null,null,"180"]
[null,null,"181"]
[null,null,"182"]
[null,null,"183"]
[null,null,"184"]
[null,null,"185"]
[null,null,"186"]
[null,null,"187"]
[null,null,"188"]
[null,null,"189"]
[null,null,"190"]
[null,null,"191"]
[null,null,"192"]
[null,null,"193"]
[null,null,"194"]
[null,null,"195"]
[null,null,"196"]
[null,null,"197"]
[null,null,"198"]
[null,null,"199"]
[null,null,"200"]
[null,null,"201"]
[null,null,"202"]
[null,null,"203"]
[null,null,"204"]
[null,null,"205"]
[null,null,"206"]
[null,null,"207"]
[null,null,"208"]
[null,null,"209"]
[null,null,"210"]
[null,null,"211"]
[null,null,"212"]
[null,null,"213"]
[null,null,"214"]
[null,null,"215"]
[null,null,"216"]
[null,null,"217"]
[null,null,"218"]
[null,null,"219"]
[null,null,"220"]
[null,null,"221"]
[null,null,"222"]
[null,null,"223"]
[null,null,"224"]
[null,null,"225"]
[null,null,"226"]
[null,null,"227"]
[null,null,"228"]
[null,null,"229"]
[null,null,"230"]
[null,null,"231"]
[null,null,"232"]
[null,null,"233"]
[null,null,"234"]
[null,null,"235"]
[null,null,"236"]
[null,null,"237"]
[null,null,"238"]
[null,null,"239"]
[null,null,"240"]
[null,null,"241"]
[null,null,"242"]
[null,null,"243"]
[null,null,"244"]
[null,null,"245"]
[null,null,"246"]
[null,null,"247"]
[null,null,"248"]
[null,null,"249"]
[null,null,"250"]
[null,null,"251"]
[null,null,"252"]
[null,null,"253"]
[null,null,"254"]
[null,null,"255"]
[null,null,"256"]
[null,null,"257"]
[null,null,"258"]
[null,null,"259"]
[null,null,"260"]
[null,null,"261"]
[null,null,"262"]
[null,null,"263"]
[null,null,"264"]
[null,null,"265"]
[null,null,"266"]
[null,null,"267"]
[null,null,"268"]
[null,null,"269"]
[null,null,"270"]
[null,null,"271"]
[null,null,"272"]
[null,null,"273"]
[null,null,"274"]
[null,null,"275"]
[null,null,"276"]
[null,null,"277"]
[null,null,"278"]
[null,null,"279"]
[null,null,"280"]
[null,null,"281"]
[null,null,"282"]
[null,null,"283"]
[null,null,"284"]
[null,null,"285"]
[null,null,"286"]
[null,null,"287"]
[null,null,"288"]
[null,null,"289"]
[null,null,"290"]
[null,null,"291"]
[null,null,"292"]
[null,null,"293"]
[null,null,"294"]
[null,null,"295"]
[null,null,"296"]
[null,null,"297"]
[null,null,"298"]
[null,null,"299"]
[null,null,"300"]
[null,null,"301"]
[null,null,"302"]
[null,null,"303"]
[null,null,"304"]
[null,null,"305"]
[null,null,"306"]
[null,null,"307"]
[null,null,"308"]
[null,null,"309"]
[null,null,"310"]
[null,null,"311"]
[null,null,"312"]
[null,null,"313"]
[null,null,"314"]
[null,null,"315"]
[null,null,"316"]
[null,null,"317"]
[null,null,"318"]
[null,null,"319"]
[null,null,"320"]
[null,null,"321"]
[null,null,"322"]
[null,null,"323"]
[null,null,"324"]
[null,null,"325"]
[null,null,"326"]
[null,null,"327"]
[null,null,"328"]
[null,null,"329"]
[null,null,"330"]
[null,null,"331"]
[null,null,"332"]
[null,null,"333"]
[null,null,"334"]
[null,null,"335"]
[null,null,"336"]
[null,null,"337"]
[null,null,"338"]
[null,null,"339"]
[null,null,"340"]
[null,null,"341"]
[null,null,"342"]
[null,null,"343"]
[null,null,"344"]
[null,null,"345"]
[null,null,"346"]
[null,null,"347"]
[null,null,"348"]
[null,null,"349"]
[null,null,"350"]

{"sheet":"คณิตศาสตร์","index":2,"n_rows":360,"n_cols":55,"rows_kept":360,"cut":false,"hidden":false,"merged":[[356,2,356,5],[357,2,357,5],[358,2,358,5],[359,2,359,5],[351,2,351,5],[352,2,352,5],[353,2,353,5],[354,2,354,5],[355,2,355,5],[346,2,346,5],[347,2,347,5],[348,2,348,5],[349,2,349,5],[350,2,350,5],[341,2,341,5],[342,2,342,5],[343,2,343,5],[344,2,344,5],[345,2,345,5],[336,2,336,5],[337,2,337,5],[338,2,338,5],[339,2,339,5],[340,2,340,5],[331,2,331,5],[332,2,332,5],[333,2,333,5],[334,2,334,5],[335,2,335,5],[326,2,326,5],[327,2,327,5],[328,2,328,5],[329,2,329,5],[330,2,330,5],[321,2,321,5],[322,2,322,5],[323,2,323,5],[324,2,324,5],[325,2,325,5],[316,2,316,5],[317,2,317,5],[318,2,318,5],[319,2,319,5],[320,2,320,5],[311,2,311,5],[312,2,312,5],[313,2,313,5],[314,2,314,5],[315,2,315,5],[306,2,306,5],[307,2,307,5],[308,2,308,5],[309,2,309,5],[310,2,310,5],[301,2,301,5],[302,2,302,5],[303,2,303,5],[304,2,304,5],[305,2,305,5],[296,2,296,5],[297,2,297,5],[298,2,298,5],[299,2,299,5],[300,2,300,5],[291,2,291,5],[292,2,292,5],[293,2,293,5],[294,2,294,5],[295,2,295,5],[286,2,286,5],[287,2,287,5],[288,2,288,5],[289,2,289,5],[290,2,290,5],[281,2,281,5],[282,2,282,5],[283,2,283,5],[284,2,284,5],[285,2,285,5],[276,2,276,5],[277,2,277,5],[278,2,278,5],[279,2,279,5],[280,2,280,5],[271,2,271,5],[272,2,272,5],[273,2,273,5],[274,2,274,5],[275,2,275,5],[266,2,266,5],[267,2,267,5],[268,2,268,5],[269,2,269,5],[270,2,270,5],[261,2,261,5],[262,2,262,5],[263,2,263,5],[264,2,264,5],[265,2,265,5],[256,2,256,5],[257,2,257,5],[258,2,258,5],[259,2,259,5],[260,2,260,5],[251,2,251,5],[252,2,252,5],[253,2,253,5],[254,2,254,5],[255,2,255,5],[246,2,246,5],[247,2,247,5],[248,2,248,5],[249,2,249,5],[250,2,250,5],[241,2,241,5],[242,2,242,5],[243,2,243,5],[244,2,244,5],[245,2,245,5],[236,2,236,5],[237,2,237,5],[238,2,238,5],[239,2,239,5],[240,2,240,5],[231,2,231,5],[232,2,232,5],[233,2,233,5],[234,2,234,5],[235,2,235,5],[226,2,226,5],[227,2,227,5],[228,2,228,5],[229,2,229,5],[230,2,230,5],[221,2,221,5],[222,2,222,5],[223,2,223,5],[224,2,224,5],[225,2,225,5],[216,2,216,5],[217,2,217,5],[218,2,218,5],[219,2,219,5],[220,2,220,5],[211,2,211,5],[212,2,212,5],[213,2,213,5],[214,2,214,5],[215,2,215,5],[206,2,206,5],[207,2,207,5],[208,2,208,5],[209,2,209,5],[210,2,210,5],[201,2,201,5],[202,2,202,5],[203,2,203,5],[204,2,204,5],[205,2,205,5],[196,2,196,5],[197,2,197,5],[198,2,198,5],[199,2,199,5],[200,2,200,5],[191,2,191,5],[192,2,192,5],[193,2,193,5],[194,2,194,5],[195,2,195,5],[186,2,186,5],[187,2,187,5],[188,2,188,5],[189,2,189,5],[190,2,190,5],[181,2,181,5],[182,2,182,5],[183,2,183,5],[184,2,184,5],[185,2,185,5],[176,2,176,5],[177,2,177,5],[178,2,178,5],[179,2,179,5],[180,2,180,5],[171,2,171,5],[172,2,172,5],[173,2,173,5],[174,2,174,5],[175,2,175,5],[166,2,166,5],[167,2,167,5],[168,2,168,5],[169,2,169,5],[170,2,170,5],[161,2,161,5],[162,2,162,5],[163,2,163,5],[164,2,164,5],[165,2,165,5],[156,2,156,5],[157,2,157,5],[158,2,158,5],[159,2,159,5],[160,2,160,5],[151,2,151,5],[152,2,152,5],[153,2,153,5],[154,2,154,5],[155,2,155,5],[146,2,146,5],[147,2,147,5],[148,2,148,5],[149,2,149,5],[150,2,150,5],[141,2,141,5],[142,2,142,5],[143,2,143,5],[144,2,144,5],[145,2,145,5],[136,2,136,5],[137,2,137,5],[138,2,138,5],[139,2,139,5],[140,2,140,5],[131,2,131,5],[132,2,132,5],[133,2,133,5],[134,2,134,5],[135,2,135,5],[126,2,126,5],[127,2,127,5],[128,2,128,5],[129,2,129,5],[130,2,130,5],[121,2,121,5],[122,2,122,5],[123,2,123,5],[124,2,124,5],[125,2,125,5],[116,2,116,5],[117,2,117,5],[118,2,118,5],[119,2,119,5],[120,2,120,5],[111,2,111,5],[112,2,112,5],[113,2,113,5],[114,2,114,5],[115,2,115,5],[106,2,106,5],[107,2,107,5],[108,2,108,5],[109,2,109,5],[110,2,110,5],[101,2,101,5],[102,2,102,5],[103,2,103,5],[104,2,104,5],[105,2,105,5],[96,2,96,5],[97,2,97,5],[98,2,98,5],[99,2,99,5],[100,2,100,5],[91,2,91,5],[92,2,92,5],[93,2,93,5],[94,2,94,5],[95,2,95,5],[86,2,86,5],[87,2,87,5],[88,2,88,5],[89,2,89,5],[90,2,90,5],[81,2,81,5],[82,2,82,5],[83,2,83,5],[84,2,84,5],[85,2,85,5],[76,2,76,5],[77,2,77,5],[78,2,78,5],[79,2,79,5],[80,2,80,5],[71,2,71,5],[72,2,72,5],[73,2,73,5],[74,2,74,5],[75,2,75,5],[66,2,66,5],[67,2,67,5],[68,2,68,5],[69,2,69,5],[70,2,70,5],[61,2,61,5],[62,2,62,5],[63,2,63,5],[64,2,64,5],[65,2,65,5],[56,2,56,5],[57,2,57,5],[58,2,58,5],[59,2,59,5],[60,2,60,5],[51,2,51,5],[52,2,52,5],[53,2,53,5],[54,2,54,5],[55,2,55,5],[46,2,46,5],[47,2,47,5],[48,2,48,5],[49,2,49,5],[50,2,50,5],[41,2,41,5],[42,2,42,5],[43,2,43,5],[44,2,44,5],[45,2,45,5],[36,2,36,5],[37,2,37,5],[38,2,38,5],[39,2,39,5],[40,2,40,5],[31,2,31,5],[32,2,32,5],[33,2,33,5],[34,2,34,5],[35,2,35,5],[26,2,26,5],[27,2,27,5],[28,2,28,5],[29,2,29,5],[30,2,30,5],[21,2,21,5],[22,2,22,5],[23,2,23,5],[24,2,24,5],[25,2,25,5],[1,6,2,26],[16,2,16,5],[17,2,17,5],[18,2,18,5],[19,2,19,5],[20,2,20,5],[7,32,7,33],[4,28,4,30],[7,50,7,54],[11,2,11,5],[12,2,12,5],[13,2,13,5],[14,2,14,5],[15,2,15,5],[4,0,4,3],[6,0,6,3],[9,2,9,5],[10,2,10,5],[6,4,6,5],[4,6,4,26],[6,6,6,26],[5,6,5,26],[7,6,7,26],[4,32,4,38]]}
[]
[null,null,null,null,null,null,"โปรแกรมตรวจข้อสอบวินิจฉัย  ชั้นประถมศึกษาปีที่ 6"]
[]
[]
["จำนวนนักเรียนที่เข้าสอบ",null,null,null,4,"คน","รายวิชาคณิตศาสตร์",null,null,null,null,null,null,null,null,null,null,null,null,null,null,null,null,null,null,null,null,null,"สรุปการตอบข้อสอบรายข้อ",null,null,null,"การตอบข้อสอบแต่ละข้อของผู้สอบ"]
[]
["ค่าเฉลี่ยคะแนนผู้เข้าสอบเท่ากับ",null,null,null,{"$f":"IF(E5=\"\",\"\",SUM(AA11:AA360)/E5)","v":0}]
[null,null,null,null,null,null,{"$f":"\"โรงเรียน\"&ข้อมูลนักเรียน!D4","v":"โรงเรียนพิมพ์ชื่อโรงเรียน"},null,null,null,null,null,null,null,null,null,null,null,null,null,null,null,null,null,null,null,null,null,"ตอนที่ 1",null,null,null,"ตอนที่ 1",null,null,null,null,null,null,null,null,null,null,null,null,null,null,null,null,null,"ข้อสอบตอนที่ 2"]
[]
["ห้อง","ลำดับที่","ชื่อ-สกุล",null,null,null,"ข้อ 1","ข้อ 2","ข้อ 3","ข้อ 4","ข้อ 5","ข้อ 6","ข้อ 7","ข้อ 8","ข้อ 9","ข้อ 10","ข้อ 11","ข้อ 12","ข้อ 13","ข้อ 14","ข้อ 15","ข้อ 16","ข้อ 17","ข้อ 18","ข้อ 19","ข้อ 20","คะแนน",null,"ข้อที่","จำนวนผู้ตอบถูก(คน)","คิดเป็น %",null,"ข้อ 1","ข้อ 2","ข้อ 3","ข้อ 4","ข้อ 5","ข้อ 6","ข้อ 7","ข้อ 8","ข้อ 9","ข้อ 10","ข้อ 11","ข้อ 12","ข้อ 13","ข้อ 14","ข้อ 15","ข้อ 16","จำนวนข้อที่ตอบถูก",null,"ข้อ 17","ข้อ 18","ข้อ 19","ข้อ 20","จำนวนข้อที่ตอบถูก"]
[{"$f":"ข้อมูลนักเรียน!B13","v":"1"},1,{"$f":"ข้อมูลนักเรียน!D13","v":"นายก"},null,null,null,null,null,null,null,null,null,null,null,null,null,null,null,null,null,null,null,null,null,null,null,{"$f":"SUM(IF(G11=NumM1,ScoreM1),IF(H11=NumM2,ScoreM2),IF(I11=NumM3,ScoreM3),IF(J11=NumM4,ScoreM4),IF(K11=NumM5,ScoreM5),IF(L11=NumM6,ScoreM6),IF(M11=NumM7,ScoreM7),IF(N11=NumM8,ScoreM8),IF(O11=NumM9,ScoreM9),IF(P11=NumM10,ScoreM10),IF(Q11=NumM11,ScoreM11),IF(R11=NumM12,ScoreM12),IF(S11=NumM13,ScoreM13),IF(T11=NumM14,ScoreM14),IF(U11=NumM15,ScoreM15),IF(V11=NumM16,ScoreM16),IF(W11=NumM17,ScoreM17),IF(X11=NumM18,ScoreM18),IF(Y11=NumM19,ScoreM19),IF(Z11=NumM20,ScoreM20))","v":0},null,"ข้อ 1",{"$f":"COUNTIF(AG11:AG360,\"✓\")","v":0},{"$f":"IF($E$5=\"\",\"\",(AD11/$E$5)*100)","v":0},null,{"$f":"IF(G11=\"\",\"\",IF(G11=NumM1,\"✓\",\"X\"))","v":""},{"$f":"IF(H11=\"\",\"\",IF(H11=NumM2,\"✓\",\"X\"))","v":""},{"$f":"IF(I11=\"\",\"\",IF(I11=NumM3,\"✓\",\"X\"))","v":""},{"$f":"IF(J11=\"\",\"\",IF(J11=NumM4,\"✓\",\"X\"))","v":""},{"$f":"IF(K11=\"\",\"\",IF(K11=NumM5,\"✓\",\"X\"))","v":""},{"$f":"IF(L11=\"\",\"\",IF(L11=NumM6,\"✓\",\"X\"))","v":""},{"$f":"IF(M11=\"\",\"\",IF(M11=NumM7,\"✓\",\"X\"))","v":""},{"$f":"IF(N11=\"\",\"\",IF(N11=NumM8,\"✓\",\"X\"))","v":""},{"$f":"IF(O11=\"\",\"\",IF(O11=NumM9,\"✓\",\"X\"))","v":""},{"$f":"IF(P11=\"\",\"\",IF(P11=NumM10,\"✓\",\"X\"))","v":""},{"$f":"IF(Q11=\"\",\"\",IF(Q11=NumM11,\"✓\",\"X\"))","v":""},{"$f":"IF(R11=\"\",\"\",IF(R11=NumM12,\"✓\",\"X\"))","v":""},{"$f":"IF(S11=\"\",\"\",IF(S11=NumM13,\"✓\",\"X\"))","v":""},{"$f":"IF(T11=\"\",\"\",IF(T11=NumM14,\"✓\",\"X\"))","v":""},{"$f":"IF(U11=\"\",\"\",IF(U11=NumM15,\"✓\",\"X\"))","v":""},{"$f":"IF(V11=\"\",\"\",IF(V11=NumM16,\"✓\",\"X\"))","v":""},{"$f":"COUNTIF(AG11:AV11,\"✓\")","v":0},null,{"$f":"IF(W11=\"\",\"\",IF(W11=NumM17,\"✓\",\"X\"))","v":""},{"$f":"IF(X11=\"\",\"\",IF(X11=NumM18,\"✓\",\"X\"))","v":""},{"$f":"IF(Y11=\"\",\"\",IF(Y11=NumM19,\"✓\",\"X\"))","v":""},{"$f":"IF(Z11=\"\",\"\",IF(Z11=NumM20,\"✓\",\"X\"))","v":""},{"$f":"COUNTIF(AY11:BB11,\"✓\")","v":0}]
[{"$f":"ข้อมูลนักเรียน!B14","v":"1"},2,{"$f":"ข้อมูลนักเรียน!D14","v":"นายข"},null,null,null,null,null,null,null,null,null,null,null,null,null,null,null,null,null,null,null,null,null,null,null,{"$f":"SUM(IF(G12=NumM1,ScoreM1),IF(H12=NumM2,ScoreM2),IF(I12=NumM3,ScoreM3),IF(J12=NumM4,ScoreM4),IF(K12=NumM5,ScoreM5),IF(L12=NumM6,ScoreM6),IF(M12=NumM7,ScoreM7),IF(N12=NumM8,ScoreM8),IF(O12=NumM9,ScoreM9),IF(P12=NumM10,ScoreM10),IF(Q12=NumM11,ScoreM11),IF(R12=NumM12,ScoreM12),IF(S12=NumM13,ScoreM13),IF(T12=NumM14,ScoreM14),IF(U12=NumM15,ScoreM15),IF(V12=NumM16,ScoreM16),IF(W12=NumM17,ScoreM17),IF(X12=NumM18,ScoreM18),IF(Y12=NumM19,ScoreM19),IF(Z12=NumM20,ScoreM20))","v":0},null,"ข้อ 2",{"$f":"COUNTIF(AH11:AH360,\"✓\")","v":0},{"$f":"IF($E$5=\"\",\"\",(AD12/$E$5)*100)","v":0},null,"","","","","","","","","","","","","","","","",{"$f":"COUNTIF(AG12:AV12,\"✓\")","v":0},null,"","","","",{"$f":"COUNTIF(AY12:BB12,\"✓\")","v":0}]
[{"$f":"ข้อมูลนักเรียน!B15","v":"1"},3,{"$f":"ข้อมูลนักเรียน!D15","v":"นายพ"},null,null,null,null,null,null,null,null,null,null,null,null,null,null,null,null,null,null,null,null,null,null,null,0,null,"ข้อ 3",{"$f":"COUNTIF(AI11:AI360,\"✓\")","v":0},0,null,"","","","","","","","","","","","","","","","",0,null,"","","","",0]
[{"$f":"ข้อมูลนักเรียน!B16","v":"1"},4,{"$f":"ข้อมูลนักเรียน!D16","v":"นายขเร"},null,null,null,null,null,null,null,null,null,null,null,null,null,null,null,null,null,null,null,null,null,null,null,0,null,"ข้อ 4",{"$f":"COUNTIF(AJ11:AJ360,\"✓\")","v":0},0,null,"","","","","","","","","","","","","","","","",0,null,"","","","",0]
[{"$f":"ข้อมูลนักเรียน!B17","v":0},5,{"$f":"ข้อมูลนักเรียน!D17","v":"นางสาว"},null,null,null,null,null,null,null,null,null,null,null,null,null,null,null,null,null,null,null,null,null,null,null,0,null,"ข้อ 5",{"$f":"COUNTIF(AK11:AK360,\"✓\")","v":0},0,null,"","","","","","","","","","","","","","","","",0,null,"","","","",0]
[{"$f":"ข้อมูลนักเรียน!B18","v":0},6,{"$f":"ข้อมูลนักเรียน!D18","v":0},null,null,null,null,null,null,null,null,null,null,null,null,null,null,null,null,null,null,null,null,null,null,null,0,null,"ข้อ 6",{"$f":"COUNTIF(AL11:AL360,\"✓\")","v":0},0,null,"","","","","","","","","","","","","","","","",0,null,"","","","",0]
[{"$f":"ข้อมูลนักเรียน!B19","v":0},7,{"$f":"ข้อมูลนักเรียน!D19","v":0},null,null,null,null,null,null,null,null,null,null,null,null,null,null,null,null,null,null,null,null,null,null,null,0,null,"ข้อ 7",{"$f":"COUNTIF(AM11:AM360,\"✓\")","v":0},0,null,"","","","","","","","","","","","","","","","",0,null,"","","","",0]
[{"$f":"ข้อมูลนักเรียน!B20","v":0},8,{"$f":"ข้อมูลนักเรียน!D20","v":0},null,null,null,null,null,null,null,null,null,null,null,null,null,null,null,null,null,null,null,null,null,null,null,0,null,"ข้อ 8",{"$f":"COUNTIF(AN11:AN360,\"✓\")","v":0},0,null,"","","","","","","","","","","","","","","","",0,null,"","","","",0]
[{"$f":"ข้อมูลนักเรียน!B21","v":0},9,{"$f":"ข้อมูลนักเรียน!D21","v":0},null,null,null,null,null,null,null,null,null,null,null,null,null,null,null,null,null,null,null,null,null,null,null,0,null,"ข้อ 9",{"$f":"COUNTIF(AO11:AO360,\"✓\")","v":0},0,null,"","","","","","","","","","","","","","","","",0,null,"","","","",0]
[{"$f":"ข้อมูลนักเรียน!B22","v":0},10,{"$f":"ข้อมูลนักเรียน!D22","v":0},null,null,null,null,null,null,null,null,null,null,null,null,null,null,null,null,null,null,null,null,null,null,null,0,null,"ข้อ 10",{"$f":"COUNTIF(AP11:AP360,\"✓\")","v":0},0,null,"","","","","","","","","","","","","","","","",0,null,"","","","",0]
[{"$f":"ข้อมูลนักเรียน!B23","v":0},11,{"$f":"ข้อมูลนักเรียน!D23","v":0},null,null,null,null,null,null,null,null,null,null,null,null,null,null,null,null,null,null,null,null,null,null,null,0,null,"ข้อ 11",{"$f":"COUNTIF(AQ11:AQ360,\"✓\")","v":0},0,null,"","","","","","","","","","","","","","","","",0,null,"","","","",0]
[{"$f":"ข้อมูลนักเรียน!B24","v":0},12,{"$f":"ข้อมูลนักเรียน!D24","v":0},null,null,null,null,null,null,null,null,null,null,null,null,null,null,null,null,null,null,null,null,null,null,null,0,null,"ข้อ 12",{"$f":"COUNTIF(AR11:AR360,\"✓\")","v":0},0,null,"","","","","","","","","","","","","","","","",0,null,"","","","",0]
[{"$f":"ข้อมูลนักเรียน!B25","v":0},13,{"$f":"ข้อมูลนักเรียน!D25","v":0},null,null,null,null,null,null,null,null,null,null,null,null,null,null,null,null,null,null,null,null,null,null,null,0,null,"ข้อ 13",{"$f":"COUNTIF(AS11:AS360,\"✓\")","v":0},0,null,"","","","","","","","","","","","","","","","",0,null,"","","","",0]
[{"$f":"ข้อมูลนักเรียน!B26","v":0},14,{"$f":"ข้อมูลนักเรียน!D26","v":0},null,null,null,null,null,null,null,null,null,null,null,null,null,null,null,null,null,null,null,null,null,null,null,0,null,"ข้อ 14",{"$f":"COUNTIF(AT11:AT360,\"✓\")","v":0},0,null,"","","","","","","","","","","","","","","","",0,null,"","","","",0]
[{"$f":"ข้อมูลนักเรียน!B27","v":0},15,{"$f":"ข้อมูลนักเรียน!D27","v":0},null,null,null,null,null,null,null,null,null,null,null,null,null,null,null,null,null,null,null,null,null,null,null,0,null,"ข้อ 15",{"$f":"COUNTIF(AU11:AU360,\"✓\")","v":0},0,null,"","","","","","","","","","","","","","","","",0,null,"","","","",0]
[{"$f":"ข้อมูลนักเรียน!B28","v":0},16,{"$f":"ข้อมูลนักเรียน!D28","v":0},null,null,null,null,null,null,null,null,null,null,null,null,null,null,null,null,null,null,null,null,null,null,null,0,null,"ข้อ 16",{"$f":"COUNTIF(AV11:AV360,\"✓\")","v":0},0,null,"","","","","","","","","","","","","","","","",0,null,"","","","",0]
[{"$f":"ข้อมูลนักเรียน!B29","v":0},17,{"$f":"ข้อมูลนักเรียน!D29","v":0},null,null,null,null,null,null,null,null,null,null,null,null,null,null,null,null,null,null,null,null,null,null,null,0,null,null,null,null,null,"","","","","","","","","","","","","","","","",0,null,"","","","",0]
[{"$f":"ข้อมูลนักเรียน!B30","v":0},18,{"$f":"ข้อมูลนักเรียน!D30","v":0},null,null,null,null,null,null,null,null,null,null,null,null,null,null,null,null,null,null,null,null,null,null,null,0,null,null,null,null,null,"","","","","","","","","","","","","","","","",0,null,"","","","",0]
[{"$f":"ข้อมูลนักเรียน!B31","v":0},19,{"$f":"ข้อมูลนักเรียน!D31","v":0},null,null,null,null,null,null,null,null,null,null,null,null,null,null,null,null,null,null,null,null,null,null,null,0,null,"ตอนที่ 2",null,null,null,"","","","","","","","","","","","","","","","",0,null,"","","","",0]
[{"$f":"ข้อมูลนักเรียน!B32","v":0},20,{"$f":"ข้อมูลนักเรียน!D32","v":0},null,null,null,null,null,null,null,null,null,null,null,null,null,null,null,null,null,null,null,null,null,null,null,0,null,"ข้อที่","จำนวนผู้ตอบถูก(คน)","คิดเป็น %",null,"","","","","","","","","","","","","","","","",0,null,"","","","",0]
[{"$f":"ข้อมูลนักเรียน!B33","v":0},21,{"$f":"ข้อมูลนักเรียน!D33","v":0},null,null,null,null,null,null,null,null,null,null,null,null,null,null,null,null,null,null,null,null,null,null,null,0,null,"ข้อ 17",{"$f":"COUNTIF(AY11:AY360,\"✓\")","v":0},{"$f":"IF($E$5=\"\",\"\",(AD31/$E$5)*100)","v":0},null,"","","","","","","","","","","","","","","","",0,null,"","","","",0]
[{"$f":"ข้อมูลนักเรียน!B34","v":0},22,{"$f":"ข้อมูลนักเรียน!D34","v":0},null,null,null,null,null,null,null,null,null,null,null,null,null,null,null,null,null,null,null,null,null,null,null,0,null,"ข้อ 18",{"$f":"COUNTIF(AZ11:AZ360,\"✓\")","v":0},{"$f":"IF($E$5=\"\",\"\",(AD32/$E$5)*100)","v":0},null,"","","","","","","","","","","","","","","","",0,null,"","","","",0]
[{"$f":"ข้อมูลนักเรียน!B35","v":0},23,{"$f":"ข้อมูลนักเรียน!D35","v":0},null,null,null,null,null,null,null,null,null,null,null,null,null,null,null,null,null,null,null,null,null,null,null,0,null,"ข้อ 19",{"$f":"COUNTIF(BA11:BA360,\"✓\")","v":0},0,null,"","","","","","","","","","","","","","","","",0,null,"","","","",0]
[{"$f":"ข้อมูลนักเรียน!B36","v":0},24,{"$f":"ข้อมูลนักเรียน!D36","v":0},null,null,null,null,null,null,null,null,null,null,null,null,null,null,null,null,null,null,null,null,null,null,null,0,null,"ข้อ 20",{"$f":"COUNTIF(BB11:BB360,\"✓\")","v":0},0,null,"","","","","","","","","","","","","","","","",0,null,"","","","",0]
[{"$f":"ข้อมูลนักเรียน!B37","v":0},25,{"$f":"ข้อมูลนักเรียน!D37","v":0},null,null,null,null,null,null,null,null,null,null,null,null,null,null,null,null,null,null,null,null,null,null,null,0,null,null,null,null,null,"","","","","","","","","","","","","","","","",0,null,"","","","",0]
[{"$f":"ข้อมูลนักเรียน!B38","v":0},26,{"$f":"ข้อมูลนักเรียน!D38","v":0},null,null,null,null,null,null,null,null,null,null,null,null,null,null,null,null,null,null,null,null,null,null,null,0,null,null,null,null,null,"","","","","","","","","","","","","","","","",0,null,"","","","",0]
[{"$f":"ข้อมูลนักเรียน!B39","v":0},27,{"$f":"ข้อมูลนักเรียน!D39","v":0},null,null,null,null,null,null,null,null,null,null,null,null,null,null,null,null,null,null,null,null,null,null,null,0,null,null,null,null,null,"","","","","","","","","","","","","","","","",0,null,"","","","",0]
[{"$f":"ข้อมูลนักเรียน!B40","v":0},28,{"$f":"ข้อมูลนักเรียน!D40","v":0},null,null,null,null,null,null,null,null,null,null,null,null,null,null,null,null,null,null,null,null,null,null,null,0,null,null,null,null,null,"","","","","","","","","","","","","","","","",0,null,"","","","",0]
[{"$f":"ข้อมูลนักเรียน!B41","v":0},29,{"$f":"ข้อมูลนักเรียน!D41","v":0},null,null,null,null,null,null,null,null,null,null,null,null,null,null,null,null,null,null,null,null,null,null,null,0,null,null,null,null,null,"","","","","","","","","","","","","","","","",0,null,"","","","",0]
[{"$f":"ข้อมูลนักเรียน!B42","v":0},30,{"$f":"ข้อมูลนักเรียน!D42","v":0},null,null,null,null,null,null,null,null,null,null,null,null,null,null,null,null,null,null,null,null,null,null,null,0,null,null,null,null,null,"","","","","","","","","","","","","","","","",0,null,"","","","",0]
[{"$f":"ข้อมูลนักเรียน!B43","v":0},31,{"$f":"ข้อมูลนักเรียน!D43","v":0},null,null,null,null,null,null,null,null,null,null,null,null,null,null,null,null,null,null,null,null,null,null,null,0,null,null,null,null,null,"","","","","","","","","","","","","","","","",0,null,"","","","",0]
[{"$f":"ข้อมูลนักเรียน!B44","v":0},32,{"$f":"ข้อมูลนักเรียน!D44","v":0},null,null,null,null,null,null,null,null,null,null,null,null,null,null,null,null,null,null,null,null,null,null,null,0,null,null,null,null,null,"","","","","","","","","","","","","","","","",0,null,"","","","",0]
[{"$f":"ข้อมูลนักเรียน!B45","v":0},33,{"$f":"ข้อมูลนักเรียน!D45","v":0},null,null,null,null,null,null,null,null,null,null,null,null,null,null,null,null,null,null,null,null,null,null,null,0,null,null,null,null,null,"","","","","","","","","","","","","","","","",0,null,"","","","",0]
[{"$f":"ข้อมูลนักเรียน!B46","v":0},34,{"$f":"ข้อมูลนักเรียน!D46","v":0},null,null,null,null,null,null,null,null,null,null,null,null,null,null,null,null,null,null,null,null,null,null,null,0,null,null,null,null,null,"","","","","","","","","","","","","","","","",0,null,"","","","",0]
[{"$f":"ข้อมูลนักเรียน!B47","v":0},35,{"$f":"ข้อมูลนักเรียน!D47","v":0},null,null,null,null,null,null,null,null,null,null,null,null,null,null,null,null,null,null,null,null,null,null,null,0,null,null,null,null,null,"","","","","","","","","","","","","","","","",0,null,"","","","",0]
[{"$f":"ข้อมูลนักเรียน!B48","v":0},36,{"$f":"ข้อมูลนักเรียน!D48","v":0},null,null,null,null,null,null,null,null,null,null,null,null,null,null,null,null,null,null,null,null,null,null,null,0,null,null,null,null,null,"","","","","","","","","","","","","","","","",0,null,"","","","",0]
[{"$f":"ข้อมูลนักเรียน!B49","v":0},37,{"$f":"ข้อมูลนักเรียน!D49","v":0},null,null,null,null,null,null,null,null,null,null,null,null,null,null,null,null,null,null,null,null,null,null,null,0,null,null,null,null,null,"","","","","","","","","","","","","","","","",0,null,"","","","",0]
[{"$f":"ข้อมูลนักเรียน!B50","v":0},38,{"$f":"ข้อมูลนักเรียน!D50","v":0},null,null,null,null,null,null,null,null,null,null,null,null,null,null,null,null,null,null,null,null,null,null,null,0,null,null,null,null,null,"","","","","","","","","","","","","","","","",0,null,"","","","",0]
[{"$f":"ข้อมูลนักเรียน!B51","v":0},39,{"$f":"ข้อมูลนักเรียน!D51","v":0},null,null,null,null,null,null,null,null,null,null,null,null,null,null,null,null,null,null,null,null,null,null,null,0,null,null,null,null,null,"","","","","","","","","","","","","","","","",0,null,"","","","",0]
[{"$f":"ข้อมูลนักเรียน!B52","v":0},40,{"$f":"ข้อมูลนักเรียน!D52","v":0},null,null,null,null,null,null,null,null,null,null,null,null,null,null,null,null,null,null,null,null,null,null,null,0,null,null,null,null,null,"","","","","","","","","","","","","","","","",0,null,"","","","",0]
[{"$f":"ข้อมูลนักเรียน!B53","v":0},41,{"$f":"ข้อมูลนักเรียน!D53","v":0},null,null,null,null,null,null,null,null,null,null,null,null,null,null,null,null,null,null,null,null,null,null,null,0,null,null,null,null,null,"","","","","","","","","","","","","","","","",0,null,"","","","",0]
[{"$f":"ข้อมูลนักเรียน!B54","v":0},42,{"$f":"ข้อมูลนักเรียน!D54","v":0},null,null,null,null,null,null,null,null,null,null,null,null,null,null,null,null,null,null,null,null,null,null,null,0,null,null,null,null,null,"","","","","","","","","","","","","","","","",0,null,"","","","",0]
[{"$f":"ข้อมูลนักเรียน!B55","v":0},43,{"$f":"ข้อมูลนักเรียน!D55","v":0},null,null,null,null,null,null,null,null,null,null,null,null,null,null,null,null,null,null,null,null,null,null,null,0,null,null,null,null,null,"","","","","","","","","","","","","","","","",0,null,"","","","",0]
[{"$f":"ข้อมูลนักเรียน!B56","v":0},44,{"$f":"ข้อมูลนักเรียน!D56","v":0},null,null,null,null,null,null,null,null,null,null,null,null,null,null,null,null,null,null,null,null,null,null,null,0,null,null,null,null,null,"","","","","","","","","","","","","","","","",0,null,"","","","",0]
[{"$f":"ข้อมูลนักเรียน!B57","v":0},45,{"$f":"ข้อมูลนักเรียน!D57","v":0},null,null,null,null,null,null,null,null,null,null,null,null,null,null,null,null,null,null,null,null,null,null,null,0,null,null,null,null,null,"","","","","","","","","","","","","","","","",0,null,"","","","",0]
[{"$f":"ข้อมูลนักเรียน!B58","v":0},46,{"$f":"ข้อมูลนักเรียน!D58","v":0},null,null,null,null,null,null,null,null,null,null,null,null,null,null,null,null,null,null,null,null,null,null,null,0,null,null,null,null,null,"","","","","","","","","","","","","","","","",0,null,"","","","",0]
[{"$f":"ข้อมูลนักเรียน!B59","v":0},47,{"$f":"ข้อมูลนักเรียน!D59","v":0},null,null,null,null,null,null,null,null,null,null,null,null,null,null,null,null,null,null,null,null,null,null,null,0,null,null,null,null,null,"","","","","","","","","","","","","","","","",0,null,"","","","",0]
[{"$f":"ข้อมูลนักเรียน!B60","v":0},48,{"$f":"ข้อมูลนักเรียน!D60","v":0},null,null,null,null,null,null,null,null,null,null,null,null,null,null,null,null,null,null,null,null,null,null,null,0,null,null,null,null,null,"","","","","","","","","","","","","","","","",0,null,"","","","",0]
[{"$f":"ข้อมูลนักเรียน!B61","v":0},49,{"$f":"ข้อมูลนักเรียน!D61","v":0},null,null,null,null,null,null,null,null,null,null,null,null,null,null,null,null,null,null,null,null,null,null,null,0,null,null,null,null,null,"","","","","","","","","","","","","","","","",0,null,"","","","",0]
[{"$f":"ข้อมูลนักเรียน!B62","v":0},50,{"$f":"ข้อมูลนักเรียน!D62","v":0},null,null,null,null,null,null,null,null,null,null,null,null,null,null,null,null,null,null,null,null,null,null,null,0,null,null,null,null,null,"","","","","","","","","","","","","","","","",0,null,"","","","",0]
[{"$f":"ข้อมูลนักเรียน!B63","v":0},51,{"$f":"ข้อมูลนักเรียน!D63","v":0},null,null,null,null,null,null,null,null,null,null,null,null,null,null,null,null,null,null,null,null,null,null,null,0,null,null,null,null,null,"","","","","","","","","","","","","","","","",0,null,"","","","",0]
[{"$f":"ข้อมูลนักเรียน!B64","v":0},52,{"$f":"ข้อมูลนักเรียน!D64","v":0},null,null,null,null,null,null,null,null,null,null,null,null,null,null,null,null,null,null,null,null,null,null,null,0,null,null,null,null,null,"","","","","","","","","","","","","","","","",0,null,"","","","",0]
[{"$f":"ข้อมูลนักเรียน!B65","v":0},53,{"$f":"ข้อมูลนักเรียน!D65","v":0},null,null,null,null,null,null,null,null,null,null,null,null,null,null,null,null,null,null,null,null,null,null,null,0,null,null,null,null,null,"","","","","","","","","","","","","","","","",0,null,"","","","",0]
[{"$f":"ข้อมูลนักเรียน!B66","v":0},54,{"$f":"ข้อมูลนักเรียน!D66","v":0},null,null,null,null,null,null,null,null,null,null,null,null,null,null,null,null,null,null,null,null,null,null,null,0,null,null,null,null,null,"","","","","","","","","","","","","","","","",0,null,"","","","",0]
[{"$f":"ข้อมูลนักเรียน!B67","v":0},55,{"$f":"ข้อมูลนักเรียน!D67","v":0},null,null,null,null,null,null,null,null,null,null,null,null,null,null,null,null,null,null,null,null,null,null,null,0,null,null,null,null,null,"","","","","","","","","","","","","","","","",0,null,"","","","",0]
[{"$f":"ข้อมูลนักเรียน!B68","v":0},56,{"$f":"ข้อมูลนักเรียน!D68","v":0},null,null,null,null,null,null,null,null,null,null,null,null,null,null,null,null,null,null,null,null,null,null,null,0,null,null,null,null,null,"","","","","","","","","","","","","","","","",0,null,"","","","",0]
[{"$f":"ข้อมูลนักเรียน!B69","v":0},57,{"$f":"ข้อมูลนักเรียน!D69","v":0},null,null,null,null,null,null,null,null,null,null,null,null,null,null,null,null,null,null,null,null,null,null,null,0,null,null,null,null,null,"","","","","","","","","","","","","","","","",0,null,"","","","",0]
[{"$f":"ข้อมูลนักเรียน!B70","v":0},58,{"$f":"ข้อมูลนักเรียน!D70","v":0},null,null,null,null,null,null,null,null,null,null,null,null,null,null,null,null,null,null,null,null,null,null,null,0,null,null,null,null,null,"","","","","","","","","","","","","","","","",0,null,"","","","",0]
[{"$f":"ข้อมูลนักเรียน!B71","v":0},59,{"$f":"ข้อมูลนักเรียน!D71","v":0},null,null,null,null,null,null,null,null,null,null,null,null,null,null,null,null,null,null,null,null,null,null,null,0,null,null,null,null,null,"","","","","","","","","","","","","","","","",0,null,"","","","",0]
[{"$f":"ข้อมูลนักเรียน!B72","v":0},60,{"$f":"ข้อมูลนักเรียน!D72","v":0},null,null,null,null,null,null,null,null,null,null,null,null,null,null,null,null,null,null,null,null,null,null,null,0,null,null,null,null,null,"","","","","","","","","","","","","","","","",0,null,"","","","",0]
[{"$f":"ข้อมูลนักเรียน!B73","v":0},61,{"$f":"ข้อมูลนักเรียน!D73","v":0},null,null,null,null,null,null,null,null,null,null,null,null,null,null,null,null,null,null,null,null,null,null,null,0,null,null,null,null,null,"","","","","","","","","","","","","","","","",0,null,"","","","",0]
[{"$f":"ข้อมูลนักเรียน!B74","v":0},62,{"$f":"ข้อมูลนักเรียน!D74","v":0},null,null,null,null,null,null,null,null,null,null,null,null,null,null,null,null,null,null,null,null,null,null,null,0,null,null,null,null,null,"","","","","","","","","","","","","","","","",0,null,"","","","",0]
[{"$f":"ข้อมูลนักเรียน!B75","v":0},63,{"$f":"ข้อมูลนักเรียน!D75","v":0},null,null,null,null,null,null,null,null,null,null,null,null,null,null,null,null,null,null,null,null,null,null,null,0,null,null,null,null,null,"","","","","","","","","","","","","","","","",0,null,"","","","",0]
[{"$f":"ข้อมูลนักเรียน!B76","v":0},64,{"$f":"ข้อมูลนักเรียน!D76","v":0},null,null,null,null,null,null,null,null,null,null,null,null,null,null,null,null,null,null,null,null,null,null,null,0,null,null,null,null,null,"","","","","","","","","","","","","","","","",0,null,"","","","",0]
[{"$f":"ข้อมูลนักเรียน!B77","v":0},65,{"$f":"ข้อมูลนักเรียน!D77","v":0},null,null,null,null,null,null,null,null,null,null,null,null,null,null,null,null,null,null,null,null,null,null,null,{"$f":"SUM(IF(G75=NumM1,ScoreM1),IF(H75=NumM2,ScoreM2),IF(I75=NumM3,ScoreM3),IF(J75=NumM4,ScoreM4),IF(K75=NumM5,ScoreM5),IF(L75=NumM6,ScoreM6),IF(M75=NumM7,ScoreM7),IF(N75=NumM8,ScoreM8),IF(O75=NumM9,ScoreM9),IF(P75=NumM10,ScoreM10),IF(Q75=NumM11,ScoreM11),IF(R75=NumM12,ScoreM12),IF(S75=NumM13,ScoreM13),IF(T75=NumM14,ScoreM14),IF(U75=NumM15,ScoreM15),IF(V75=NumM16,ScoreM16),IF(W75=NumM17,ScoreM17),IF(X75=NumM18,ScoreM18),IF(Y75=NumM19,ScoreM19),IF(Z75=NumM20,ScoreM20))","v":0},null,null,null,null,null,{"$f":"IF(G75=\"\",\"\",IF(G75=NumM1,\"✓\",\"X\"))","v":""},{"$f":"IF(H75=\"\",\"\",IF(H75=NumM2,\"✓\",\"X\"))","v":""},{"$f":"IF(I75=\"\",\"\",IF(I75=NumM3,\"✓\",\"X\"))","v":""},{"$f":"IF(J75=\"\",\"\",IF(J75=NumM4,\"✓\",\"X\"))","v":""},{"$f":"IF(K75=\"\",\"\",IF(K75=NumM5,\"✓\",\"X\"))","v":""},{"$f":"IF(L75=\"\",\"\",IF(L75=NumM6,\"✓\",\"X\"))","v":""},{"$f":"IF(M75=\"\",\"\",IF(M75=NumM7,\"✓\",\"X\"))","v":""},{"$f":"IF(N75=\"\",\"\",IF(N75=NumM8,\"✓\",\"X\"))","v":""},{"$f":"IF(O75=\"\",\"\",IF(O75=NumM9,\"✓\",\"X\"))","v":""},{"$f":"IF(P75=\"\",\"\",IF(P75=NumM10,\"✓\",\"X\"))","v":""},{"$f":"IF(Q75=\"\",\"\",IF(Q75=NumM11,\"✓\",\"X\"))","v":""},{"$f":"IF(R75=\"\",\"\",IF(R75=NumM12,\"✓\",\"X\"))","v":""},{"$f":"IF(S75=\"\",\"\",IF(S75=NumM13,\"✓\",\"X\"))","v":""},{"$f":"IF(T75=\"\",\"\",IF(T75=NumM14,\"✓\",\"X\"))","v":""},{"$f":"IF(U75=\"\",\"\",IF(U75=NumM15,\"✓\",\"X\"))","v":""},{"$f":"IF(V75=\"\",\"\",IF(V75=NumM16,\"✓\",\"X\"))","v":""},0,null,{"$f":"IF(W75=\"\",\"\",IF(W75=NumM17,\"✓\",\"X\"))","v":""},{"$f":"IF(X75=\"\",\"\",IF(X75=NumM18,\"✓\",\"X\"))","v":""},{"$f":"IF(Y75=\"\",\"\",IF(Y75=NumM19,\"✓\",\"X\"))","v":""},{"$f":"IF(Z75=\"\",\"\",IF(Z75=NumM20,\"✓\",\"X\"))","v":""},0]
[{"$f":"ข้อมูลนักเรียน!B78","v":0},66,{"$f":"ข้อมูลนักเรียน!D78","v":0},null,null,null,null,null,null,null,null,null,null,null,null,null,null,null,null,null,null,null,null,null,null,null,0,null,null,null,null,null,"","","","","","","","","","","","","","","","",{"$f":"COUNTIF(AG76:AV76,\"✓\")","v":0},null,"","","","",{"$f":"COUNTIF(AY76:BB76,\"✓\")","v":0}]
[{"$f":"ข้อมูลนักเรียน!B79","v":0},67,{"$f":"ข้อมูลนักเรียน!D79","v":0},null,null,null,null,null,null,null,null,null,null,null,null,null,null,null,null,null,null,null,null,null,null,null,0,null,null,null,null,null,"","","","","","","","","","","","","","","","",0,null,"","","","",0]
[{"$f":"ข้อมูลนักเรียน!B80","v":0},68,{"$f":"ข้อมูลนักเรียน!D80","v":0},null,null,null,null,null,null,null,null,null,null,null,null,null,null,null,null,null,null,null,null,null,null,null,0,null,null,null,null,null,"","","","","","","","","","","","","","","","",0,null,"","","","",0]
[{"$f":"ข้อมูลนักเรียน!B81","v":0},69,{"$f":"ข้อมูลนักเรียน!D81","v":0},null,null,null,null,null,null,null,null,null,null,null,null,null,null,null,null,null,null,null,null,null,null,null,0,null,null,null,null,null,"","","","","","","","","","","","","","","","",0,null,"","","","",0]
[{"$f":"ข้อมูลนักเรียน!B82","v":0},70,{"$f":"ข้อมูลนักเรียน!D82","v":0},null,null,null,null,null,null,null,null,null,null,null,null,null,null,null,null,null,null,null,null,null,null,null,0,null,null,null,null,null,"","","","","","","","","","","","","","","","",0,null,"","","","",0]
[{"$f":"ข้อมูลนักเรียน!B83","v":0},71,{"$f":"ข้อมูลนักเรียน!D83","v":0},null,null,null,null,null,null,null,null,null,null,null,null,null,null,null,null,null,null,null,null,null,null,null,0,null,null,null,null,null,"","","","","","","","","","","","","","","","",0,null,"","","","",0]
[{"$f":"ข้อมูลนักเรียน!B84","v":0},72,{"$f":"ข้อมูลนักเรียน!D84","v":0},null,null,null,null,null,null,null,null,null,null,null,null,null,null,null,null,null,null,null,null,null,null,null,0,null,null,null,null,null,"","","","","","","","","","","","","","","","",0,null,"","","","",0]
[{"$f":"ข้อมูลนักเรียน!B85","v":0},73,{"$f":"ข้อมูลนักเรียน!D85","v":0},null,null,null,null,null,null,null,null,null,null,null,null,null,null,null,null,null,null,null,null,null,null,null,0,null,null,null,null,null,"","","","","","","","","","","","","","","","",0,null,"","","","",0]
[{"$f":"ข้อมูลนักเรียน!B86","v":0},74,{"$f":"ข้อมูลนักเรียน!D86","v":0},null,null,null,null,null,null,null,null,null,null,null,null,null,null,null,null,null,null,null,null,null,null,null,0,null,null,null,null,null,"","","","","","","","","","","","","","","","",0,null,"","","","",0]
[{"$f":"ข้อมูลนักเรียน!B87","v":0},75,{"$f":"ข้อมูลนักเรียน!D87","v":0},null,null,null,null,null,null,null,null,null,null,null,null,null,null,null,null,null,null,null,null,null,null,null,0,null,null,null,null,null,"","","","","","","","","","","","","","","","",0,null,"","","","",0]
[{"$f":"ข้อมูลนักเรียน!B88","v":0},76,{"$f":"ข้อมูลนักเรียน!D88","v":0},null,null,null,null,null,null,null,null,null,null,null,null,null,null,null,null,null,null,null,null,null,null,null,0,null,null,null,null,null,"","","","","","","","","","","","","","","","",0,null,"","","","",0]
[{"$f":"ข้อมูลนักเรียน!B89","v":0},77,{"$f":"ข้อมูลนักเรียน!D89","v":0},null,null,null,null,null,null,null,null,null,null,null,null,null,null,null,null,null,null,null,null,null,null,null,0,null,null,null,null,null,"","","","","","","","","","","","","","","","",0,null,"","","","",0]
[{"$f":"ข้อมูลนักเรียน!B90","v":0},78,{"$f":"ข้อมูลนักเรียน!D90","v":0},null,null,null,null,null,null,null,null,null,null,null,null,null,null,null,null,null,null,null,null,null,null,null,0,null,null,null,null,null,"","","","","","","","","","","","","","","","",0,null,"","","","",0]
[{"$f":"ข้อมูลนักเรียน!B91","v":0},79,{"$f":"ข้อมูลนักเรียน!D91","v":0},null,null,null,null,null,null,null,null,null,null,null,null,null,null,null,null,null,null,null,null,null,null,null,0,null,null,null,null,null,"","","","","","","","","","","","","","","","",0,null,"","","","",0]
[{"$f":"ข้อมูลนักเรียน!B92","v":0},80,{"$f":"ข้อมูลนักเรียน!D92","v":0},null,null,null,null,null,null,null,null,null,null,null,null,null,null,null,null,null,null,null,null,null,null,null,0,null,null,null,null,null,"","","","","","","","","","","","","","","","",0,null,"","","","",0]
[{"$f":"ข้อมูลนักเรียน!B93","v":0},81,{"$f":"ข้อมูลนักเรียน!D93","v":0},null,null,null,null,null,null,null,null,null,null,null,null,null,null,null,null,null,null,null,null,null,null,null,0,null,null,null,null,null,"","","","","","","","","","","","","","","","",0,null,"","","","",0]
[{"$f":"ข้อมูลนักเรียน!B94","v":0},82,{"$f":"ข้อมูลนักเรียน!D94","v":0},null,null,null,null,null,null,null,null,null,null,null,null,null,null,null,null,null,null,null,null,null,null,null,0,null,null,null,null,null,"","","","","","","","","","","","","","","","",0,null,"","","","",0]
[{"$f":"ข้อมูลนักเรียน!B95","v":0},83,{"$f":"ข้อมูลนักเรียน!D95","v":0},null,null,null,null,null,null,null,null,null,null,null,null,null,null,null,null,null,null,null,null,null,null,null,0,null,null,null,null,null,"","","","","","","","","","","","","","","","",0,null,"","","","",0]
[{"$f":"ข้อมูลนักเรียน!B96","v":0},84,{"$f":"ข้อมูลนักเรียน!D96","v":0},null,null,null,null,null,null,null,null,null,null,null,null,null,null,null,null,null,null,null,null,null,null,null,0,null,null,null,null,null,"","","","","","","","","","","","","","","","",0,null,"","","","",0]
[{"$f":"ข้อมูลนักเรียน!B97","v":0},85,{"$f":"ข้อมูลนักเรียน!D97","v":0},null,null,null,null,null,null,null,null,null,null,null,null,null,null,null,null,null,null,null,null,null,null,null,0,null,null,null,null,null,"","","","","","","","","","","","","","","","",0,null,"","","","",0]
[{"$f":"ข้อมูลนักเรียน!B98","v":0},86,{"$f":"ข้อมูลนักเรียน!D98","v":0},null,null,null,null,null,null,null,null,null,null,null,null,null,null,null,null,null,null,null,null,null,null,null,0,null,null,null,null,null,"","","","","","","","","","","","","","","","",0,null,"","","","",0]
[{"$f":"ข้อมูลนักเรียน!B99","v":0},87,{"$f":"ข้อมูลนักเรียน!D99","v":0},null,null,null,null,null,null,null,null,null,null,null,null,null,null,null,null,null,null,null,null,null,null,null,0,null,null,null,null,null,"","","","","","","","","","","","","","","","",0,null,"","","","",0]
[{"$f":"ข้อมูลนักเรียน!B100","v":0},88,{"$f":"ข้อมูลนักเรียน!D100","v":0},null,null,null,null,null,null,null,null,null,null,null,null,null,null,null,null,null,null,null,null,null,null,null,0,null,null,null,null,null,"","","","","","","","","","","","","","","","",0,null,"","","","",0]
[{"$f":"ข้อมูลนักเรียน!B101","v":0},89,{"$f":"ข้อมูลนักเรียน!D101","v":0},null,null,null,null,null,null,null,null,null,null,null,null,null,null,null,null,null,null,null,null,null,null,null,0,null,null,null,null,null,"","","","","","","","","","","","","","","","",0,null,"","","","",0]
[{"$f":"ข้อมูลนักเรียน!B102","v":0},90,{"$f":"ข้อมูลนักเรียน!D102","v":0},null,null,null,null,null,null,null,null,null,null,null,null,null,null,null,null,null,null,null,null,null,null,null,0,null,null,null,null,null,"","","","","","","","","","","","","","","","",0,null,"","","","",0]
[{"$f":"ข้อมูลนักเรียน!B103","v":0},91,{"$f":"ข้อมูลนักเรียน!D103","v":0},null,null,null,null,null,null,null,null,null,null,null,null,null,null,null,null,null,null,null,null,null,null,null,0,null,null,null,null,null,"","","","","","","","","","","","","","","","",0,null,"","","","",0]
[{"$f":"ข้อมูลนักเรียน!B104","v":0},92,{"$f":"ข้อมูลนักเรียน!D104","v":0},null,null,null,null,null,null,null,null,null,null,null,null,null,null,null,null,null,null,null,null,null,null,null,0,null,null,null,null,null,"","","","","","","","","","","","","","","","",0,null,"","","","",0]
[{"$f":"ข้อมูลนักเรียน!B105","v":0},93,{"$f":"ข้อมูลนักเรียน!D105","v":0},null,null,null,null,null,null,null,null,null,null,null,null,null,null,null,null,null,null,null,null,null,null,null,0,null,null,null,null,null,"","","","","","","","","","","","","","","","",0,null,"","","","",0]
[{"$f":"ข้อมูลนักเรียน!B106","v":0},94,{"$f":"ข้อมูลนักเรียน!D106","v":0},null,null,null,null,null,null,null,null,null,null,null,null,null,null,null,null,null,null,null,null,null,null,null,0,null,null,null,null,null,"","","","","","","","","","","","","","","","",0,null,"","","","",0]
[{"$f":"ข้อมูลนักเรียน!B107","v":0},95,{"$f":"ข้อมูลนักเรียน!D107","v":0},null,null,null,null,null,null,null,null,null,null,null,null,null,null,null,null,null,null,null,null,null,null,null,0,null,null,null,null,null,"","","","","","","","","","","","","","","","",0,null,"","","","",0]
[{"$f":"ข้อมูลนักเรียน!B108","v":0},96,{"$f":"ข้อมูลนักเรียน!D108","v":0},null,null,null,null,null,null,null,null,null,null,null,null,null,null,null,null,null,null,null,null,null,null,null,0,null,null,null,null,null,"","","","","","","","","","","","","","","","",0,null,"","","","",0]
[{"$f":"ข้อมูลนักเรียน!B109","v":0},97,{"$f":"ข้อมูลนักเรียน!D109","v":0},null,null,null,null,null,null,null,null,null,null,null,null,null,null,null,null,null,null,null,null,null,null,null,0,null,null,null,null,null,"","","","","","","","","","","","","","","","",0,null,"","","","",0]
[{"$f":"ข้อมูลนักเรียน!B110","v":0},98,{"$f":"ข้อมูลนักเรียน!D110","v":0},null,null,null,null,null,null,null,null,null,null,null,null,null,null,null,null,null,null,null,null,null,null,null,0,null,null,null,null,null,"","","","","","","","","","","","","","","","",0,null,"","","","",0]
[{"$f":"ข้อมูลนักเรียน!B111","v":0},99,{"$f":"ข้อมูลนักเรียน!D111","v":0},null,null,null,null,null,null,null,null,null,null,null,null,null,null,null,null,null,null,null,null,null,null,null,0,null,null,null,null,null,"","","","","","","","","","","","","","","","",0,null,"","","","",0]
[{"$f":"ข้อมูลนักเรียน!B112","v":0},100,{"$f":"ข้อมูลนักเรียน!D112","v":0},null,null,null,null,null,null,null,null,null,null,null,null,null,null,null,null,null,null,null,null,null,null,null,0,null,null,null,null,null,"","","","","","","","","","","","","","","","",0,null,"","","","",0]
[{"$f":"ข้อมูลนักเรียน!B113","v":0},101,{"$f":"ข้อมูลนักเรียน!D113","v":0},null,null,null,null,null,null,null,null,null,null,null,null,null,null,null,null,null,null,null,null,null,null,null,0,null,null,null,null,null,"","","","","","","","","","","","","","","","",0,null,"","","","",0]
[{"$f":"ข้อมูลนักเรียน!B114","v":0},102,{"$f":"ข้อมูลนักเรียน!D114","v":0},null,null,null,null,null,null,null,null,null,null,null,null,null,null,null,null,null,null,null,null,null,null,null,0,null,null,null,null,null,"","","","","","","","","","","","","","","","",0,null,"","","","",0]
[{"$f":"ข้อมูลนักเรียน!B115","v":0},103,{"$f":"ข้อมูลนักเรียน!D115","v":0},null,null,null,null,null,null,null,null,null,null,null,null,null,null,null,null,null,null,null,null,null,null,null,0,null,null,null,null,null,"","","","","","","","","","","","","","","","",0,null,"","","","",0]
[{"$f":"ข้อมูลนักเรียน!B116","v":0},104,{"$f":"ข้อมูลนักเรียน!D116","v":0},null,null,null,null,null,null,null,null,null,null,null,null,null,null,null,null,null,null,null,null,null,null,null,0,null,null,null,null,null,"","","","","","","","","","","","","","","","",0,null,"","","","",0]
[{"$f":"ข้อมูลนักเรียน!B117","v":0},105,{"$f":"ข้อมูลนักเรียน!D117","v":0},null,null,null,null,null,null,null,null,null,null,null,null,null,null,null,null,null,null,null,null,null,null,null,0,null,null,null,null,null,"","","","","","","","","","","","","","","","",0,null,"","","","",0]
[{"$f":"ข้อมูลนักเรียน!B118","v":0},106,{"$f":"ข้อมูลนักเรียน!D118","v":0},null,null,null,null,null,null,null,null,null,null,null,null,null,null,null,null,null,null,null,null,null,null,null,0,null,null,null,null,null,"","","","","","","","","","","","","","","","",0,null,"","","","",0]
[{"$f":"ข้อมูลนักเรียน!B119","v":0},107,{"$f":"ข้อมูลนักเรียน!D119","v":0},null,null,null,null,null,null,null,null,null,null,null,null,null,null,null,null,null,null,null,null,null,null,null,0,null,null,null,null,null,"","","","","","","","","","","","","","","","",0,null,"","","","",0]
[{"$f":"ข้อมูลนักเรียน!B120","v":0},108,{"$f":"ข้อมูลนักเรียน!D120","v":0},null,null,null,null,null,null,null,null,null,null,null,null,null,null,null,null,null,null,null,null,null,null,null,0,null,null,null,null,null,"","","","","","","","","","","","","","","","",0,null,"","","","",0]
[{"$f":"ข้อมูลนักเรียน!B121","v":0},109,{"$f":"ข้อมูลนักเรียน!D121","v":0},null,null,null,null,null,null,null,null,null,null,null,null,null,null,null,null,null,null,null,null,null,null,null,0,null,null,null,null,null,"","","","","","","","","","","","","","","","",0,null,"","","","",0]
[{"$f":"ข้อมูลนักเรียน!B122","v":0},110,{"$f":"ข้อมูลนักเรียน!D122","v":0},null,null,null,null,null,null,null,null,null,null,null,null,null,null,null,null,null,null,null,null,null,null,null,0,null,null,null,null,null,"","","","","","","","","","","","","","","","",0,null,"","","","",0]
[{"$f":"ข้อมูลนักเรียน!B123","v":0},111,{"$f":"ข้อมูลนักเรียน!D123","v":0},null,null,null,null,null,null,null,null,null,null,null,null,null,null,null,null,null,null,null,null,null,null,null,0,null,null,null,null,null,"","","","","","","","","","","","","","","","",0,null,"","","","",0]
[{"$f":"ข้อมูลนักเรียน!B124","v":0},112,{"$f":"ข้อมูลนักเรียน!D124","v":0},null,null,null,null,null,null,null,null,null,null,null,null,null,null,null,null,null,null,null,null,null,null,null,0,null,null,null,null,null,"","","","","","","","","","","","","","","","",0,null,"","","","",0]
[{"$f":"ข้อมูลนักเรียน!B125","v":0},113,{"$f":"ข้อมูลนักเรียน!D125","v":0},null,null,null,null,null,null,null,null,null,null,null,null,null,null,null,null,null,null,null,null,null,null,null,0,null,null,null,null,null,"","","","","","","","","","","","","","","","",0,null,"","","","",0]
[{"$f":"ข้อมูลนักเรียน!B126","v":0},114,{"$f":"ข้อมูลนักเรียน!D126","v":0},null,null,null,null,null,null,null,null,null,null,null,null,null,null,null,null,null,null,null,null,null,null,null,0,null,null,null,null,null,"","","","","","","","","","","","","","","","",0,null,"","","","",0]
[{"$f":"ข้อมูลนักเรียน!B127","v":0},115,{"$f":"ข้อมูลนักเรียน!D127","v":0},null,null,null,null,null,null,null,null,null,null,null,null,null,null,null,null,null,null,null,null,null,null,null,0,null,null,null,null,null,"","","","","","","","","","","","","","","","",0,null,"","","","",0]
[{"$f":"ข้อมูลนักเรียน!B128","v":0},116,{"$f":"ข้อมูลนักเรียน!D128","v":0},null,null,null,null,null,null,null,null,null,null,null,null,null,null,null,null,null,null,null,null,null,null,null,0,null,null,null,null,null,"","","","","","","","","","","","","","","","",0,null,"","","","",0]
[{"$f":"ข้อมูลนักเรียน!B129","v":0},117,{"$f":"ข้อมูลนักเรียน!D129","v":0},null,null,null,null,null,null,null,null,null,null,null,null,null,null,null,null,null,null,null,null,null,null,null,0,null,null,null,null,null,"","","","","","","","","","","","","","","","",0,null,"","","","",0]
[{"$f":"ข้อมูลนักเรียน!B130","v":0},118,{"$f":"ข้อมูลนักเรียน!D130","v":0},null,null,null,null,null,null,null,null,null,null,null,null,null,null,null,null,null,null,null,null,null,null,null,0,null,null,null,null,null,"","","","","","","","","","","","","","","","",0,null,"","","","",0]
[{"$f":"ข้อมูลนักเรียน!B131","v":0},119,{"$f":"ข้อมูลนักเรียน!D131","v":0},null,null,null,null,null,null,null,null,null,null,null,null,null,null,null,null,null,null,null,null,null,null,null,0,null,null,null,null,null,"","","","","","","","","","","","","","","","",0,null,"","","","",0]
[{"$f":"ข้อมูลนักเรียน!B132","v":0},120,{"$f":"ข้อมูลนักเรียน!D132","v":0},null,null,null,null,null,null,null,null,null,null,null,null,null,null,null,null,null,null,null,null,null,null,null,0,null,null,null,null,null,"","","","","","","","","","","","","","","","",0,null,"","","","",0]
[{"$f":"ข้อมูลนักเรียน!B133","v":0},121,{"$f":"ข้อมูลนักเรียน!D133","v":0},null,null,null,null,null,null,null,null,null,null,null,null,null,null,null,null,null,null,null,null,null,null,null,0,null,null,null,null,null,"","","","","","","","","","","","","","","","",0,null,"","","","",0]
[{"$f":"ข้อมูลนักเรียน!B134","v":0},122,{"$f":"ข้อมูลนักเรียน!D134","v":0},null,null,null,null,null,null,null,null,null,null,null,null,null,null,null,null,null,null,null,null,null,null,null,0,null,null,null,null,null,"","","","","","","","","","","","","","","","",0,null,"","","","",0]
[{"$f":"ข้อมูลนักเรียน!B135","v":0},123,{"$f":"ข้อมูลนักเรียน!D135","v":0},null,null,null,null,null,null,null,null,null,null,null,null,null,null,null,null,null,null,null,null,null,null,null,0,null,null,null,null,null,"","","","","","","","","","","","","","","","",0,null,"","","","",0]
[{"$f":"ข้อมูลนักเรียน!B136","v":0},124,{"$f":"ข้อมูลนักเรียน!D136","v":0},null,null,null,null,null,null,null,null,null,null,null,null,null,null,null,null,null,null,null,null,null,null,null,0,null,null,null,null,null,"","","","","","","","","","","","","","","","",0,null,"","","","",0]
[{"$f":"ข้อมูลนักเรียน!B137","v":0},125,{"$f":"ข้อมูลนักเรียน!D137","v":0},null,null,null,null,null,null,null,null,null,null,null,null,null,null,null,null,null,null,null,null,null,null,null,0,null,null,null,null,null,"","","","","","","","","","","","","","","","",0,null,"","","","",0]
[{"$f":"ข้อมูลนักเรียน!B138","v":0},126,{"$f":"ข้อมูลนักเรียน!D138","v":0},null,null,null,null,null,null,null,null,null,null,null,null,null,null,null,null,null,null,null,null,null,null,null,0,null,null,null,null,null,"","","","","","","","","","","","","","","","",0,null,"","","","",0]
[{"$f":"ข้อมูลนักเรียน!B139","v":0},127,{"$f":"ข้อมูลนักเรียน!D139","v":0},null,null,null,null,null,null,null,null,null,null,null,null,null,null,null,null,null,null,null,null,null,null,null,0,null,null,null,null,null,"","","","","","","","","","","","","","","","",0,null,"","","","",0]
[{"$f":"ข้อมูลนักเรียน!B140","v":0},128,{"$f":"ข้อมูลนักเรียน!D140","v":0},null,null,null,null,null,null,null,null,null,null,null,null,null,null,null,null,null,null,null,null,null,null,null,0,null,null,null,null,null,"","","","","","","","","","","","","","","","",0,null,"","","","",0]
[{"$f":"ข้อมูลนักเรียน!B141","v":0},129,{"$f":"ข้อมูลนักเรียน!D141","v":0},null,null,null,null,null,null,null,null,null,null,null,null,null,null,null,null,null,null,null,null,null,null,null,{"$f":"SUM(IF(G139=NumM1,ScoreM1),IF(H139=NumM2,ScoreM2),IF(I139=NumM3,ScoreM3),IF(J139=NumM4,ScoreM4),IF(K139=NumM5,ScoreM5),IF(L139=NumM6,ScoreM6),IF(M139=NumM7,ScoreM7),IF(N139=NumM8,ScoreM8),IF(O139=NumM9,ScoreM9),IF(P139=NumM10,ScoreM10),IF(Q139=NumM11,ScoreM11),IF(R139=NumM12,ScoreM12),IF(S139=NumM13,ScoreM13),IF(T139=NumM14,ScoreM14),IF(U139=NumM15,ScoreM15),IF(V139=NumM16,ScoreM16),IF(W139=NumM17,ScoreM17),IF(X139=NumM18,ScoreM18),IF(Y139=NumM19,ScoreM19),IF(Z139=NumM20,ScoreM20))","v":0},null,null,null,null,null,{"$f":"IF(G139=\"\",\"\",IF(G139=NumM1,\"✓\",\"X\"))","v":""},{"$f":"IF(H139=\"\",\"\",IF(H139=NumM2,\"✓\",\"X\"))","v":""},{"$f":"IF(I139=\"\",\"\",IF(I139=NumM3,\"✓\",\"X\"))","v":""},{"$f":"IF(J139=\"\",\"\",IF(J139=NumM4,\"✓\",\"X\"))","v":""},{"$f":"IF(K139=\"\",\"\",IF(K139=NumM5,\"✓\",\"X\"))","v":""},{"$f":"IF(L139=\"\",\"\",IF(L139=NumM6,\"✓\",\"X\"))","v":""},{"$f":"IF(M139=\"\",\"\",IF(M139=NumM7,\"✓\",\"X\"))","v":""},{"$f":"IF(N139=\"\",\"\",IF(N139=NumM8,\"✓\",\"X\"))","v":""},{"$f":"IF(O139=\"\",\"\",IF(O139=NumM9,\"✓\",\"X\"))","v":""},{"$f":"IF(P139=\"\",\"\",IF(P139=NumM10,\"✓\",\"X\"))","v":""},{"$f":"IF(Q139=\"\",\"\",IF(Q139=NumM11,\"✓\",\"X\"))","v":""},{"$f":"IF(R139=\"\",\"\",IF(R139=NumM12,\"✓\",\"X\"))","v":""},{"$f":"IF(S139=\"\",\"\",IF(S139=NumM13,\"✓\",\"X\"))","v":""},{"$f":"IF(T139=\"\",\"\",IF(T139=NumM14,\"✓\",\"X\"))","v":""},{"$f":"IF(U139=\"\",\"\",IF(U139=NumM15,\"✓\",\"X\"))","v":""},{"$f":"IF(V139=\"\",\"\",IF(V139=NumM16,\"✓\",\"X\"))","v":""},0,null,{"$f":"IF(W139=\"\",\"\",IF(W139=NumM17,\"✓\",\"X\"))","v":""},{"$f":"IF(X139=\"\",\"\",IF(X139=NumM18,\"✓\",\"X\"))","v":""},{"$f":"IF(Y139=\"\",\"\",IF(Y139=NumM19,\"✓\",\"X\"))","v":""},{"$f":"IF(Z139=\"\",\"\",IF(Z139=NumM20,\"✓\",\"X\"))","v":""},0]
[{"$f":"ข้อมูลนักเรียน!B142","v":0},130,{"$f":"ข้อมูลนักเรียน!D142","v":0},null,null,null,null,null,null,null,null,null,null,null,null,null,null,null,null,null,null,null,null,null,null,null,0,null,null,null,null,null,"","","","","","","","","","","","","","","","",{"$f":"COUNTIF(AG140:AV140,\"✓\")","v":0},null,"","","","",{"$f":"COUNTIF(AY140:BB140,\"✓\")","v":0}]
[{"$f":"ข้อมูลนักเรียน!B143","v":0},131,{"$f":"ข้อมูลนักเรียน!D143","v":0},null,null,null,null,null,null,null,null,null,null,null,null,null,null,null,null,null,null,null,null,null,null,null,0,null,null,null,null,null,"","","","","","","","","","","","","","","","",0,null,"","","","",0]
[{"$f":"ข้อมูลนักเรียน!B144","v":0},132,{"$f":"ข้อมูลนักเรียน!D144","v":0},null,null,null,null,null,null,null,null,null,null,null,null,null,null,null,null,null,null,null,null,null,null,null,0,null,null,null,null,null,"","","","","","","","","","","","","","","","",0,null,"","","","",0]
[{"$f":"ข้อมูลนักเรียน!B145","v":0},133,{"$f":"ข้อมูลนักเรียน!D145","v":0},null,null,null,null,null,null,null,null,null,null,null,null,null,null,null,null,null,null,null,null,null,null,null,0,null,null,null,null,null,"","","","","","","","","","","","","","","","",0,null,"","","","",0]
[{"$f":"ข้อมูลนักเรียน!B146","v":0},134,{"$f":"ข้อมูลนักเรียน!D146","v":0},null,null,null,null,null,null,null,null,null,null,null,null,null,null,null,null,null,null,null,null,null,null,null,0,null,null,null,null,null,"","","","","","","","","","","","","","","","",0,null,"","","","",0]
[{"$f":"ข้อมูลนักเรียน!B147","v":0},135,{"$f":"ข้อมูลนักเรียน!D147","v":0},null,null,null,null,null,null,null,null,null,null,null,null,null,null,null,null,null,null,null,null,null,null,null,0,null,null,null,null,null,"","","","","","","","","","","","","","","","",0,null,"","","","",0]
[{"$f":"ข้อมูลนักเรียน!B148","v":0},136,{"$f":"ข้อมูลนักเรียน!D148","v":0},null,null,null,null,null,null,null,null,null,null,null,null,null,null,null,null,null,null,null,null,null,null,null,0,null,null,null,null,null,"","","","","","","","","","","","","","","","",0,null,"","","","",0]
[{"$f":"ข้อมูลนักเรียน!B149","v":0},137,{"$f":"ข้อมูลนักเรียน!D149","v":0},null,null,null,null,null,null,null,null,null,null,null,null,null,null,null,null,null,null,null,null,null,null,null,0,null,null,null,null,null,"","","","","","","","","","","","","","","","",0,null,"","","","",0]
[{"$f":"ข้อมูลนักเรียน!B150","v":0},138,{"$f":"ข้อมูลนักเรียน!D150","v":0},null,null,null,null,null,null,null,null,null,null,null,null,null,null,null,null,null,null,null,null,null,null,null,0,null,null,null,null,null,"","","","","","","","","","","","","","","","",0,null,"","","","",0]
[{"$f":"ข้อมูลนักเรียน!B151","v":0},139,{"$f":"ข้อมูลนักเรียน!D151","v":0},null,null,null,null,null,null,null,null,null,null,null,null,null,null,null,null,null,null,null,null,null,null,null,0,null,null,null,null,null,"","","","","","","","","","","","","","","","",0,null,"","","","",0]
[{"$f":"ข้อมูลนักเรียน!B152","v":0},140,{"$f":"ข้อมูลนักเรียน!D152","v":0},null,null,null,null,null,null,null,null,null,null,null,null,null,null,null,null,null,null,null,null,null,null,null,0,null,null,null,null,null,"","","","","","","","","","","","","","","","",0,null,"","","","",0]
[{"$f":"ข้อมูลนักเรียน!B153","v":0},141,{"$f":"ข้อมูลนักเรียน!D153","v":0},null,null,null,null,null,null,null,null,null,null,null,null,null,null,null,null,null,null,null,null,null,null,null,0,null,null,null,null,null,"","","","","","","","","","","","","","","","",0,null,"","","","",0]
[{"$f":"ข้อมูลนักเรียน!B154","v":0},142,{"$f":"ข้อมูลนักเรียน!D154","v":0},null,null,null,null,null,null,null,null,null,null,null,null,null,null,null,null,null,null,null,null,null,null,null,0,null,null,null,null,null,"","","","","","","","","","","","","","","","",0,null,"","","","",0]
[{"$f":"ข้อมูลนักเรียน!B155","v":0},143,{"$f":"ข้อมูลนักเรียน!D155","v":0},null,null,null,null,null,null,null,null,null,null,null,null,null,null,null,null,null,null,null,null,null,null,null,0,null,null,null,null,null,"","","","","","","","","","","","","","","","",0,null,"","","","",0]
[{"$f":"ข้อมูลนักเรียน!B156","v":0},144,{"$f":"ข้อมูลนักเรียน!D156","v":0},null,null,null,null,null,null,null,null,null,null,null,null,null,null,null,null,null,null,null,null,null,null,null,0,null,null,null,null,null,"","","","","","","","","","","","","","","","",0,null,"","","","",0]
[{"$f":"ข้อมูลนักเรียน!B157","v":0},145,{"$f":"ข้อมูลนักเรียน!D157","v":0},null,null,null,null,null,null,null,null,null,null,null,null,null,null,null,null,null,null,null,null,null,null,null,0,null,null,null,null,null,"","","","","","","","","","","","","","","","",0,null,"","","","",0]
[{"$f":"ข้อมูลนักเรียน!B158","v":0},146,{"$f":"ข้อมูลนักเรียน!D158","v":0},null,null,null,null,null,null,null,null,null,null,null,null,null,null,null,null,null,null,null,null,null,null,null,0,null,null,null,null,null,"","","","","","","","","","","","","","","","",0,null,"","","","",0]
[{"$f":"ข้อมูลนักเรียน!B159","v":0},147,{"$f":"ข้อมูลนักเรียน!D159","v":0},null,null,null,null,null,null,null,null,null,null,null,null,null,null,null,null,null,null,null,null,null,null,null,0,null,null,null,null,null,"","","","","","","","","","","","","","","","",0,null,"","","","",0]
[{"$f":"ข้อมูลนักเรียน!B160","v":0},148,{"$f":"ข้อมูลนักเรียน!D160","v":0},null,null,null,null,null,null,null,null,null,null,null,null,null,null,null,null,null,null,null,null,null,null,null,0,null,null,null,null,null,"","","","","","","","","","","","","","","","",0,null,"","","","",0]
[{"$f":"ข้อมูลนักเรียน!B161","v":0},149,{"$f":"ข้อมูลนักเรียน!D161","v":0},null,null,null,null,null,null,null,null,null,null,null,null,null,null,null,null,null,null,null,null,null,null,null,0,null,null,null,null,null,"","","","","","","","","","","","","","","","",0,null,"","","","",0]
[{"$f":"ข้อมูลนักเรียน!B162","v":0},150,{"$f":"ข้อมูลนักเรียน!D162","v":0},null,null,null,null,null,null,null,null,null,null,null,null,null,null,null,null,null,null,null,null,null,null,null,0,null,null,null,null,null,"","","","","","","","","","","","","","","","",0,null,"","","","",0]
[{"$f":"ข้อมูลนักเรียน!B163","v":0},151,{"$f":"ข้อมูลนักเรียน!D163","v":0},null,null,null,null,null,null,null,null,null,null,null,null,null,null,null,null,null,null,null,null,null,null,null,0,null,null,null,null,null,"","","","","","","","","","","","","","","","",0,null,"","","","",0]
[{"$f":"ข้อมูลนักเรียน!B164","v":0},152,{"$f":"ข้อมูลนักเรียน!D164","v":0},null,null,null,null,null,null,null,null,null,null,null,null,null,null,null,null,null,null,null,null,null,null,null,0,null,null,null,null,null,"","","","","","","","","","","","","","","","",0,null,"","","","",0]
[{"$f":"ข้อมูลนักเรียน!B165","v":0},153,{"$f":"ข้อมูลนักเรียน!D165","v":0},null,null,null,null,null,null,null,null,null,null,null,null,null,null,null,null,null,null,null,null,null,null,null,0,null,null,null,null,null,"","","","","","","","","","","","","","","","",0,null,"","","","",0]
[{"$f":"ข้อมูลนักเรียน!B166","v":0},154,{"$f":"ข้อมูลนักเรียน!D166","v":0},null,null,null,null,null,null,null,null,null,null,null,null,null,null,null,null,null,null,null,null,null,null,null,0,null,null,null,null,null,"","","","","","","","","","","","","","","","",0,null,"","","","",0]
[{"$f":"ข้อมูลนักเรียน!B167","v":0},155,{"$f":"ข้อมูลนักเรียน!D167","v":0},null,null,null,null,null,null,null,null,null,null,null,null,null,null,null,null,null,null,null,null,null,null,null,0,null,null,null,null,null,"","","","","","","","","","","","","","","","",0,null,"","","","",0]
[{"$f":"ข้อมูลนักเรียน!B168","v":0},156,{"$f":"ข้อมูลนักเรียน!D168","v":0},null,null,null,null,null,null,null,null,null,null,null,null,null,null,null,null,null,null,null,null,null,null,null,0,null,null,null,null,null,"","","","","","","","","","","","","","","","",0,null,"","","","",0]
[{"$f":"ข้อมูลนักเรียน!B169","v":0},157,{"$f":"ข้อมูลนักเรียน!D169","v":0},null,null,null,null,null,null,null,null,null,null,null,null,null,null,null,null,null,null,null,null,null,null,null,0,null,null,null,null,null,"","","","","","","","","","","","","","","","",0,null,"","","","",0]
[{"$f":"ข้อมูลนักเรียน!B170","v":0},158,{"$f":"ข้อมูลนักเรียน!D170","v":0},null,null,null,null,null,null,null,null,null,null,null,null,null,null,null,null,null,null,null,null,null,null,null,0,null,null,null,null,null,"","","","","","","","","","","","","","","","",0,null,"","","","",0]
[{"$f":"ข้อมูลนักเรียน!B171","v":0},159,{"$f":"ข้อมูลนักเรียน!D171","v":0},null,null,null,null,null,null,null,null,null,null,null,null,null,null,null,null,null,null,null,null,null,null,null,0,null,null,null,null,null,"","","","","","","","","","","","","","","","",0,null,"","","","",0]
[{"$f":"ข้อมูลนักเรียน!B172","v":0},160,{"$f":"ข้อมูลนักเรียน!D172","v":0},null,null,null,null,null,null,null,null,null,null,null,null,null,null,null,null,null,null,null,null,null,null,null,0,null,null,null,null,null,"","","","","","","","","","","","","","","","",0,null,"","","","",0]
[{"$f":"ข้อมูลนักเรียน!B173","v":0},161,{"$f":"ข้อมูลนักเรียน!D173","v":0},null,null,null,null,null,null,null,null,null,null,null,null,null,null,null,null,null,null,null,null,null,null,null,0,null,null,null,null,null,"","","","","","","","","","","","","","","","",0,null,"","","","",0]
[{"$f":"ข้อมูลนักเรียน!B174","v":0},162,{"$f":"ข้อมูลนักเรียน!D174","v":0},null,null,null,null,null,null,null,null,null,null,null,null,null,null,null,null,null,null,null,null,null,null,null,0,null,null,null,null,null,"","","","","","","","","","","","","","","","",0,null,"","","","",0]
[{"$f":"ข้อมูลนักเรียน!B175","v":0},163,{"$f":"ข้อมูลนักเรียน!D175","v":0},null,null,null,null,null,null,null,null,null,null,null,null,null,null,null,null,null,null,null,null,null,null,null,0,null,null,null,null,null,"","","","","","","","","","","","","","","","",0,null,"","","","",0]
[{"$f":"ข้อมูลนักเรียน!B176","v":0},164,{"$f":"ข้อมูลนักเรียน!D176","v":0},null,null,null,null,null,null,null,null,null,null,null,null,null,null,null,null,null,null,null,null,null,null,null,0,null,null,null,null,null,"","","","","","","","","","","","","","","","",0,null,"","","","",0]
[{"$f":"ข้อมูลนักเรียน!B177","v":0},165,{"$f":"ข้อมูลนักเรียน!D177","v":0},null,null,null,null,null,null,null,null,null,null,null,null,null,null,null,null,null,null,null,null,null,null,null,0,null,null,null,null,null,"","","","","","","","","","","","","","","","",0,null,"","","","",0]
[{"$f":"ข้อมูลนักเรียน!B178","v":0},166,{"$f":"ข้อมูลนักเรียน!D178","v":0},null,null,null,null,null,null,null,null,null,null,null,null,null,null,null,null,null,null,null,null,null,null,null,0,null,null,null,null,null,"","","","","","","","","","","","","","","","",0,null,"","","","",0]
[{"$f":"ข้อมูลนักเรียน!B179","v":0},167,{"$f":"ข้อมูลนักเรียน!D179","v":0},null,null,null,null,null,null,null,null,null,null,null,null,null,null,null,null,null,null,null,null,null,null,null,0,null,null,null,null,null,"","","","","","","","","","","","","","","","",0,null,"","","","",0]
[{"$f":"ข้อมูลนักเรียน!B180","v":0},168,{"$f":"ข้อมูลนักเรียน!D180","v":0},null,null,null,null,null,null,null,null,null,null,null,null,null,null,null,null,null,null,null,null,null,null,null,0,null,null,null,null,null,"","","","","","","","","","","","","","","","",0,null,"","","","",0]
[{"$f":"ข้อมูลนักเรียน!B181","v":0},169,{"$f":"ข้อมูลนักเรียน!D181","v":0},null,null,null,null,null,null,null,null,null,null,null,null,null,null,null,null,null,null,null,null,null,null,null,0,null,null,null,null,null,"","","","","","","","","","","","","","","","",0,null,"","","","",0]
[{"$f":"ข้อมูลนักเรียน!B182","v":0},170,{"$f":"ข้อมูลนักเรียน!D182","v":0},null,null,null,null,null,null,null,null,null,null,null,null,null,null,null,null,null,null,null,null,null,null,null,0,null,null,null,null,null,"","","","","","","","","","","","","","","","",0,null,"","","","",0]
[{"$f":"ข้อมูลนักเรียน!B183","v":0},171,{"$f":"ข้อมูลนักเรียน!D183","v":0},null,null,null,null,null,null,null,null,null,null,null,null,null,null,null,null,null,null,null,null,null,null,null,0,null,null,null,null,null,"","","","","","","","","","","","","","","","",0,null,"","","","",0]
[{"$f":"ข้อมูลนักเรียน!B184","v":0},172,{"$f":"ข้อมูลนักเรียน!D184","v":0},null,null,null,null,null,null,null,null,null,null,null,null,null,null,null,null,null,null,null,null,null,null,null,0,null,null,null,null,null,"","","","","","","","","","","","","","","","",0,null,"","","","",0]
[{"$f":"ข้อมูลนักเรียน!B185","v":0},173,{"$f":"ข้อมูลนักเรียน!D185","v":0},null,null,null,null,null,null,null,null,null,null,null,null,null,null,null,null,null,null,null,null,null,null,null,0,null,null,null,null,null,"","","","","","","","","","","","","","","","",0,null,"","","","",0]
[{"$f":"ข้อมูลนักเรียน!B186","v":0},174,{"$f":"ข้อมูลนักเรียน!D186","v":0},null,null,null,null,null,null,null,null,null,null,null,null,null,null,null,null,null,null,null,null,null,null,null,0,null,null,null,null,null,"","","","","","","","","","","","","","","","",0,null,"","","","",0]
[{"$f":"ข้อมูลนักเรียน!B187","v":0},175,{"$f":"ข้อมูลนักเรียน!D187","v":0},null,null,null,null,null,null,null,null,null,null,null,null,null,null,null,null,null,null,null,null,null,null,null,0,null,null,null,null,null,"","","","","","","","","","","","","","","","",0,null,"","","","",0]
[{"$f":"ข้อมูลนักเรียน!B188","v":0},176,{"$f":"ข้อมูลนักเรียน!D188","v":0},null,null,null,null,null,null,null,null,null,null,null,null,null,null,null,null,null,null,null,null,null,null,null,0,null,null,null,null,null,"","","","","","","","","","","","","","","","",0,null,"","","","",0]
[{"$f":"ข้อมูลนักเรียน!B189","v":0},177,{"$f":"ข้อมูลนักเรียน!D189","v":0},null,null,null,null,null,null,null,null,null,null,null,null,null,null,null,null,null,null,null,null,null,null,null,0,null,null,null,null,null,"","","","","","","","","","","","","","","","",0,null,"","","","",0]
[{"$f":"ข้อมูลนักเรียน!B190","v":0},178,{"$f":"ข้อมูลนักเรียน!D190","v":0},null,null,null,null,null,null,null,null,null,null,null,null,null,null,null,null,null,null,null,null,null,null,null,0,null,null,null,null,null,"","","","","","","","","","","","","","","","",0,null,"","","","",0]
[{"$f":"ข้อมูลนักเรียน!B191","v":0},179,{"$f":"ข้อมูลนักเรียน!D191","v":0},null,null,null,null,null,null,null,null,null,null,null,null,null,null,null,null,null,null,null,null,null,null,null,0,null,null,null,null,null,"","","","","","","","","","","","","","","","",0,null,"","","","",0]
[{"$f":"ข้อมูลนักเรียน!B192","v":0},180,{"$f":"ข้อมูลนักเรียน!D192","v":0},null,null,null,null,null,null,null,null,null,null,null,null,null,null,null,null,null,null,null,null,null,null,null,0,null,null,null,null,null,"","","","","","","","","","","","","","","","",0,null,"","","","",0]
[{"$f":"ข้อมูลนักเรียน!B193","v":0},181,{"$f":"ข้อมูลนักเรียน!D193","v":0},null,null,null,null,null,null,null,null,null,null,null,null,null,null,null,null,null,null,null,null,null,null,null,0,null,null,null,null,null,"","","","","","","","","","","","","","","","",0,null,"","","","",0]
[{"$f":"ข้อมูลนักเรียน!B194","v":0},182,{"$f":"ข้อมูลนักเรียน!D194","v":0},null,null,null,null,null,null,null,null,null,null,null,null,null,null,null,null,null,null,null,null,null,null,null,0,null,null,null,null,null,"","","","","","","","","","","","","","","","",0,null,"","","","",0]
[{"$f":"ข้อมูลนักเรียน!B195","v":0},183,{"$f":"ข้อมูลนักเรียน!D195","v":0},null,null,null,null,null,null,null,null,null,null,null,null,null,null,null,null,null,null,null,null,null,null,null,0,null,null,null,null,null,"","","","","","","","","","","","","","","","",0,null,"","","","",0]
[{"$f":"ข้อมูลนักเรียน!B196","v":0},184,{"$f":"ข้อมูลนักเรียน!D196","v":0},null,null,null,null,null,null,null,null,null,null,null,null,null,null,null,null,null,null,null,null,null,null,null,0,null,null,null,null,null,"","","","","","","","","","","","","","","","",0,null,"","","","",0]
[{"$f":"ข้อมูลนักเรียน!B197","v":0},185,{"$f":"ข้อมูลนักเรียน!D197","v":0},null,null,null,null,null,null,null,null,null,null,null,null,null,null,null,null,null,null,null,null,null,null,null,0,null,null,null,null,null,"","","","","","","","","","","","","","","","",0,null,"","","","",0]
[{"$f":"ข้อมูลนักเรียน!B198","v":0},186,{"$f":"ข้อมูลนักเรียน!D198","v":0},null,null,null,null,null,null,null,null,null,null,null,null,null,null,null,null,null,null,null,null,null,null,null,0,null,null,null,null,null,"","","","","","","","","","","","","","","","",0,null,"","","","",0]
[{"$f":"ข้อมูลนักเรียน!B199","v":0},187,{"$f":"ข้อมูลนักเรียน!D199","v":0},null,null,null,null,null,null,null,null,null,null,null,null,null,null,null,null,null,null,null,null,null,null,null,0,null,null,null,null,null,"","","","","","","","","","","","","","","","",0,null,"","","","",0]
[{"$f":"ข้อมูลนักเรียน!B200","v":0},188,{"$f":"ข้อมูลนักเรียน!D200","v":0},null,null,null,null,null,null,null,null,null,null,null,null,null,null,null,null,null,null,null,null,null,null,null,0,null,null,null,null,null,"","","","","","","","","","","","","","","","",0,null,"","","","",0]
[{"$f":"ข้อมูลนักเรียน!B201","v":0},189,{"$f":"ข้อมูลนักเรียน!D201","v":0},null,null,null,null,null,null,null,null,null,null,null,null,null,null,null,null,null,null,null,null,null,null,null,0,null,null,null,null,null,"","","","","","","","","","","","","","","","",0,null,"","","","",0]
[{"$f":"ข้อมูลนักเรียน!B202","v":0},190,{"$f":"ข้อมูลนักเรียน!D202","v":0},null,null,null,null,null,null,null,null,null,null,null,null,null,null,null,null,null,null,null,null,null,null,null,0,null,null,null,null,null,"","","","","","","","","","","","","","","","",0,null,"","","","",0]
[{"$f":"ข้อมูลนักเรียน!B203","v":0},191,{"$f":"ข้อมูลนักเรียน!D203","v":0},null,null,null,null,null,null,null,null,null,null,null,null,null,null,null,null,null,null,null,null,null,null,null,0,null,null,null,null,null,"","","","","","","","","","","","","","","","",0,null,"","","","",0]
[{"$f":"ข้อมูลนักเรียน!B204","v":0},192,{"$f":"ข้อมูลนักเรียน!D204","v":0},null,null,null,null,null,null,null,null,null,null,null,null,null,null,null,null,null,null,null,null,null,null,null,0,null,null,null,null,null,"","","","","","","","","","","","","","","","",0,null,"","","","",0]
[{"$f":"ข้อมูลนักเรียน!B205","v":0},193,{"$f":"ข้อมูลนักเรียน!D205","v":0},null,null,null,null,null,null,null,null,null,null,null,null,null,null,null,null,null,null,null,null,null,null,null,{"$f":"SUM(IF(G203=NumM1,ScoreM1),IF(H203=NumM2,ScoreM2),IF(I203=NumM3,ScoreM3),IF(J203=NumM4,ScoreM4),IF(K203=NumM5,ScoreM5),IF(L203=NumM6,ScoreM6),IF(M203=NumM7,ScoreM7),IF(N203=NumM8,ScoreM8),IF(O203=NumM9,ScoreM9),IF(P203=NumM10,ScoreM10),IF(Q203=NumM11,ScoreM11),IF(R203=NumM12,ScoreM12),IF(S203=NumM13,ScoreM13),IF(T203=NumM14,ScoreM14),IF(U203=NumM15,ScoreM15),IF(V203=NumM16,ScoreM16),IF(W203=NumM17,ScoreM17),IF(X203=NumM18,ScoreM18),IF(Y203=NumM19,ScoreM19),IF(Z203=NumM20,ScoreM20))","v":0},null,null,null,null,null,{"$f":"IF(G203=\"\",\"\",IF(G203=NumM1,\"✓\",\"X\"))","v":""},{"$f":"IF(H203=\"\",\"\",IF(H203=NumM2,\"✓\",\"X\"))","v":""},{"$f":"IF(I203=\"\",\"\",IF(I203=NumM3,\"✓\",\"X\"))","v":""},{"$f":"IF(J203=\"\",\"\",IF(J203=NumM4,\"✓\",\"X\"))","v":""},{"$f":"IF(K203=\"\",\"\",IF(K203=NumM5,\"✓\",\"X\"))","v":""},{"$f":"IF(L203=\"\",\"\",IF(L203=NumM6,\"✓\",\"X\"))","v":""},{"$f":"IF(M203=\"\",\"\",IF(M203=NumM7,\"✓\",\"X\"))","v":""},{"$f":"IF(N203=\"\",\"\",IF(N203=NumM8,\"✓\",\"X\"))","v":""},{"$f":"IF(O203=\"\",\"\",IF(O203=NumM9,\"✓\",\"X\"))","v":""},{"$f":"IF(P203=\"\",\"\",IF(P203=NumM10,\"✓\",\"X\"))","v":""},{"$f":"IF(Q203=\"\",\"\",IF(Q203=NumM11,\"✓\",\"X\"))","v":""},{"$f":"IF(R203=\"\",\"\",IF(R203=NumM12,\"✓\",\"X\"))","v":""},{"$f":"IF(S203=\"\",\"\",IF(S203=NumM13,\"✓\",\"X\"))","v":""},{"$f":"IF(T203=\"\",\"\",IF(T203=NumM14,\"✓\",\"X\"))","v":""},{"$f":"IF(U203=\"\",\"\",IF(U203=NumM15,\"✓\",\"X\"))","v":""},{"$f":"IF(V203=\"\",\"\",IF(V203=NumM16,\"✓\",\"X\"))","v":""},0,null,{"$f":"IF(W203=\"\",\"\",IF(W203=NumM17,\"✓\",\"X\"))","v":""},{"$f":"IF(X203=\"\",\"\",IF(X203=NumM18,\"✓\",\"X\"))","v":""},{"$f":"IF(Y203=\"\",\"\",IF(Y203=NumM19,\"✓\",\"X\"))","v":""},{"$f":"IF(Z203=\"\",\"\",IF(Z203=NumM20,\"✓\",\"X\"))","v":""},0]
[{"$f":"ข้อมูลนักเรียน!B206","v":0},194,{"$f":"ข้อมูลนักเรียน!D206","v":0},null,null,null,null,null,null,null,null,null,null,null,null,null,null,null,null,null,null,null,null,null,null,null,0,null,null,null,null,null,"","","","","","","","","","","","","","","","",{"$f":"COUNTIF(AG204:AV204,\"✓\")","v":0},null,"","","","",{"$f":"COUNTIF(AY204:BB204,\"✓\")","v":0}]
[{"$f":"ข้อมูลนักเรียน!B207","v":0},195,{"$f":"ข้อมูลนักเรียน!D207","v":0},null,null,null,null,null,null,null,null,null,null,null,null,null,null,null,null,null,null,null,null,null,null,null,0,null,null,null,null,null,"","","","","","","","","","","","","","","","",0,null,"","","","",0]
[{"$f":"ข้อมูลนักเรียน!B208","v":0},196,{"$f":"ข้อมูลนักเรียน!D208","v":0},null,null,null,null,null,null,null,null,null,null,null,null,null,null,null,null,null,null,null,null,null,null,null,0,null,null,null,null,null,"","","","","","","","","","","","","","","","",0,null,"","","","",0]
[{"$f":"ข้อมูลนักเรียน!B209","v":0},197,{"$f":"ข้อมูลนักเรียน!D209","v":0},null,null,null,null,null,null,null,null,null,null,null,null,null,null,null,null,null,null,null,null,null,null,null,0,null,null,null,null,null,"","","","","","","","","","","","","","","","",0,null,"","","","",0]
[{"$f":"ข้อมูลนักเรียน!B210","v":0},198,{"$f":"ข้อมูลนักเรียน!D210","v":0},null,null,null,null,null,null,null,null,null,null,null,null,null,null,null,null,null,null,null,null,null,null,null,0,null,null,null,null,null,"","","","","","","","","","","","","","","","",0,null,"","","","",0]
[{"$f":"ข้อมูลนักเรียน!B211","v":0},199,{"$f":"ข้อมูลนักเรียน!D211","v":0},null,null,null,null,null,null,null,null,null,null,null,null,null,null,null,null,null,null,null,null,null,null,null,0,null,null,null,null,null,"","","","","","","","","","","","","","","","",0,null,"","","","",0]
[{"$f":"ข้อมูลนักเรียน!B212","v":0},200,{"$f":"ข้อมูลนักเรียน!D212","v":0},null,null,null,null,null,null,null,null,null,null,null,null,null,null,null,null,null,null,null,null,null,null,null,0,null,null,null,null,null,"","","","","","","","","","","","","","","","",0,null,"","","","",0]
[{"$f":"ข้อมูลนักเรียน!B213","v":0},201,{"$f":"ข้อมูลนักเรียน!D213","v":0},null,null,null,null,null,null,null,null,null,null,null,null,null,null,null,null,null,null,null,null,null,null,null,0,null,null,null,null,null,"","","","","","","","","","","","","","","","",0,null,"","","","",0]
[{"$f":"ข้อมูลนักเรียน!B214","v":0},202,{"$f":"ข้อมูลนักเรียน!D214","v":0},null,null,null,null,null,null,null,null,null,null,null,null,null,null,null,null,null,null,null,null,null,null,null,0,null,null,null,null,null,"","","","","","","","","","","","","","","","",0,null,"","","","",0]
[{"$f":"ข้อมูลนักเรียน!B215","v":0},203,{"$f":"ข้อมูลนักเรียน!D215","v":0},null,null,null,null,null,null,null,null,null,null,null,null,null,null,null,null,null,null,null,null,null,null,null,0,null,null,null,null,null,"","","","","","","","","","","","","","","","",0,null,"","","","",0]
[{"$f":"ข้อมูลนักเรียน!B216","v":0},204,{"$f":"ข้อมูลนักเรียน!D216","v":0},null,null,null,null,null,null,null,null,null,null,null,null,null,null,null,null,null,null,null,null,null,null,null,0,null,null,null,null,null,"","","","","","","","","","","","","","","","",0,null,"","","","",0]
[{"$f":"ข้อมูลนักเรียน!B217","v":0},205,{"$f":"ข้อมูลนักเรียน!D217","v":0},null,null,null,null,null,null,null,null,null,null,null,null,null,null,null,null,null,null,null,null,null,null,null,0,null,null,null,null,null,"","","","","","","","","","","","","","","","",0,null,"","","","",0]
[{"$f":"ข้อมูลนักเรียน!B218","v":0},206,{"$f":"ข้อมูลนักเรียน!D218","v":0},null,null,null,null,null,null,null,null,null,null,null,null,null,null,null,null,null,null,null,null,null,null,null,0,null,null,null,null,null,"","","","","","","","","","","","","","","","",0,null,"","","","",0]
[{"$f":"ข้อมูลนักเรียน!B219","v":0},207,{"$f":"ข้อมูลนักเรียน!D219","v":0},null,null,null,null,null,null,null,null,null,null,null,null,null,null,null,null,null,null,null,null,null,null,null,0,null,null,null,null,null,"","","","","","","","","","","","","","","","",0,null,"","","","",0]
[{"$f":"ข้อมูลนักเรียน!B220","v":0},208,{"$f":"ข้อมูลนักเรียน!D220","v":0},null,null,null,null,null,null,null,null,null,null,null,null,null,null,null,null,null,null,null,null,null,null,null,0,null,null,null,null,null,"","","","","","","","","","","","","","","","",0,null,"","","","",0]
[{"$f":"ข้อมูลนักเรียน!B221","v":0},209,{"$f":"ข้อมูลนักเรียน!D221","v":0},null,null,null,null,null,null,null,null,null,null,null,null,null,null,null,null,null,null,null,null,null,null,null,0,null,null,null,null,null,"","","","","","","","","","","","","","","","",0,null,"","","","",0]
[{"$f":"ข้อมูลนักเรียน!B222","v":0},210,{"$f":"ข้อมูลนักเรียน!D222","v":0},null,null,null,null,null,null,null,null,null,null,null,null,null,null,null,null,null,null,null,null,null,null,null,0,null,null,null,null,null,"","","","","","","","","","","","","","","","",0,null,"","","","",0]
[{"$f":"ข้อมูลนักเรียน!B223","v":0},211,{"$f":"ข้อมูลนักเรียน!D223","v":0},null,null,null,null,null,null,null,null,null,null,null,null,null,null,null,null,null,null,null,null,null,null,null,0,null,null,null,null,null,"","","","","","","","","","","","","","","","",0,null,"","","","",0]
[{"$f":"ข้อมูลนักเรียน!B224","v":0},212,{"$f":"ข้อมูลนักเรียน!D224","v":0},null,null,null,null,null,null,null,null,null,null,null,null,null,null,null,null,null,null,null,null,null,null,null,0,null,null,null,null,null,"","","","","","","","","","","","","","","","",0,null,"","","","",0]
[{"$f":"ข้อมูลนักเรียน!B225","v":0},213,{"$f":"ข้อมูลนักเรียน!D225","v":0},null,null,null,null,null,null,null,null,null,null,null,null,null,null,null,null,null,null,null,null,null,null,null,0,null,null,null,null,null,"","","","","","","","","","","","","","","","",0,null,"","","","",0]
[{"$f":"ข้อมูลนักเรียน!B226","v":0},214,{"$f":"ข้อมูลนักเรียน!D226","v":0},null,null,null,null,null,null,null,null,null,null,null,null,null,null,null,null,null,null,null,null,null,null,null,0,null,null,null,null,null,"","","","","","","","","","","","","","","","",0,null,"","","","",0]
[{"$f":"ข้อมูลนักเรียน!B227","v":0},215,{"$f":"ข้อมูลนักเรียน!D227","v":0},null,null,null,null,null,null,null,null,null,null,null,null,null,null,null,null,null,null,null,null,null,null,null,0,null,null,null,null,null,"","","","","","","","","","","","","","","","",0,null,"","","","",0]
[{"$f":"ข้อมูลนักเรียน!B228","v":0},216,{"$f":"ข้อมูลนักเรียน!D228","v":0},null,null,null,null,null,null,null,null,null,null,null,null,null,null,null,null,null,null,null,null,null,null,null,0,null,null,null,null,null,"","","","","","","","","","","","","","","","",0,null,"","","","",0]
[{"$f":"ข้อมูลนักเรียน!B229","v":0},217,{"$f":"ข้อมูลนักเรียน!D229","v":0},null,null,null,null,null,null,null,null,null,null,null,null,null,null,null,null,null,null,null,null,null,null,null,0,null,null,null,null,null,"","","","","","","","","","","","","","","","",0,null,"","","","",0]
[{"$f":"ข้อมูลนักเรียน!B230","v":0},218,{"$f":"ข้อมูลนักเรียน!D230","v":0},null,null,null,null,null,null,null,null,null,null,null,null,null,null,null,null,null,null,null,null,null,null,null,0,null,null,null,null,null,"","","","","","","","","","","","","","","","",0,null,"","","","",0]
[{"$f":"ข้อมูลนักเรียน!B231","v":0},219,{"$f":"ข้อมูลนักเรียน!D231","v":0},null,null,null,null,null,null,null,null,null,null,null,null,null,null,null,null,null,null,null,null,null,null,null,0,null,null,null,null,null,"","","","","","","","","","","","","","","","",0,null,"","","","",0]
[{"$f":"ข้อมูลนักเรียน!B232","v":0},220,{"$f":"ข้อมูลนักเรียน!D232","v":0},null,null,null,null,null,null,null,null,null,null,null,null,null,null,null,null,null,null,null,null,null,null,null,0,null,null,null,null,null,"","","","","","","","","","","","","","","","",0,null,"","","","",0]
[{"$f":"ข้อมูลนักเรียน!B233","v":0},221,{"$f":"ข้อมูลนักเรียน!D233","v":0},null,null,null,null,null,null,null,null,null,null,null,null,null,null,null,null,null,null,null,null,null,null,null,0,null,null,null,null,null,"","","","","","","","","","","","","","","","",0,null,"","","","",0]
[{"$f":"ข้อมูลนักเรียน!B234","v":0},222,{"$f":"ข้อมูลนักเรียน!D234","v":0},null,null,null,null,null,null,null,null,null,null,null,null,null,null,null,null,null,null,null,null,null,null,null,0,null,null,null,null,null,"","","","","","","","","","","","","","","","",0,null,"","","","",0]
[{"$f":"ข้อมูลนักเรียน!B235","v":0},223,{"$f":"ข้อมูลนักเรียน!D235","v":0},null,null,null,null,null,null,null,null,null,null,null,null,null,null,null,null,null,null,null,null,null,null,null,0,null,null,null,null,null,"","","","","","","","","","","","","","","","",0,null,"","","","",0]
[{"$f":"ข้อมูลนักเรียน!B236","v":0},224,{"$f":"ข้อมูลนักเรียน!D236","v":0},null,null,null,null,null,null,null,null,null,null,null,null,null,null,null,null,null,null,null,null,null,null,null,0,null,null,null,null,null,"","","","","","","","","","","","","","","","",0,null,"","","","",0]
[{"$f":"ข้อมูลนักเรียน!B237","v":0},225,{"$f":"ข้อมูลนักเรียน!D237","v":0},null,null,null,null,null,null,null,null,null,null,null,null,null,null,null,null,null,null,null,null,null,null,null,0,null,null,null,null,null,"","","","","","","","","","","","","","","","",0,null,"","","","",0]
[{"$f":"ข้อมูลนักเรียน!B238","v":0},226,{"$f":"ข้อมูลนักเรียน!D238","v":0},null,null,null,null,null,null,null,null,null,null,null,null,null,null,null,null,null,null,null,null,null,null,null,0,null,null,null,null,null,"","","","","","","","","","","","","","","","",0,null,"","","","",0]
[{"$f":"ข้อมูลนักเรียน!B239","v":0},227,{"$f":"ข้อมูลนักเรียน!D239","v":0},null,null,null,null,null,null,null,null,null,null,null,null,null,null,null,null,null,null,null,null,null,null,null,0,null,null,null,null,null,"","","","","","","","","","","","","","","","",0,null,"","","","",0]
[{"$f":"ข้อมูลนักเรียน!B240","v":0},228,{"$f":"ข้อมูลนักเรียน!D240","v":0},null,null,null,null,null,null,null,null,null,null,null,null,null,null,null,null,null,null,null,null,null,null,null,0,null,null,null,null,null,"","","","","","","","","","","","","","","","",0,null,"","","","",0]
[{"$f":"ข้อมูลนักเรียน!B241","v":0},229,{"$f":"ข้อมูลนักเรียน!D241","v":0},null,null,null,null,null,null,null,null,null,null,null,null,null,null,null,null,null,null,null,null,null,null,null,0,null,null,null,null,null,"","","","","","","","","","","","","","","","",0,null,"","","","",0]
[{"$f":"ข้อมูลนักเรียน!B242","v":0},230,{"$f":"ข้อมูลนักเรียน!D242","v":0},null,null,null,null,null,null,null,null,null,null,null,null,null,null,null,null,null,null,null,null,null,null,null,0,null,null,null,null,null,"","","","","","","","","","","","","","","","",0,null,"","","","",0]
[{"$f":"ข้อมูลนักเรียน!B243","v":0},231,{"$f":"ข้อมูลนักเรียน!D243","v":0},null,null,null,null,null,null,null,null,null,null,null,null,null,null,null,null,null,null,null,null,null,null,null,0,null,null,null,null,null,"","","","","","","","","","","","","","","","",0,null,"","","","",0]
[{"$f":"ข้อมูลนักเรียน!B244","v":0},232,{"$f":"ข้อมูลนักเรียน!D244","v":0},null,null,null,null,null,null,null,null,null,null,null,null,null,null,null,null,null,null,null,null,null,null,null,0,null,null,null,null,null,"","","","","","","","","","","","","","","","",0,null,"","","","",0]
[{"$f":"ข้อมูลนักเรียน!B245","v":0},233,{"$f":"ข้อมูลนักเรียน!D245","v":0},null,null,null,null,null,null,null,null,null,null,null,null,null,null,null,null,null,null,null,null,null,null,null,0,null,null,null,null,null,"","","","","","","","","","","","","","","","",0,null,"","","","",0]
[{"$f":"ข้อมูลนักเรียน!B246","v":0},234,{"$f":"ข้อมูลนักเรียน!D246","v":0},null,null,null,null,null,null,null,null,null,null,null,null,null,null,null,null,null,null,null,null,null,null,null,0,null,null,null,null,null,"","","","","","","","","","","","","","","","",0,null,"","","","",0]
[{"$f":"ข้อมูลนักเรียน!B247","v":0},235,{"$f":"ข้อมูลนักเรียน!D247","v":0},null,null,null,null,null,null,null,null,null,null,null,null,null,null,null,null,null,null,null,null,null,null,null,0,null,null,null,null,null,"","","","","","","","","","","","","","","","",0,null,"","","","",0]
[{"$f":"ข้อมูลนักเรียน!B248","v":0},236,{"$f":"ข้อมูลนักเรียน!D248","v":0},null,null,null,null,null,null,null,null,null,null,null,null,null,null,null,null,null,null,null,null,null,null,null,0,null,null,null,null,null,"","","","","","","","","","","","","","","","",0,null,"","","","",0]
[{"$f":"ข้อมูลนักเรียน!B249","v":0},237,{"$f":"ข้อมูลนักเรียน!D249","v":0},null,null,null,null,null,null,null,null,null,null,null,null,null,null,null,null,null,null,null,null,null,null,null,0,null,null,null,null,null,"","","","","","","","","","","","","","","","",0,null,"","","","",0]
[{"$f":"ข้อมูลนักเรียน!B250","v":0},238,{"$f":"ข้อมูลนักเรียน!D250","v":0},null,null,null,null,null,null,null,null,null,null,null,null,null,null,null,null,null,null,null,null,null,null,null,0,null,null,null,null,null,"","","","","","","","","","","","","","","","",0,null,"","","","",0]
[{"$f":"ข้อมูลนักเรียน!B251","v":0},239,{"$f":"ข้อมูลนักเรียน!D251","v":0},null,null,null,null,null,null,null,null,null,null,null,null,null,null,null,null,null,null,null,null,null,null,null,0,null,null,null,null,null,"","","","","","","","","","","","","","","","",0,null,"","","","",0]
[{"$f":"ข้อมูลนักเรียน!B252","v":0},240,{"$f":"ข้อมูลนักเรียน!D252","v":0},null,null,null,null,null,null,null,null,null,null,null,null,null,null,null,null,null,null,null,null,null,null,null,0,null,null,null,null,null,"","","","","","","","","","","","","","","","",0,null,"","","","",0]
[{"$f":"ข้อมูลนักเรียน!B253","v":0},241,{"$f":"ข้อมูลนักเรียน!D253","v":0},null,null,null,null,null,null,null,null,null,null,null,null,null,null,null,null,null,null,null,null,null,null,null,0,null,null,null,null,null,"","","","","","","","","","","","","","","","",0,null,"","","","",0]
[{"$f":"ข้อมูลนักเรียน!B254","v":0},242,{"$f":"ข้อมูลนักเรียน!D254","v":0},null,null,null,null,null,null,null,null,null,null,null,null,null,null,null,null,null,null,null,null,null,null,null,0,null,null,null,null,null,"","","","","","","","","","","","","","","","",0,null,"","","","",0]
[{"$f":"ข้อมูลนักเรียน!B255","v":0},243,{"$f":"ข้อมูลนักเรียน!D255","v":0},null,null,null,null,null,null,null,null,null,null,null,null,null,null,null,null,null,null,null,null,null,null,null,0,null,null,null,null,null,"","","","","","","","","","","","","","","","",0,null,"","","","",0]
[{"$f":"ข้อมูลนักเรียน!B256","v":0},244,{"$f":"ข้อมูลนักเรียน!D256","v":0},null,null,null,null,null,null,null,null,null,null,null,null,null,null,null,null,null,null,null,null,null,null,null,0,null,null,null,null,null,"","","","","","","","","","","","","","","","",0,null,"","","","",0]
[{"$f":"ข้อมูลนักเรียน!B257","v":0},245,{"$f":"ข้อมูลนักเรียน!D257","v":0},null,null,null,null,null,null,null,null,null,null,null,null,null,null,null,null,null,null,null,null,null,null,null,0,null,null,null,null,null,"","","","","","","","","","","","","","","","",0,null,"","","","",0]
[{"$f":"ข้อมูลนักเรียน!B258","v":0},246,{"$f":"ข้อมูลนักเรียน!D258","v":0},null,null,null,null,null,null,null,null,null,null,null,null,null,null,null,null,null,null,null,null,null,null,null,0,null,null,null,null,null,"","","","","","","","","","","","","","","","",0,null,"","","","",0]
[{"$f":"ข้อมูลนักเรียน!B259","v":0},247,{"$f":"ข้อมูลนักเรียน!D259","v":0},null,null,null,null,null,null,null,null,null,null,null,null,null,null,null,null,null,null,null,null,null,null,null,0,null,null,null,null,null,"","","","","","","","","","","","","","","","",0,null,"","","","",0]
[{"$f":"ข้อมูลนักเรียน!B260","v":0},248,{"$f":"ข้อมูลนักเรียน!D260","v":0},null,null,null,null,null,null,null,null,null,null,null,null,null,null,null,null,null,null,null,null,null,null,null,0,null,null,null,null,null,"","","","","","","","","","","","","","","","",0,null,"","","","",0]
[{"$f":"ข้อมูลนักเรียน!B261","v":0},249,{"$f":"ข้อมูลนักเรียน!D261","v":0},null,null,null,null,null,null,null,null,null,null,null,null,null,null,null,null,null,null,null,null,null,null,null,0,null,null,null,null,null,"","","","","","","","","","","","","","","","",0,null,"","","","",0]
[{"$f":"ข้อมูลนักเรียน!B262","v":0},250,{"$f":"ข้อมูลนักเรียน!D262","v":0},null,null,null,null,null,null,null,null,null,null,null,null,null,null,null,null,null,null,null,null,null,null,null,0,null,null,null,null,null,"","","","","","","","","","","","","","","","",0,null,"","","","",0]
[{"$f":"ข้อมูลนักเรียน!B263","v":0},251,{"$f":"ข้อมูลนักเรียน!D263","v":0},null,null,null,null,null,null,null,null,null,null,null,null,null,null,null,null,null,null,null,null,null,null,null,0,null,null,null,null,null,"","","","","","","","","","","","","","","","",0,null,"","","","",0]
[{"$f":"ข้อมูลนักเรียน!B264","v":0},252,{"$f":"ข้อมูลนักเรียน!D264","v":0},null,null,null,null,null,null,null,null,null,null,null,null,null,null,null,null,null,null,null,null,null,null,null,0,null,null,null,null,null,"","","","","","","","","","","","","","","","",0,null,"","","","",0]
[{"$f":"ข้อมูลนักเรียน!B265","v":0},253,{"$f":"ข้อมูลนักเรียน!D265","v":0},null,null,null,null,null,null,null,null,null,null,null,null,null,null,null,null,null,null,null,null,null,null,null,0,null,null,null,null,null,"","","","","","","","","","","","","","","","",0,null,"","","","",0]
[{"$f":"ข้อมูลนักเรียน!B266","v":0},254,{"$f":"ข้อมูลนักเรียน!D266","v":0},null,null,null,null,null,null,null,null,null,null,null,null,null,null,null,null,null,null,null,null,null,null,null,0,null,null,null,null,null,"","","","","","","","","","","","","","","","",0,null,"","","","",0]
[{"$f":"ข้อมูลนักเรียน!B267","v":0},255,{"$f":"ข้อมูลนักเรียน!D267","v":0},null,null,null,null,null,null,null,null,null,null,null,null,null,null,null,null,null,null,null,null,null,null,null,0,null,null,null,null,null,"","","","","","","","","","","","","","","","",0,null,"","","","",0]
[{"$f":"ข้อมูลนักเรียน!B268","v":0},256,{"$f":"ข้อมูลนักเรียน!D268","v":0},null,null,null,null,null,null,null,null,null,null,null,null,null,null,null,null,null,null,null,null,null,null,null,0,null,null,null,null,null,"","","","","","","","","","","","","","","","",0,null,"","","","",0]
[{"$f":"ข้อมูลนักเรียน!B269","v":0},257,{"$f":"ข้อมูลนักเรียน!D269","v":0},null,null,null,null,null,null,null,null,null,null,null,null,null,null,null,null,null,null,null,null,null,null,null,{"$f":"SUM(IF(G267=NumM1,ScoreM1),IF(H267=NumM2,ScoreM2),IF(I267=NumM3,ScoreM3),IF(J267=NumM4,ScoreM4),IF(K267=NumM5,ScoreM5),IF(L267=NumM6,ScoreM6),IF(M267=NumM7,ScoreM7),IF(N267=NumM8,ScoreM8),IF(O267=NumM9,ScoreM9),IF(P267=NumM10,ScoreM10),IF(Q267=NumM11,ScoreM11),IF(R267=NumM12,ScoreM12),IF(S267=NumM13,ScoreM13),IF(T267=NumM14,ScoreM14),IF(U267=NumM15,ScoreM15),IF(V267=NumM16,ScoreM16),IF(W267=NumM17,ScoreM17),IF(X267=NumM18,ScoreM18),IF(Y267=NumM19,ScoreM19),IF(Z267=NumM20,ScoreM20))","v":0},null,null,null,null,null,{"$f":"IF(G267=\"\",\"\",IF(G267=NumM1,\"✓\",\"X\"))","v":""},{"$f":"IF(H267=\"\",\"\",IF(H267=NumM2,\"✓\",\"X\"))","v":""},{"$f":"IF(I267=\"\",\"\",IF(I267=NumM3,\"✓\",\"X\"))","v":""},{"$f":"IF(J267=\"\",\"\",IF(J267=NumM4,\"✓\",\"X\"))","v":""},{"$f":"IF(K267=\"\",\"\",IF(K267=NumM5,\"✓\",\"X\"))","v":""},{"$f":"IF(L267=\"\",\"\",IF(L267=NumM6,\"✓\",\"X\"))","v":""},{"$f":"IF(M267=\"\",\"\",IF(M267=NumM7,\"✓\",\"X\"))","v":""},{"$f":"IF(N267=\"\",\"\",IF(N267=NumM8,\"✓\",\"X\"))","v":""},{"$f":"IF(O267=\"\",\"\",IF(O267=NumM9,\"✓\",\"X\"))","v":""},{"$f":"IF(P267=\"\",\"\",IF(P267=NumM10,\"✓\",\"X\"))","v":""},{"$f":"IF(Q267=\"\",\"\",IF(Q267=NumM11,\"✓\",\"X\"))","v":""},{"$f":"IF(R267=\"\",\"\",IF(R267=NumM12,\"✓\",\"X\"))","v":""},{"$f":"IF(S267=\"\",\"\",IF(S267=NumM13,\"✓\",\"X\"))","v":""},{"$f":"IF(T267=\"\",\"\",IF(T267=NumM14,\"✓\",\"X\"))","v":""},{"$f":"IF(U267=\"\",\"\",IF(U267=NumM15,\"✓\",\"X\"))","v":""},{"$f":"IF(V267=\"\",\"\",IF(V267=NumM16,\"✓\",\"X\"))","v":""},0,null,{"$f":"IF(W267=\"\",\"\",IF(W267=NumM17,\"✓\",\"X\"))","v":""},{"$f":"IF(X267=\"\",\"\",IF(X267=NumM18,\"✓\",\"X\"))","v":""},{"$f":"IF(Y267=\"\",\"\",IF(Y267=NumM19,\"✓\",\"X\"))","v":""},{"$f":"IF(Z267=\"\",\"\",IF(Z267=NumM20,\"✓\",\"X\"))","v":""},0]
[{"$f":"ข้อมูลนักเรียน!B270","v":0},258,{"$f":"ข้อมูลนักเรียน!D270","v":0},null,null,null,null,null,null,null,null,null,null,null,null,null,null,null,null,null,null,null,null,null,null,null,0,null,null,null,null,null,"","","","","","","","","","","","","","","","",{"$f":"COUNTIF(AG268:AV268,\"✓\")","v":0},null,"","","","",{"$f":"COUNTIF(AY268:BB268,\"✓\")","v":0}]
[{"$f":"ข้อมูลนักเรียน!B271","v":0},259,{"$f":"ข้อมูลนักเรียน!D271","v":0},null,null,null,null,null,null,null,null,null,null,null,null,null,null,null,null,null,null,null,null,null,null,null,0,null,null,null,null,null,"","","","","","","","","","","","","","","","",0,null,"","","","",0]
[{"$f":"ข้อมูลนักเรียน!B272","v":0},260,{"$f":"ข้อมูลนักเรียน!D272","v":0},null,null,null,null,null,null,null,null,null,null,null,null,null,null,null,null,null,null,null,null,null,null,null,0,null,null,null,null,null,"","","","","","","","","","","","","","","","",0,null,"","","","",0]
[{"$f":"ข้อมูลนักเรียน!B273","v":0},261,{"$f":"ข้อมูลนักเรียน!D273","v":0},null,null,null,null,null,null,null,null,null,null,null,null,null,null,null,null,null,null,null,null,null,null,null,0,null,null,null,null,null,"","","","","","","","","","","","","","","","",0,null,"","","","",0]
[{"$f":"ข้อมูลนักเรียน!B274","v":0},262,{"$f":"ข้อมูลนักเรียน!D274","v":0},null,null,null,null,null,null,null,null,null,null,null,null,null,null,null,null,null,null,null,null,null,null,null,0,null,null,null,null,null,"","","","","","","","","","","","","","","","",0,null,"","","","",0]
[{"$f":"ข้อมูลนักเรียน!B275","v":0},263,{"$f":"ข้อมูลนักเรียน!D275","v":0},null,null,null,null,null,null,null,null,null,null,null,null,null,null,null,null,null,null,null,null,null,null,null,0,null,null,null,null,null,"","","","","","","","","","","","","","","","",0,null,"","","","",0]
[{"$f":"ข้อมูลนักเรียน!B276","v":0},264,{"$f":"ข้อมูลนักเรียน!D276","v":0},null,null,null,null,null,null,null,null,null,null,null,null,null,null,null,null,null,null,null,null,null,null,null,0,null,null,null,null,null,"","","","","","","","","","","","","","","","",0,null,"","","","",0]
[{"$f":"ข้อมูลนักเรียน!B277","v":0},265,{"$f":"ข้อมูลนักเรียน!D277","v":0},null,null,null,null,null,null,null,null,null,null,null,null,null,null,null,null,null,null,null,null,null,null,null,0,null,null,null,null,null,"","","","","","","","","","","","","","","","",0,null,"","","","",0]
[{"$f":"ข้อมูลนักเรียน!B278","v":0},266,{"$f":"ข้อมูลนักเรียน!D278","v":0},null,null,null,null,null,null,null,null,null,null,null,null,null,null,null,null,null,null,null,null,null,null,null,0,null,null,null,null,null,"","","","","","","","","","","","","","","","",0,null,"","","","",0]
[{"$f":"ข้อมูลนักเรียน!B279","v":0},267,{"$f":"ข้อมูลนักเรียน!D279","v":0},null,null,null,null,null,null,null,null,null,null,null,null,null,null,null,null,null,null,null,null,null,null,null,0,null,null,null,null,null,"","","","","","","","","","","","","","","","",0,null,"","","","",0]
[{"$f":"ข้อมูลนักเรียน!B280","v":0},268,{"$f":"ข้อมูลนักเรียน!D280","v":0},null,null,null,null,null,null,null,null,null,null,null,null,null,null,null,null,null,null,null,null,null,null,null,0,null,null,null,null,null,"","","","","","","","","","","","","","","","",0,null,"","","","",0]
[{"$f":"ข้อมูลนักเรียน!B281","v":0},269,{"$f":"ข้อมูลนักเรียน!D281","v":0},null,null,null,null,null,null,null,null,null,null,null,null,null,null,null,null,null,null,null,null,null,null,null,0,null,null,null,null,null,"","","","","","","","","","","","","","","","",0,null,"","","","",0]
[{"$f":"ข้อมูลนักเรียน!B282","v":0},270,{"$f":"ข้อมูลนักเรียน!D282","v":0},null,null,null,null,null,null,null,null,null,null,null,null,null,null,null,null,null,null,null,null,null,null,null,0,null,null,null,null,null,"","","","","","","","","","","","","","","","",0,null,"","","","",0]
[{"$f":"ข้อมูลนักเรียน!B283","v":0},271,{"$f":"ข้อมูลนักเรียน!D283","v":0},null,null,null,null,null,null,null,null,null,null,null,null,null,null,null,null,null,null,null,null,null,null,null,0,null,null,null,null,null,"","","","","","","","","","","","","","","","",0,null,"","","","",0]
[{"$f":"ข้อมูลนักเรียน!B284","v":0},272,{"$f":"ข้อมูลนักเรียน!D284","v":0},null,null,null,null,null,null,null,null,null,null,null,null,null,null,null,null,null,null,null,null,null,null,null,0,null,null,null,null,null,"","","","","","","","","","","","","","","","",0,null,"","","","",0]
[{"$f":"ข้อมูลนักเรียน!B285","v":0},273,{"$f":"ข้อมูลนักเรียน!D285","v":0},null,null,null,null,null,null,null,null,null,null,null,null,null,null,null,null,null,null,null,null,null,null,null,0,null,null,null,null,null,"","","","","","","","","","","","","","","","",0,null,"","","","",0]
[{"$f":"ข้อมูลนักเรียน!B286","v":0},274,{"$f":"ข้อมูลนักเรียน!D286","v":0},null,null,null,null,null,null,null,null,null,null,null,null,null,null,null,null,null,null,null,null,null,null,null,0,null,null,null,null,null,"","","","","","","","","","","","","","","","",0,null,"","","","",0]
[{"$f":"ข้อมูลนักเรียน!B287","v":0},275,{"$f":"ข้อมูลนักเรียน!D287","v":0},null,null,null,null,null,null,null,null,null,null,null,null,null,null,null,null,null,null,null,null,null,null,null,0,null,null,null,null,null,"","","","","","","","","","","","","","","","",0,null,"","","","",0]
[{"$f":"ข้อมูลนักเรียน!B288","v":0},276,{"$f":"ข้อมูลนักเรียน!D288","v":0},null,null,null,null,null,null,null,null,null,null,null,null,null,null,null,null,null,null,null,null,null,null,null,0,null,null,null,null,null,"","","","","","","","","","","","","","","","",0,null,"","","","",0]
[{"$f":"ข้อมูลนักเรียน!B289","v":0},277,{"$f":"ข้อมูลนักเรียน!D289","v":0},null,null,null,null,null,null,null,null,null,null,null,null,null,null,null,null,null,null,null,null,null,null,null,0,null,null,null,null,null,"","","","","","","","","","","","","","","","",0,null,"","","","",0]
[{"$f":"ข้อมูลนักเรียน!B290","v":0},278,{"$f":"ข้อมูลนักเรียน!D290","v":0},null,null,null,null,null,null,null,null,null,null,null,null,null,null,null,null,null,null,null,null,null,null,null,0,null,null,null,null,null,"","","","","","","","","","","","","","","","",0,null,"","","","",0]
[{"$f":"ข้อมูลนักเรียน!B291","v":0},279,{"$f":"ข้อมูลนักเรียน!D291","v":0},null,null,null,null,null,null,null,null,null,null,null,null,null,null,null,null,null,null,null,null,null,null,null,0,null,null,null,null,null,"","","","","","","","","","","","","","","","",0,null,"","","","",0]
[{"$f":"ข้อมูลนักเรียน!B292","v":0},280,{"$f":"ข้อมูลนักเรียน!D292","v":0},null,null,null,null,null,null,null,null,null,null,null,null,null,null,null,null,null,null,null,null,null,null,null,0,null,null,null,null,null,"","","","","","","","","","","","","","","","",0,null,"","","","",0]
[{"$f":"ข้อมูลนักเรียน!B293","v":0},281,{"$f":"ข้อมูลนักเรียน!D293","v":0},null,null,null,null,null,null,null,null,null,null,null,null,null,null,null,null,null,null,null,null,null,null,null,0,null,null,null,null,null,"","","","","","","","","","","","","","","","",0,null,"","","","",0]
[{"$f":"ข้อมูลนักเรียน!B294","v":0},282,{"$f":"ข้อมูลนักเรียน!D294","v":0},null,null,null,null,null,null,null,null,null,null,null,null,null,null,null,null,null,null,null,null,null,null,null,0,null,null,null,null,null,"","","","","","","","","","","","","","","","",0,null,"","","","",0]
[{"$f":"ข้อมูลนักเรียน!B295","v":0},283,{"$f":"ข้อมูลนักเรียน!D295","v":0},null,null,null,null,null,null,null,null,null,null,null,null,null,null,null,null,null,null,null,null,null,null,null,0,null,null,null,null,null,"","","","","","","","","","","","","","","","",0,null,"","","","",0]
[{"$f":"ข้อมูลนักเรียน!B296","v":0},284,{"$f":"ข้อมูลนักเรียน!D296","v":0},null,null,null,null,null,null,null,null,null,null,null,null,null,null,null,null,null,null,null,null,null,null,null,0,null,null,null,null,null,"","","","","","","","","","","","","","","","",0,null,"","","","",0]
[{"$f":"ข้อมูลนักเรียน!B297","v":0},285,{"$f":"ข้อมูลนักเรียน!D297","v":0},null,null,null,null,null,null,null,null,null,null,null,null,null,null,null,null,null,null,null,null,null,null,null,0,null,null,null,null,null,"","","","","","","","","","","","","","","","",0,null,"","","","",0]
[{"$f":"ข้อมูลนักเรียน!B298","v":0},286,{"$f":"ข้อมูลนักเรียน!D298","v":0},null,null,null,null,null,null,null,null,null,null,null,null,null,null,null,null,null,null,null,null,null,null,null,0,null,null,null,null,null,"","","","","","","","","","","","","","","","",0,null,"","","","",0]
[{"$f":"ข้อมูลนักเรียน!B299","v":0},287,{"$f":"ข้อมูลนักเรียน!D299","v":0},null,null,null,null,null,null,null,null,null,null,null,null,null,null,null,null,null,null,null,null,null,null,null,0,null,null,null,null,null,"","","","","","","","","","","","","","","","",0,null,"","","","",0]
[{"$f":"ข้อมูลนักเรียน!B300","v":0},288,{"$f":"ข้อมูลนักเรียน!D300","v":0},null,null,null,null,null,null,null,null,null,null,null,null,null,null,null,null,null,null,null,null,null,null,null,0,null,null,null,null,null,"","","","","","","","","","","","","","","","",0,null,"","","","",0]
[{"$f":"ข้อมูลนักเรียน!B301","v":0},289,{"$f":"ข้อมูลนักเรียน!D301","v":0},null,null,null,null,null,null,null,null,null,null,null,null,null,null,null,null,null,null,null,null,null,null,null,0,null,null,null,null,null,"","","","","","","","","","","","","","","","",0,null,"","","","",0]
[{"$f":"ข้อมูลนักเรียน!B302","v":0},290,{"$f":"ข้อมูลนักเรียน!D302","v":0},null,null,null,null,null,null,null,null,null,null,null,null,null,null,null,null,null,null,null,null,null,null,null,0,null,null,null,null,null,"","","","","","","","","","","","","","","","",0,null,"","","","",0]
[{"$f":"ข้อมูลนักเรียน!B303","v":0},291,{"$f":"ข้อมูลนักเรียน!D303","v":0},null,null,null,null,null,null,null,null,null,null,null,null,null,null,null,null,null,null,null,null,null,null,null,0,null,null,null,null,null,"","","","","","","","","","","","","","","","",0,null,"","","","",0]
[{"$f":"ข้อมูลนักเรียน!B304","v":0},292,{"$f":"ข้อมูลนักเรียน!D304","v":0},null,null,null,null,null,null,null,null,null,null,null,null,null,null,null,null,null,null,null,null,null,null,null,0,null,null,null,null,null,"","","","","","","","","","","","","","","","",0,null,"","","","",0]
[{"$f":"ข้อมูลนักเรียน!B305","v":0},293,{"$f":"ข้อมูลนักเรียน!D305","v":0},null,null,null,null,null,null,null,null,null,null,null,null,null,null,null,null,null,null,null,null,null,null,null,0,null,null,null,null,null,"","","","","","","","","","","","","","","","",0,null,"","","","",0]
[{"$f":"ข้อมูลนักเรียน!B306","v":0},294,{"$f":"ข้อมูลนักเรียน!D306","v":0},null,null,null,null,null,null,null,null,null,null,null,null,null,null,null,null,null,null,null,null,null,null,null,0,null,null,null,null,null,"","","","","","","","","","","","","","","","",0,null,"","","","",0]
[{"$f":"ข้อมูลนักเรียน!B307","v":0},295,{"$f":"ข้อมูลนักเรียน!D307","v":0},null,null,null,null,null,null,null,null,null,null,null,null,null,null,null,null,null,null,null,null,null,null,null,0,null,null,null,null,null,"","","","","","","","","","","","","","","","",0,null,"","","","",0]
[{"$f":"ข้อมูลนักเรียน!B308","v":0},296,{"$f":"ข้อมูลนักเรียน!D308","v":0},null,null,null,null,null,null,null,null,null,null,null,null,null,null,null,null,null,null,null,null,null,null,null,0,null,null,null,null,null,"","","","","","","","","","","","","","","","",0,null,"","","","",0]
[{"$f":"ข้อมูลนักเรียน!B309","v":0},297,{"$f":"ข้อมูลนักเรียน!D309","v":0},null,null,null,null,null,null,null,null,null,null,null,null,null,null,null,null,null,null,null,null,null,null,null,0,null,null,null,null,null,"","","","","","","","","","","","","","","","",0,null,"","","","",0]
[{"$f":"ข้อมูลนักเรียน!B310","v":0},298,{"$f":"ข้อมูลนักเรียน!D310","v":0},null,null,null,null,null,null,null,null,null,null,null,null,null,null,null,null,null,null,null,null,null,null,null,0,null,null,null,null,null,"","","","","","","","","","","","","","","","",0,null,"","","","",0]
[{"$f":"ข้อมูลนักเรียน!B311","v":0},299,{"$f":"ข้อมูลนักเรียน!D311","v":0},null,null,null,null,null,null,null,null,null,null,null,null,null,null,null,null,null,null,null,null,null,null,null,0,null,null,null,null,null,"","","","","","","","","","","","","","","","",0,null,"","","","",0]
[{"$f":"ข้อมูลนักเรียน!B312","v":0},300,{"$f":"ข้อมูลนักเรียน!D312","v":0},null,null,null,null,null,null,null,null,null,null,null,null,null,null,null,null,null,null,null,null,null,null,null,0,null,null,null,null,null,"","","","","","","","","","","","","","","","",0,null,"","","","",0]
[{"$f":"ข้อมูลนักเรียน!B313","v":0},301,{"$f":"ข้อมูลนักเรียน!D313","v":0},null,null,null,null,null,null,null,null,null,null,null,null,null,null,null,null,null,null,null,null,null,null,null,0,null,null,null,null,null,"","","","","","","","","","","","","","","","",0,null,"","","","",0]
[{"$f":"ข้อมูลนักเรียน!B314","v":0},302,{"$f":"ข้อมูลนักเรียน!D314","v":0},null,null,null,null,null,null,null,null,null,null,null,null,null,null,null,null,null,null,null,null,null,null,null,0,null,null,null,null,null,"","","","","","","","","","","","","","","","",0,null,"","","","",0]
[{"$f":"ข้อมูลนักเรียน!B315","v":0},303,{"$f":"ข้อมูลนักเรียน!D315","v":0},null,null,null,null,null,null,null,null,null,null,null,null,null,null,null,null,null,null,null,null,null,null,null,0,null,null,null,null,null,"","","","","","","","","","","","","","","","",0,null,"","","","",0]
[{"$f":"ข้อมูลนักเรียน!B316","v":0},304,{"$f":"ข้อมูลนักเรียน!D316","v":0},null,null,null,null,null,null,null,null,null,null,null,null,null,null,null,null,null,null,null,null,null,null,null,0,null,null,null,null,null,"","","","","","","","","","","","","","","","",0,null,"","","","",0]
[{"$f":"ข้อมูลนักเรียน!B317","v":0},305,{"$f":"ข้อมูลนักเรียน!D317","v":0},null,null,null,null,null,null,null,null,null,null,null,null,null,null,null,null,null,null,null,null,null,null,null,0,null,null,null,null,null,"","","","","","","","","","","","","","","","",0,null,"","","","",0]
[{"$f":"ข้อมูลนักเรียน!B318","v":0},306,{"$f":"ข้อมูลนักเรียน!D318","v":0},null,null,null,null,null,null,null,null,null,null,null,null,null,null,null,null,null,null,null,null,null,null,null,0,null,null,null,null,null,"","","","","","","","","","","","","","","","",0,null,"","","","",0]
[{"$f":"ข้อมูลนักเรียน!B319","v":0},307,{"$f":"ข้อมูลนักเรียน!D319","v":0},null,null,null,null,null,null,null,null,null,null,null,null,null,null,null,null,null,null,null,null,null,null,null,0,null,null,null,null,null,"","","","","","","","","","","","","","","","",0,null,"","","","",0]
[{"$f":"ข้อมูลนักเรียน!B320","v":0},308,{"$f":"ข้อมูลนักเรียน!D320","v":0},null,null,null,null,null,null,null,null,null,null,null,null,null,null,null,null,null,null,null,null,null,null,null,0,null,null,null,null,null,"","","","","","","","","","","","","","","","",0,null,"","","","",0]
[{"$f":"ข้อมูลนักเรียน!B321","v":0},309,{"$f":"ข้อมูลนักเรียน!D321","v":0},null,null,null,null,null,null,null,null,null,null,null,null,null,null,null,null,null,null,null,null,null,null,null,0,null,null,null,null,null,"","","","","","","","","","","","","","","","",0,null,"","","","",0]
[{"$f":"ข้อมูลนักเรียน!B322","v":0},310,{"$f":"ข้อมูลนักเรียน!D322","v":0},null,null,null,null,null,null,null,null,null,null,null,null,null,null,null,null,null,null,null,null,null,null,null,0,null,null,null,null,null,"","","","","","","","","","","","","","","","",0,null,"","","","",0]
[{"$f":"ข้อมูลนักเรียน!B323","v":0},311,{"$f":"ข้อมูลนักเรียน!D323","v":0},null,null,null,null,null,null,null,null,null,null,null,null,null,null,null,null,null,null,null,null,null,null,null,0,null,null,null,null,null,"","","","","","","","","","","","","","","","",0,null,"","","","",0]
[{"$f":"ข้อมูลนักเรียน!B324","v":0},312,{"$f":"ข้อมูลนักเรียน!D324","v":0},null,null,null,null,null,null,null,null,null,null,null,null,null,null,null,null,null,null,null,null,null,null,null,0,null,null,null,null,null,"","","","","","","","","","","","","","","","",0,null,"","","","",0]
[{"$f":"ข้อมูลนักเรียน!B325","v":0},313,{"$f":"ข้อมูลนักเรียน!D325","v":0},null,null,null,null,null,null,null,null,null,null,null,null,null,null,null,null,null,null,null,null,null,null,null,0,null,null,null,null,null,"","","","","","","","","","","","","","","","",0,null,"","","","",0]
[{"$f":"ข้อมูลนักเรียน!B326","v":0},314,{"$f":"ข้อมูลนักเรียน!D326","v":0},null,null,null,null,null,null,null,null,null,null,null,null,null,null,null,null,null,null,null,null,null,null,null,0,null,null,null,null,null,"","","","","","","","","","","","","","","","",0,null,"","","","",0]
[{"$f":"ข้อมูลนักเรียน!B327","v":0},315,{"$f":"ข้อมูลนักเรียน!D327","v":0},null,null,null,null,null,null,null,null,null,null,null,null,null,null,null,null,null,null,null,null,null,null,null,0,null,null,null,null,null,"","","","","","","","","","","","","","","","",0,null,"","","","",0]
[{"$f":"ข้อมูลนักเรียน!B328","v":0},316,{"$f":"ข้อมูลนักเรียน!D328","v":0},null,null,null,null,null,null,null,null,null,null,null,null,null,null,null,null,null,null,null,null,null,null,null,0,null,null,null,null,null,"","","","","","","","","","","","","","","","",0,null,"","","","",0]
[{"$f":"ข้อมูลนักเรียน!B329","v":0},317,{"$f":"ข้อมูลนักเรียน!D329","v":0},null,null,null,null,null,null,null,null,null,null,null,null,null,null,null,null,null,null,null,null,null,null,null,0,null,null,null,null,null,"","","","","","","","","","","","","","","","",0,null,"","","","",0]
[{"$f":"ข้อมูลนักเรียน!B330","v":0},318,{"$f":"ข้อมูลนักเรียน!D330","v":0},null,null,null,null,null,null,null,null,null,null,null,null,null,null,null,null,null,null,null,null,null,null,null,0,null,null,null,null,null,"","","","","","","","","","","","","","","","",0,null,"","","","",0]
[{"$f":"ข้อมูลนักเรียน!B331","v":0},319,{"$f":"ข้อมูลนักเรียน!D331","v":0},null,null,null,null,null,null,null,null,null,null,null,null,null,null,null,null,null,null,null,null,null,null,null,0,null,null,null,null,null,"","","","","","","","","","","","","","","","",0,null,"","","","",0]
[{"$f":"ข้อมูลนักเรียน!B332","v":0},320,{"$f":"ข้อมูลนักเรียน!D332","v":0},null,null,null,null,null,null,null,null,null,null,null,null,null,null,null,null,null,null,null,null,null,null,null,0,null,null,null,null,null,"","","","","","","","","","","","","","","","",0,null,"","","","",0]
[{"$f":"ข้อมูลนักเรียน!B333","v":0},321,{"$f":"ข้อมูลนักเรียน!D333","v":0},null,null,null,null,null,null,null,null,null,null,null,null,null,null,null,null,null,null,null,null,null,null,null,{"$f":"SUM(IF(G331=NumM1,ScoreM1),IF(H331=NumM2,ScoreM2),IF(I331=NumM3,ScoreM3),IF(J331=NumM4,ScoreM4),IF(K331=NumM5,ScoreM5),IF(L331=NumM6,ScoreM6),IF(M331=NumM7,ScoreM7),IF(N331=NumM8,ScoreM8),IF(O331=NumM9,ScoreM9),IF(P331=NumM10,ScoreM10),IF(Q331=NumM11,ScoreM11),IF(R331=NumM12,ScoreM12),IF(S331=NumM13,ScoreM13),IF(T331=NumM14,ScoreM14),IF(U331=NumM15,ScoreM15),IF(V331=NumM16,ScoreM16),IF(W331=NumM17,ScoreM17),IF(X331=NumM18,ScoreM18),IF(Y331=NumM19,ScoreM19),IF(Z331=NumM20,ScoreM20))","v":0},null,null,null,null,null,{"$f":"IF(G331=\"\",\"\",IF(G331=NumM1,\"✓\",\"X\"))","v":""},{"$f":"IF(H331=\"\",\"\",IF(H331=NumM2,\"✓\",\"X\"))","v":""},{"$f":"IF(I331=\"\",\"\",IF(I331=NumM3,\"✓\",\"X\"))","v":""},{"$f":"IF(J331=\"\",\"\",IF(J331=NumM4,\"✓\",\"X\"))","v":""},{"$f":"IF(K331=\"\",\"\",IF(K331=NumM5,\"✓\",\"X\"))","v":""},{"$f":"IF(L331=\"\",\"\",IF(L331=NumM6,\"✓\",\"X\"))","v":""},{"$f":"IF(M331=\"\",\"\",IF(M331=NumM7,\"✓\",\"X\"))","v":""},{"$f":"IF(N331=\"\",\"\",IF(N331=NumM8,\"✓\",\"X\"))","v":""},{"$f":"IF(O331=\"\",\"\",IF(O331=NumM9,\"✓\",\"X\"))","v":""},{"$f":"IF(P331=\"\",\"\",IF(P331=NumM10,\"✓\",\"X\"))","v":""},{"$f":"IF(Q331=\"\",\"\",IF(Q331=NumM11,\"✓\",\"X\"))","v":""},{"$f":"IF(R331=\"\",\"\",IF(R331=NumM12,\"✓\",\"X\"))","v":""},{"$f":"IF(S331=\"\",\"\",IF(S331=NumM13,\"✓\",\"X\"))","v":""},{"$f":"IF(T331=\"\",\"\",IF(T331=NumM14,\"✓\",\"X\"))","v":""},{"$f":"IF(U331=\"\",\"\",IF(U331=NumM15,\"✓\",\"X\"))","v":""},{"$f":"IF(V331=\"\",\"\",IF(V331=NumM16,\"✓\",\"X\"))","v":""},0,null,{"$f":"IF(W331=\"\",\"\",IF(W331=NumM17,\"✓\",\"X\"))","v":""},{"$f":"IF(X331=\"\",\"\",IF(X331=NumM18,\"✓\",\"X\"))","v":""},{"$f":"IF(Y331=\"\",\"\",IF(Y331=NumM19,\"✓\",\"X\"))","v":""},{"$f":"IF(Z331=\"\",\"\",IF(Z331=NumM20,\"✓\",\"X\"))","v":""},0]
[{"$f":"ข้อมูลนักเรียน!B334","v":0},322,{"$f":"ข้อมูลนักเรียน!D334","v":0},null,null,null,null,null,null,null,null,null,null,null,null,null,null,null,null,null,null,null,null,null,null,null,0,null,null,null,null,null,"","","","","","","","","","","","","","","","",{"$f":"COUNTIF(AG332:AV332,\"✓\")","v":0},null,"","","","",{"$f":"COUNTIF(AY332:BB332,\"✓\")","v":0}]
[{"$f":"ข้อมูลนักเรียน!B335","v":0},323,{"$f":"ข้อมูลนักเรียน!D335","v":0},null,null,null,null,null,null,null,null,null,null,null,null,null,null,null,null,null,null,null,null,null,null,null,0,null,null,null,null,null,"","","","","","","","","","","","","","","","",0,null,"","","","",0]
[{"$f":"ข้อมูลนักเรียน!B336","v":0},324,{"$f":"ข้อมูลนักเรียน!D336","v":0},null,null,null,null,null,null,null,null,null,null,null,null,null,null,null,null,null,null,null,null,null,null,null,0,null,null,null,null,null,"","","","","","","","","","","","","","","","",0,null,"","","","",0]
[{"$f":"ข้อมูลนักเรียน!B337","v":0},325,{"$f":"ข้อมูลนักเรียน!D337","v":0},null,null,null,null,null,null,null,null,null,null,null,null,null,null,null,null,null,null,null,null,null,null,null,0,null,null,null,null,null,"","","","","","","","","","","","","","","","",0,null,"","","","",0]
[{"$f":"ข้อมูลนักเรียน!B338","v":0},326,{"$f":"ข้อมูลนักเรียน!D338","v":0},null,null,null,null,null,null,null,null,null,null,null,null,null,null,null,null,null,null,null,null,null,null,null,0,null,null,null,null,null,"","","","","","","","","","","","","","","","",0,null,"","","","",0]
[{"$f":"ข้อมูลนักเรียน!B339","v":0},327,{"$f":"ข้อมูลนักเรียน!D339","v":0},null,null,null,null,null,null,null,null,null,null,null,null,null,null,null,null,null,null,null,null,null,null,null,0,null,null,null,null,null,"","","","","","","","","","","","","","","","",0,null,"","","","",0]
[{"$f":"ข้อมูลนักเรียน!B340","v":0},328,{"$f":"ข้อมูลนักเรียน!D340","v":0},null,null,null,null,null,null,null,null,null,null,null,null,null,null,null,null,null,null,null,null,null,null,null,0,null,null,null,null,null,"","","","","","","","","","","","","","","","",0,null,"","","","",0]
[{"$f":"ข้อมูลนักเรียน!B341","v":0},329,{"$f":"ข้อมูลนักเรียน!D341","v":0},null,null,null,null,null,null,null,null,null,null,null,null,null,null,null,null,null,null,null,null,null,null,null,0,null,null,null,null,null,"","","","","","","","","","","","","","","","",0,null,"","","","",0]
[{"$f":"ข้อมูลนักเรียน!B342","v":0},330,{"$f":"ข้อมูลนักเรียน!D342","v":0},null,null,null,null,null,null,null,null,null,null,null,null,null,null,null,null,null,null,null,null,null,null,null,0,null,null,null,null,null,"","","","","","","","","","","","","","","","",0,null,"","","","",0]
[{"$f":"ข้อมูลนักเรียน!B343","v":0},331,{"$f":"ข้อมูลนักเรียน!D343","v":0},null,null,null,null,null,null,null,null,null,null,null,null,null,null,null,null,null,null,null,null,null,null,null,0,null,null,null,null,null,"","","","","","","","","","","","","","","","",0,null,"","","","",0]
[{"$f":"ข้อมูลนักเรียน!B344","v":0},332,{"$f":"ข้อมูลนักเรียน!D344","v":0},null,null,null,null,null,null,null,null,null,null,null,null,null,null,null,null,null,null,null,null,null,null,null,0,null,null,null,null,null,"","","","","","","","","","","","","","","","",0,null,"","","","",0]
[{"$f":"ข้อมูลนักเรียน!B345","v":0},333,{"$f":"ข้อมูลนักเรียน!D345","v":0},null,null,null,null,null,null,null,null,null,null,null,null,null,null,null,null,null,null,null,null,null,null,null,0,null,null,null,null,null,"","","","","","","","","","","","","","","","",0,null,"","","","",0]
[{"$f":"ข้อมูลนักเรียน!B346","v":0},334,{"$f":"ข้อมูลนักเรียน!D346","v":0},null,null,null,null,null,null,null,null,null,null,null,null,null,null,null,null,null,null,null,null,null,null,null,0,null,null,null,null,null,"","","","","","","","","","","","","","","","",0,null,"","","","",0]
[{"$f":"ข้อมูลนักเรียน!B347","v":0},335,{"$f":"ข้อมูลนักเรียน!D347","v":0},null,null,null,null,null,null,null,null,null,null,null,null,null,null,null,null,null,null,null,null,null,null,null,0,null,null,null,null,null,"","","","","","","","","","","","","","","","",0,null,"","","","",0]
[{"$f":"ข้อมูลนักเรียน!B348","v":0},336,{"$f":"ข้อมูลนักเรียน!D348","v":0},null,null,null,null,null,null,null,null,null,null,null,null,null,null,null,null,null,null,null,null,null,null,null,0,null,null,null,null,null,"","","","","","","","","","","","","","","","",0,null,"","","","",0]
[{"$f":"ข้อมูลนักเรียน!B349","v":0},337,{"$f":"ข้อมูลนักเรียน!D349","v":0},null,null,null,null,null,null,null,null,null,null,null,null,null,null,null,null,null,null,null,null,null,null,null,0,null,null,null,null,null,"","","","","","","","","","","","","","","","",0,null,"","","","",0]
[{"$f":"ข้อมูลนักเรียน!B350","v":0},338,{"$f":"ข้อมูลนักเรียน!D350","v":0},null,null,null,null,null,null,null,null,null,null,null,null,null,null,null,null,null,null,null,null,null,null,null,0,null,null,null,null,null,"","","","","","","","","","","","","","","","",0,null,"","","","",0]
[{"$f":"ข้อมูลนักเรียน!B351","v":0},339,{"$f":"ข้อมูลนักเรียน!D351","v":0},null,null,null,null,null,null,null,null,null,null,null,null,null,null,null,null,null,null,null,null,null,null,null,0,null,null,null,null,null,"","","","","","","","","","","","","","","","",0,null,"","","","",0]
[{"$f":"ข้อมูลนักเรียน!B352","v":0},340,{"$f":"ข้อมูลนักเรียน!D352","v":0},null,null,null,null,null,null,null,null,null,null,null,null,null,null,null,null,null,null,null,null,null,null,null,0,null,null,null,null,null,"","","","","","","","","","","","","","","","",0,null,"","","","",0]
[{"$f":"ข้อมูลนักเรียน!B353","v":0},341,{"$f":"ข้อมูลนักเรียน!D353","v":0},null,null,null,null,null,null,null,null,null,null,null,null,null,null,null,null,null,null,null,null,null,null,null,0,null,null,null,null,null,"","","","","","","","","","","","","","","","",0,null,"","","","",0]
[{"$f":"ข้อมูลนักเรียน!B354","v":0},342,{"$f":"ข้อมูลนักเรียน!D354","v":0},null,null,null,null,null,null,null,null,null,null,null,null,null,null,null,null,null,null,null,null,null,null,null,0,null,null,null,null,null,"","","","","","","","","","","","","","","","",0,null,"","","","",0]
[{"$f":"ข้อมูลนักเรียน!B355","v":0},343,{"$f":"ข้อมูลนักเรียน!D355","v":0},null,null,null,null,null,null,null,null,null,null,null,null,null,null,null,null,null,null,null,null,null,null,null,0,null,null,null,null,null,"","","","","","","","","","","","","","","","",0,null,"","","","",0]
[{"$f":"ข้อมูลนักเรียน!B356","v":0},344,{"$f":"ข้อมูลนักเรียน!D356","v":0},null,null,null,null,null,null,null,null,null,null,null,null,null,null,null,null,null,null,null,null,null,null,null,0,null,null,null,null,null,"","","","","","","","","","","","","","","","",0,null,"","","","",0]
[{"$f":"ข้อมูลนักเรียน!B357","v":0},345,{"$f":"ข้อมูลนักเรียน!D357","v":0},null,null,null,null,null,null,null,null,null,null,null,null,null,null,null,null,null,null,null,null,null,null,null,0,null,null,null,null,null,"","","","","","","","","","","","","","","","",0,null,"","","","",0]
[{"$f":"ข้อมูลนักเรียน!B358","v":0},346,{"$f":"ข้อมูลนักเรียน!D358","v":0},null,null,null,null,null,null,null,null,null,null,null,null,null,null,null,null,null,null,null,null,null,null,null,0,null,null,null,null,null,"","","","","","","","","","","","","","","","",0,null,"","","","",0]
[{"$f":"ข้อมูลนักเรียน!B359","v":0},347,{"$f":"ข้อมูลนักเรียน!D359","v":0},null,null,null,null,null,null,null,null,null,null,null,null,null,null,null,null,null,null,null,null,null,null,null,0,null,null,null,null,null,"","","","","","","","","","","","","","","","",0,null,"","","","",0]
[{"$f":"ข้อมูลนักเรียน!B360","v":0},348,{"$f":"ข้อมูลนักเรียน!D360","v":0},null,null,null,null,null,null,null,null,null,null,null,null,null,null,null,null,null,null,null,null,null,null,null,0,null,null,null,null,null,"","","","","","","","","","","","","","","","",0,null,"","","","",0]
[{"$f":"ข้อมูลนักเรียน!B361","v":0},349,{"$f":"ข้อมูลนักเรียน!D361","v":0},null,null,null,null,null,null,null,null,null,null,null,null,null,null,null,null,null,null,null,null,null,null,null,0,null,null,null,null,null,"","","","","","","","","","","","","","","","",0,null,"","","","",0]
[{"$f":"ข้อมูลนักเรียน!B362","v":0},350,{"$f":"ข้อมูลนักเรียน!D362","v":0},null,null,null,null,null,null,null,null,null,null,null,null,null,null,null,null,null,null,null,null,null,null,null,0,null,null,null,null,null,"","","","","","","","","","","","","","","","",0,null,"","","","",0]

{"sheet":"ภาษาไทย","index":3,"n_rows":360,"n_cols":83,"rows_kept":360,"cut":false,"hidden":false,"merged":[[1,6,2,26],[7,46,7,47],[7,80,7,82],[9,2,9,5],[10,2,10,5],[11,2,11,5],[4,0,4,3],[4,42,4,44],[5,6,5,40],[6,0,6,3],[6,4,6,5],[6,6,6,40],[4,6,4,26],[7,6,7,26],[4,46,4,52],[18,2,18,5],[19,2,19,5],[20,2,20,5],[21,2,21,5],[22,2,22,5],[23,2,23,5],[12,2,12,5],[13,2,13,5],[14,2,14,5],[15,2,15,5],[16,2,16,5],[17,2,17,5],[30,2,30,5],[31,2,31,5],[32,2,32,5],[33,2,33,5],[34,2,34,5],[35,2,35,5],[24,2,24,5],[25,2,25,5],[26,2,26,5],[27,2,27,5],[28,2,28,5],[29,2,29,5],[42,2,42,5],[43,2,43,5],[44,2,44,5],[45,2,45,5],[46,2,46,5],[47,2,47,5],[36,2,36,5],[37,2,37,5],[38,2,38,5],[39,2,39,5],[40,2,40,5],[41,2,41,5],[54,2,54,5],[55,2,55,5],[56,2,56,5],[57,2,57,5],[58,2,58,5],[59,2,59,5],[48,2,48,5],[49,2,49,5],[50,2,50,5],[51,2,51,5],[52,2,52,5],[53,2,53,5],[66,2,66,5],[67,2,67,5],[68,2,68,5],[69,2,69,5],[70,2,70,5],[71,2,71,5],[60,2,60,5],[61,2,61,5],[62,2,62,5],[63,2,63,5],[64,2,64,5],[65,2,65,5],[78,2,78,5],[79,2,79,5],[80,2,80,5],[81,2,81,5],[82,2,82,5],[83,2,83,5],[72,2,72,5],[73,2,73,5],[74,2,74,5],[75,2,75,5],[76,2,76,5],[77,2,77,5],[90,2,90,5],[91,2,91,5],[92,2,92,5],[93,2,93,5],[94,2,94,5],[95,2,95,5],[84,2,84,5],[85,2,85,5],[86,2,86,5],[87,2,87,5],[88,2,88,5],[89,2,89,5],[102,2,102,5],[103,2,103,5],[104,2,104,5],[105,2,105,5],[106,2,106,5],[107,2,107,5],[96,2,96,5],[97,2,97,5],[98,2,98,5],[99,2,99,5],[100,2,100,5],[101,2,101,5],[114,2,114,5],[115,2,115,5],[116,2,116,5],[117,2,117,5],[118,2,118,5],[119,2,119,5],[108,2,108,5],[109,2,109,5],[110,2,110,5],[111,2,111,5],[112,2,112,5],[113,2,113,5],[126,2,126,5],[127,2,127,5],[128,2,128,5],[129,2,129,5],[130,2,130,5],[131,2,131,5],[120,2,120,5],[121,2,121,5],[122,2,122,5],[123,2,123,5],[124,2,124,5],[125,2,125,5],[138,2,138,5],[139,2,139,5],[140,2,140,5],[141,2,141,5],[142,2,142,5],[143,2,143,5],[132,2,132,5],[133,2,133,5],[134,2,134,5],[135,2,135,5],[136,2,136,5],[137,2,137,5],[150,2,150,5],[151,2,151,5],[152,2,152,5],[153,2,153,5],[154,2,154,5],[155,2,155,5],[144,2,144,5],[145,2,145,5],[146,2,146,5],[147,2,147,5],[148,2,148,5],[149,2,149,5],[162,2,162,5],[163,2,163,5],[164,2,164,5],[165,2,165,5],[166,2,166,5],[167,2,167,5],[156,2,156,5],[157,2,157,5],[158,2,158,5],[159,2,159,5],[160,2,160,5],[161,2,161,5],[174,2,174,5],[175,2,175,5],[176,2,176,5],[177,2,177,5],[178,2,178,5],[179,2,179,5],[168,2,168,5],[169,2,169,5],[170,2,170,5],[171,2,171,5],[172,2,172,5],[173,2,173,5],[186,2,186,5],[187,2,187,5],[188,2,188,5],[189,2,189,5],[190,2,190,5],[191,2,191,5],[180,2,180,5],[181,2,181,5],[182,2,182,5],[183,2,183,5],[184,2,184,5],[185,2,185,5],[198,2,198,5],[199,2,199,5],[200,2,200,5],[201,2,201,5],[202,2,202,5],[203,2,203,5],[192,2,192,5],[193,2,193,5],[194,2,194,5],[195,2,195,5],[196,2,196,5],[197,2,197,5],[210,2,210,5],[211,2,211,5],[212,2,212,5],[213,2,213,5],[214,2,214,5],[215,2,215,5],[204,2,204,5],[205,2,205,5],[206,2,206,5],[207,2,207,5],[208,2,208,5],[209,2,209,5],[222,2,222,5],[223,2,223,5],[224,2,224,5],[225,2,225,5],[226,2,226,5],[227,2,227,5],[216,2,216,5],[217,2,217,5],[218,2,218,5],[219,2,219,5],[220,2,220,5],[221,2,221,5],[234,2,234,5],[235,2,235,5],[236,2,236,5],[237,2,237,5],[238,2,238,5],[239,2,239,5],[228,2,228,5],[229,2,229,5],[230,2,230,5],[231,2,231,5],[232,2,232,5],[233,2,233,5],[246,2,246,5],[247,2,247,5],[248,2,248,5],[249,2,249,5],[250,2,250,5],[251,2,251,5],[240,2,240,5],[241,2,241,5],[242,2,242,5],[243,2,243,5],[244,2,244,5],[245,2,245,5],[258,2,258,5],[259,2,259,5],[260,2,260,5],[261,2,261,5],[262,2,262,5],[263,2,263,5],[252,2,252,5],[253,2,253,5],[254,2,254,5],[255,2,255,5],[256,2,256,5],[257,2,257,5],[270,2,270,5],[271,2,271,5],[272,2,272,5],[273,2,273,5],[274,2,274,5],[275,2,275,5],[264,2,264,5],[265,2,265,5],[266,2,266,5],[267,2,267,5],[268,2,268,5],[269,2,269,5],[282,2,282,5],[283,2,283,5],[284,2,284,5],[285,2,285,5],[286,2,286,5],[287,2,287,5],[276,2,276,5],[277,2,277,5],[278,2,278,5],[279,2,279,5],[280,2,280,5],[281,2,281,5],[294,2,294,5],[295,2,295,5],[296,2,296,5],[297,2,297,5],[298,2,298,5],[299,2,299,5],[288,2,288,5],[289,2,289,5],[290,2,290,5],[291,2,291,5],[292,2,292,5],[293,2,293,5],[306,2,306,5],[307,2,307,5],[308,2,308,5],[309,2,309,5],[310,2,310,5],[311,2,311,5],[300,2,300,5],[301,2,301,5],[302,2,302,5],[303,2,303,5],[304,2,304,5],[305,2,305,5],[318,2,318,5],[319,2,319,5],[320,2,320,5],[321,2,321,5],[322,2,322,5],[323,2,323,5],[312,2,312,5],[313,2,313,5],[314,2,314,5],[315,2,315,5],[316,2,316,5],[317,2,317,5],[330,2,330,5],[331,2,331,5],[332,2,332,5],[333,2,333,5],[334,2,334,5],[335,2,335,5],[324,2,324,5],[325,2,325,5],[326,2,326,5],[327,2,327,5],[328,2,328,5],[329,2,329,5],[342,2,342,5],[343,2,343,5],[344,2,344,5],[345,2,345,5],[346,2,346,5],[347,2,347,5],[336,2,336,5],[337,2,337,5],[338,2,338,5],[339,2,339,5],[340,2,340,5],[341,2,341,5],[354,2,354,5],[355,2,355,5],[356,2,356,5],[357,2,357,5],[358,2,358,5],[359,2,359,5],[348,2,348,5],[349,2,349,5],[350,2,350,5],[351,2,351,5],[352,2,352,5],[353,2,353,5]]}
[]
[null,null,null,null,null,null,"โปรแกรมตรวจข้อสอบวินิจฉัย  ชั้นประถมศึกษาปีที่ 6"]
[]
[]
["จำนวนนักเรียนที่เข้าสอบ",null,null,null,4,"คน","รายวิชาภาษาไทย",null,null,null,null,null,null,null,null,null,null,null,null,null,null,null,null,null,null,null,null,null,null,null,null,null,null,null,null,null,null,null,null,null,null,null,"สรุปการตอบข้อสอบรายข้อ",null,null,null,"การตอบข้อสอบแต่ละข้อของผู้สอบ"]
[]
["ค่าเฉลี่ยคะแนนผู้เข้าสอบเท่ากับ",null,null,null,{"$f":"IF(E5=\"\",\"\",SUM(AO11:AO360)/E5)","v":0}]
[null,null,null,null,null,null,{"$f":"\"โรงเรียน\"&ข้อมูลนักเรียน!D4","v":"โรงเรียนพิมพ์ชื่อโรงเรียน"},null,null,null,null,null,null,null,null,null,null,null,null,null,null,null,null,null,null,null,null,null,null,null,null,null,null,null,null,null,null,null,null,null,null,null,"ตอนที่ 1",null,null,null,"ตอนที่ 1",null,null,null,null,null,null,null,null,null,null,null,null,null,null,null,null,null,null,null,null,null,null,null,null,null,null,null,null,null,null,null,null,null,"ข้อสอบตอนที่ 2"]
[]
["ห้อง","ลำดับที่","ชื่อ-สกุล",null,null,null,"ข้อ 1","ข้อ 2","ข้อ 3","ข้อ 4","ข้อ 5","ข้อ 6","ข้อ 7","ข้อ 8","ข้อ 9","ข้อ 10","ข้อ 11","ข้อ 12","ข้อ 13","ข้อ 14","ข้อ 15","ข้อ 16","ข้อ 17","ข้อ 18","ข้อ 19","ข้อ 20","ข้อ 21","ข้อ 22","ข้อ 23","ข้อ 24","ข้อ 25","ข้อ 26","ข้อ 27","ข้อ 28","ข้อ 29","ข้อ 30","ข้อ 31","ข้อ 32","ข้อ 33","ข้อ 34","คะแนน",null,"ข้อที่","จำนวนผู้ตอบถูก(คน)","คิดเป็น %",null,"ข้อ 1","ข้อ 2","ข้อ 3","ข้อ 4","ข้อ 5","ข้อ 6","ข้อ 7","ข้อ 8","ข้อ 9","ข้อ 10","ข้อ 11","ข้อ 12","ข้อ 13","ข้อ 14","ข้อ 15","ข้อ 16","ข้อ 17","ข้อ 18","ข้อ 19","ข้อ 20","ข้อ 21","ข้อ 22","ข้อ 23","ข้อ 24","ข้อ 25","ข้อ 26","ข้อ 27","ข้อ 28","ข้อ 29","ข้อ 30","ข้อ 31","ข้อ 32","จำนวนข้อที่ตอบถูก",null,"ข้อ 33","ข้อ 34","คะแนนที่ตอบถูก"]
[{"$f":"ข้อมูลนักเรียน!B13","v":"1"},1,{"$f":"ข้อมูลนักเรียน!D13","v":"นายก"},null,null,null,null,null,null,null,null,null,null,null,null,null,null,null,null,null,null,null,null,null,null,null,null,null,null,null,null,null,null,null,null,null,null,null,null,null,{"$f":"SUM(IF(G11=NumTh1,ScoreTh1),IF(H11=NumTh2,ScoreTh2),IF(I11=NumTh3,ScoreTh3),IF(J11=NumTh4,ScoreTh4),IF(K11=NumTh5,ScoreTh5),IF(L11=NumTh6,ScoreTh6),IF(M11=NumTh7,ScoreTh7),IF(N11=NumTh8,ScoreTh8),IF(O11=NumTh9,ScoreTh9),IF(P11=NumTh10,ScoreTh10),IF(Q11=NumTh11,ScoreTh11),IF(R11=NumTh12,ScoreTh12),IF(S11=NumTh13,ScoreTh13),IF(T11=NumTh14,ScoreTh14),IF(U11=NumTh15,ScoreTh15),IF(V11=NumTh16,ScoreTh16),IF(W11=NumTh17,ScoreTh17),IF(X11=NumTh18,ScoreTh18),IF(Y11=NumTh19,ScoreTh19),IF(Z11=NumTh20,ScoreTh20),IF(AA11=NumTh21,ScoreTh21),IF(AB11=NumTh22,ScoreTh22),IF(AC11=NumTh23,ScoreTh23),IF(AD11=NumTh24,ScoreTh24),IF(AE11=NumTh25,ScoreTh25),IF(AF11=NumTh26,ScoreTh26),IF(AG11=NumTh27,ScoreTh27),IF(AH11=NumTh28,ScoreTh28),IF(AI11=NumTh29,ScoreTh29),IF(AJ11=NumTh30,ScoreTh30),IF(AK11=NumTh31,ScoreTh31),IF(AL11=NumTh32,ScoreTh32),AM11,AN11)","v":0},null,"ข้อ 1",{"$f":"COUNTIF(AU11:AU360,\"✓\")","v":0},{"$f":"IF($E$5=\"\",\"\",(AR11/$E$5)*100)","v":0},null,{"$f":"IF(G11=\"\",\"\",IF(G11=NumTh1,\"✓\",\"X\"))","v":""},{"$f":"IF(H11=\"\",\"\",IF(H11=NumTh2,\"✓\",\"X\"))","v":""},{"$f":"IF(I11=\"\",\"\",IF(I11=NumTh3,\"✓\",\"X\"))","v":""},{"$f":"IF(J11=\"\",\"\",IF(J11=NumTh4,\"✓\",\"X\"))","v":""},{"$f":"IF(K11=\"\",\"\",IF(K11=NumTh5,\"✓\",\"X\"))","v":""},{"$f":"IF(L11=\"\",\"\",IF(L11=NumTh6,\"✓\",\"X\"))","v":""},{"$f":"IF(M11=\"\",\"\",IF(M11=NumTh7,\"✓\",\"X\"))","v":""},{"$f":"IF(N11=\"\",\"\",IF(N11=NumTh8,\"✓\",\"X\"))","v":""},{"$f":"IF(O11=\"\",\"\",IF(O11=NumTh9,\"✓\",\"X\"))","v":""},{"$f":"IF(P11=\"\",\"\",IF(P11=NumTh10,\"✓\",\"X\"))","v":""},{"$f":"IF(Q11=\"\",\"\",IF(Q11=NumTh11,\"✓\",\"X\"))","v":""},{"$f":"IF(R11=\"\",\"\",IF(R11=NumTh12,\"✓\",\"X\"))","v":""},{"$f":"IF(S11=\"\",\"\",IF(S11=NumTh13,\"✓\",\"X\"))","v":""},{"$f":"IF(T11=\"\",\"\",IF(T11=NumTh14,\"✓\",\"X\"))","v":""},{"$f":"IF(U11=\"\",\"\",IF(U11=NumTh15,\"✓\",\"X\"))","v":""},{"$f":"IF(V11=\"\",\"\",IF(V11=NumTh16,\"✓\",\"X\"))","v":""},{"$f":"IF(W11=\"\",\"\",IF(W11=NumTh17,\"✓\",\"X\"))","v":""},{"$f":"IF(X11=\"\",\"\",IF(X11=NumTh18,\"✓\",\"X\"))","v":""},{"$f":"IF(Y11=\"\",\"\",IF(Y11=NumTh19,\"✓\",\"X\"))","v":""},{"$f":"IF(Z11=\"\",\"\",IF(Z11=NumTh20,\"✓\",\"X\"))","v":""},{"$f":"IF(AA11=\"\",\"\",IF(AA11=NumTh21,\"✓\",\"X\"))","v":""},{"$f":"IF(AB11=\"\",\"\",IF(AB11=NumTh22,\"✓\",\"X\"))","v":""},{"$f":"IF(AC11=\"\",\"\",IF(AC11=NumTh23,\"✓\",\"X\"))","v":""},{"$f":"IF(AD11=\"\",\"\",IF(AD11=NumTh24,\"✓\",\"X\"))","v":""},{"$f":"IF(AE11=\"\",\"\",IF(AE11=NumTh25,\"✓\",\"X\"))","v":""},{"$f":"IF(AF11=\"\",\"\",IF(AF11=NumTh26,\"✓\",\"X\"))","v":""},{"$f":"IF(AG11=\"\",\"\",IF(AG11=NumTh27,\"✓\",\"X\"))","v":""},{"$f":"IF(AH11=\"\",\"\",IF(AH11=NumTh28,\"✓\",\"X\"))","v":""},{"$f":"IF(AI11=\"\",\"\",IF(AI11=NumTh29,\"✓\",\"X\"))","v":""},{"$f":"IF(AJ11=\"\",\"\",IF(AJ11=NumTh30,\"✓\",\"X\"))","v":""},{"$f":"IF(AK11=\"\",\"\",IF(AK11=NumTh31,\"✓\",\"X\"))","v":""},{"$f":"IF(AL11=\"\",\"\",IF(AL11=NumTh32,\"✓\",\"X\"))","v":""},{"$f":"COUNTIF(AU11:BZ11,\"✓\")","v":0},null,{"$f":"AM11","v":0},{"$f":"AN11","v":0},{"$f":"SUM(CC11:CD11)","v":0}]
[{"$f":"ข้อมูลนักเรียน!B14","v":"1"},2,{"$f":"ข้อมูลนักเรียน!D14","v":"นายข"},null,null,null,null,null,null,null,null,null,null,null,null,null,null,null,null,null,null,null,null,null,null,null,null,null,null,null,null,null,null,null,null,null,null,null,null,null,{"$f":"SUM(IF(G12=NumTh1,ScoreTh1),IF(H12=NumTh2,ScoreTh2),IF(I12=NumTh3,ScoreTh3),IF(J12=NumTh4,ScoreTh4),IF(K12=NumTh5,ScoreTh5),IF(L12=NumTh6,ScoreTh6),IF(M12=NumTh7,ScoreTh7),IF(N12=NumTh8,ScoreTh8),IF(O12=NumTh9,ScoreTh9),IF(P12=NumTh10,ScoreTh10),IF(Q12=NumTh11,ScoreTh11),IF(R12=NumTh12,ScoreTh12),IF(S12=NumTh13,ScoreTh13),IF(T12=NumTh14,ScoreTh14),IF(U12=NumTh15,ScoreTh15),IF(V12=NumTh16,ScoreTh16),IF(W12=NumTh17,ScoreTh17),IF(X12=NumTh18,ScoreTh18),IF(Y12=NumTh19,ScoreTh19),IF(Z12=NumTh20,ScoreTh20),IF(AA12=NumTh21,ScoreTh21),IF(AB12=NumTh22,ScoreTh22),IF(AC12=NumTh23,ScoreTh23),IF(AD12=NumTh24,ScoreTh24),IF(AE12=NumTh25,ScoreTh25),IF(AF12=NumTh26,ScoreTh26),IF(AG12=NumTh27,ScoreTh27),IF(AH12=NumTh28,ScoreTh28),IF(AI12=NumTh29,ScoreTh29),IF(AJ12=NumTh30,ScoreTh30),IF(AK12=NumTh31,ScoreTh31),IF(AL12=NumTh32,ScoreTh32),AM12,AN12)","v":0},null,"ข้อ 2",{"$f":"COUNTIF(AV11:AV360,\"✓\")","v":0},{"$f":"IF($E$5=\"\",\"\",(AR12/$E$5)*100)","v":0},null,"","","","","","","","","","","","","","","","","","","","","","","","","","","","","","","",{"$f":"IF(AL12=\"\",\"\",IF(AL12=NumTh32,\"✓\",\"X\"))","v":""},0,null,{"$f":"AM12","v":0},{"$f":"AN12","v":0},{"$f":"SUM(CC12:CD12)","v":0}]
[{"$f":"ข้อมูลนักเรียน!B15","v":"1"},3,{"$f":"ข้อมูลนักเรียน!D15","v":"นายพ"},null,null,null,null,null,null,null,null,null,null,null,null,null,null,null,null,null,null,null,null,null,null,null,null,null,null,null,null,null,null,null,null,null,null,null,null,null,0,null,"ข้อ 3",{"$f":"COUNTIF(AW11:AW360,\"✓\")","v":0},0,null,"","","","","","","","","","","","","","","","","","","","","","","","","","","","","","","","",0,null,0,0,0]
[{"$f":"ข้อมูลนักเรียน!B16","v":"1"},4,{"$f":"ข้อมูลนักเรียน!D16","v":"นายขเร"},null,null,null,null,null,null,null,null,null,null,null,null,null,null,null,null,null,null,null,null,null,null,null,null,null,null,null,null,null,null,null,null,null,null,null,null,null,0,null,"ข้อ 4",{"$f":"COUNTIF(AX11:AX360,\"✓\")","v":0},0,null,"","","","","","","","","","","","","","","","","","","","","","","","","","","","","","","","",0,null,0,0,0]
[{"$f":"ข้อมูลนักเรียน!B17","v":0},5,{"$f":"ข้อมูลนักเรียน!D17","v":"นางสาว"},null,null,null,null,null,null,null,null,null,null,null,null,null,null,null,null,null,null,null,null,null,null,null,null,null,null,null,null,null,null,null,null,null,null,null,null,null,{"$f":"SUM(IF(G15=NumTh1,ScoreTh1),IF(H15=NumTh2,ScoreTh2),IF(I15=NumTh3,ScoreTh3),IF(J15=NumTh4,ScoreTh4),IF(K15=NumTh5,ScoreTh5),IF(L15=NumTh6,ScoreTh6),IF(M15=NumTh7,ScoreTh7),IF(N15=NumTh8,ScoreTh8),IF(O15=NumTh9,ScoreTh9),IF(P15=NumTh10,ScoreTh10),IF(Q15=NumTh11,ScoreTh11),IF(R15=NumTh12,ScoreTh12),IF(S15=NumTh13,ScoreTh13),IF(T15=NumTh14,ScoreTh14),IF(U15=NumTh15,ScoreTh15),IF(V15=NumTh16,ScoreTh16),IF(W15=NumTh17,ScoreTh17),IF(X15=NumTh18,ScoreTh18),IF(Y15=NumTh19,ScoreTh19),IF(Z15=NumTh20,ScoreTh20),IF(AA15=NumTh21,ScoreTh21),IF(AB15=NumTh22,ScoreTh22),IF(AC15=NumTh23,ScoreTh23),IF(AD15=NumTh24,ScoreTh24),IF(AE15=NumTh25,ScoreTh25),IF(AF15=NumTh26,ScoreTh26),IF(AG15=NumTh27,ScoreTh27),IF(AH15=NumTh28,ScoreTh28),IF(AI15=NumTh29,ScoreTh29),IF(AJ15=NumTh30,ScoreTh30),IF(AK15=NumTh31,ScoreTh31),IF(AL15=NumTh32,ScoreTh32),AM15,AN15)","v":0},null,"ข้อ 5",{"$f":"COUNTIF(AY11:AY360,\"✓\")","v":0},0,null,{"$f":"IF(G15=\"\",\"\",IF(G15=NumTh1,\"✓\",\"X\"))","v":""},{"$f":"IF(H15=\"\",\"\",IF(H15=NumTh2,\"✓\",\"X\"))","v":""},{"$f":"IF(I15=\"\",\"\",IF(I15=NumTh3,\"✓\",\"X\"))","v":""},{"$f":"IF(J15=\"\",\"\",IF(J15=NumTh4,\"✓\",\"X\"))","v":""},{"$f":"IF(K15=\"\",\"\",IF(K15=NumTh5,\"✓\",\"X\"))","v":""},{"$f":"IF(L15=\"\",\"\",IF(L15=NumTh6,\"✓\",\"X\"))","v":""},{"$f":"IF(M15=\"\",\"\",IF(M15=NumTh7,\"✓\",\"X\"))","v":""},{"$f":"IF(N15=\"\",\"\",IF(N15=NumTh8,\"✓\",\"X\"))","v":""},{"$f":"IF(O15=\"\",\"\",IF(O15=NumTh9,\"✓\",\"X\"))","v":""},{"$f":"IF(P15=\"\",\"\",IF(P15=NumTh10,\"✓\",\"X\"))","v":""},{"$f":"IF(Q15=\"\",\"\",IF(Q15=NumTh11,\"✓\",\"X\"))","v":""},{"$f":"IF(R15=\"\",\"\",IF(R15=NumTh12,\"✓\",\"X\"))","v":""},{"$f":"IF(S15=\"\",\"\",IF(S15=NumTh13,\"✓\",\"X\"))","v":""},{"$f":"IF(T15=\"\",\"\",IF(T15=NumTh14,\"✓\",\"X\"))","v":""},{"$f":"IF(U15=\"\",\"\",IF(U15=NumTh15,\"✓\",\"X\"))","v":""},{"$f":"IF(V15=\"\",\"\",IF(V15=NumTh16,\"✓\",\"X\"))","v":""},{"$f":"IF(W15=\"\",\"\",IF(W15=NumTh17,\"✓\",\"X\"))","v":""},{"$f":"IF(X15=\"\",\"\",IF(X15=NumTh18,\"✓\",\"X\"))","v":""},{"$f":"IF(Y15=\"\",\"\",IF(Y15=NumTh19,\"✓\",\"X\"))","v":""},{"$f":"IF(Z15=\"\",\"\",IF(Z15=NumTh20,\"✓\",\"X\"))","v":""},{"$f":"IF(AA15=\"\",\"\",IF(AA15=NumTh21,\"✓\",\"X\"))","v":""},{"$f":"IF(AB15=\"\",\"\",IF(AB15=NumTh22,\"✓\",\"X\"))","v":""},{"$f":"IF(AC15=\"\",\"\",IF(AC15=NumTh23,\"✓\",\"X\"))","v":""},{"$f":"IF(AD15=\"\",\"\",IF(AD15=NumTh24,\"✓\",\"X\"))","v":""},{"$f":"IF(AE15=\"\",\"\",IF(AE15=NumTh25,\"✓\",\"X\"))","v":""},{"$f":"IF(AF15=\"\",\"\",IF(AF15=NumTh26,\"✓\",\"X\"))","v":""},{"$f":"IF(AG15=\"\",\"\",IF(AG15=NumTh27,\"✓\",\"X\"))","v":""},{"$f":"IF(AH15=\"\",\"\",IF(AH15=NumTh28,\"✓\",\"X\"))","v":""},{"$f":"IF(AI15=\"\",\"\",IF(AI15=NumTh29,\"✓\",\"X\"))","v":""},{"$f":"IF(AJ15=\"\",\"\",IF(AJ15=NumTh30,\"✓\",\"X\"))","v":""},{"$f":"IF(AK15=\"\",\"\",IF(AK15=NumTh31,\"✓\",\"X\"))","v":""},{"$f":"IF(AL15=\"\",\"\",IF(AL15=NumTh32,\"✓\",\"X\"))","v":""},0,null,{"$f":"AM15","v":0},0,0]
[{"$f":"ข้อมูลนักเรียน!B18","v":0},6,{"$f":"ข้อมูลนักเรียน!D18","v":0},null,null,null,null,null,null,null,null,null,null,null,null,null,null,null,null,null,null,null,null,null,null,null,null,null,null,null,null,null,null,null,null,null,null,null,null,null,0,null,"ข้อ 6",{"$f":"COUNTIF(AZ11:AZ360,\"✓\")","v":0},0,null,"","","","","","","","","","","","","","","","","","","","","","","","","","","","","","","","",0,null,0,0,0]
[{"$f":"ข้อมูลนักเรียน!B19","v":0},7,{"$f":"ข้อมูลนักเรียน!D19","v":0},null,null,null,null,null,null,null,null,null,null,null,null,null,null,null,null,null,null,null,null,null,null,null,null,null,null,null,null,null,null,null,null,null,null,null,null,null,0,null,"ข้อ 7",{"$f":"COUNTIF(BA11:BA360,\"✓\")","v":0},0,null,"","","","","","","","","","","","","","","","","","","","","","","","","","","","","","","","",0,null,0,0,0]
[{"$f":"ข้อมูลนักเรียน!B20","v":0},8,{"$f":"ข้อมูลนักเรียน!D20","v":0},null,null,null,null,null,null,null,null,null,null,null,null,null,null,null,null,null,null,null,null,null,null,null,null,null,null,null,null,null,null,null,null,null,null,null,null,null,0,null,"ข้อ 8",{"$f":"COUNTIF(BB11:BB360,\"✓\")","v":0},0,null,"","","","","","","","","","","","","","","","","","","","","","","","","","","","","","","","",0,null,0,0,0]
[{"$f":"ข้อมูลนักเรียน!B21","v":0},9,{"$f":"ข้อมูลนักเรียน!D21","v":0},null,null,null,null,null,null,null,null,null,null,null,null,null,null,null,null,null,null,null,null,null,null,null,null,null,null,null,null,null,null,null,null,null,null,null,null,null,0,null,"ข้อ 9",{"$f":"COUNTIF(BC11:BC360,\"✓\")","v":0},0,null,"","","","","","","","","","","","","","","","","","","","","","","","","","","","","","","","",0,null,0,0,0]
[{"$f":"ข้อมูลนักเรียน!B22","v":0},10,{"$f":"ข้อมูลนักเรียน!D22","v":0},null,null,null,null,null,null,null,null,null,null,null,null,null,null,null,null,null,null,null,null,null,null,null,null,null,null,null,null,null,null,null,null,null,null,null,null,null,0,null,"ข้อ 10",{"$f":"COUNTIF(BD11:BD360,\"✓\")","v":0},0,null,"","","","","","","","","","","","","","","","","","","","","","","","","","","","","","","","",0,null,0,0,0]
[{"$f":"ข้อมูลนักเรียน!B23","v":0},11,{"$f":"ข้อมูลนักเรียน!D23","v":0},null,null,null,null,null,null,null,null,null,null,null,null,null,null,null,null,null,null,null,null,null,null,null,null,null,null,null,null,null,null,null,null,null,null,null,null,null,0,null,"ข้อ 11",{"$f":"COUNTIF(BE11:BE360,\"✓\")","v":0},0,null,"","","","","","","","","","","","","","","","","","","","","","","","","","","","","","","","",0,null,0,0,0]
[{"$f":"ข้อมูลนักเรียน!B24","v":0},12,{"$f":"ข้อมูลนักเรียน!D24","v":0},null,null,null,null,null,null,null,null,null,null,null,null,null,null,null,null,null,null,null,null,null,null,null,null,null,null,null,null,null,null,null,null,null,null,null,null,null,0,null,"ข้อ 12",{"$f":"COUNTIF(BF11:BF360,\"✓\")","v":0},0,null,"","","","","","","","","","","","","","","","","","","","","","","","","","","","","","","","",0,null,0,0,0]
[{"$f":"ข้อมูลนักเรียน!B25","v":0},13,{"$f":"ข้อมูลนักเรียน!D25","v":0},null,null,null,null,null,null,null,null,null,null,null,null,null,null,null,null,null,null,null,null,null,null,null,null,null,null,null,null,null,null,null,null,null,null,null,null,null,0,null,"ข้อ 13",{"$f":"COUNTIF(BG11:BG360,\"✓\")","v":0},0,null,"","","","","","","","","","","","","","","","","","","","","","","","","","","","","","","","",0,null,0,0,0]
[{"$f":"ข้อมูลนักเรียน!B26","v":0},14,{"$f":"ข้อมูลนักเรียน!D26","v":0},null,null,null,null,null,null,null,null,null,null,null,null,null,null,null,null,null,null,null,null,null,null,null,null,null,null,null,null,null,null,null,null,null,null,null,null,null,0,null,"ข้อ 14",{"$f":"COUNTIF(BH11:BH360,\"✓\")","v":0},0,null,"","","","","","","","","","","","","","","","","","","","","","","","","","","","","","","","",0,null,0,0,0]
[{"$f":"ข้อมูลนักเรียน!B27","v":0},15,{"$f":"ข้อมูลนักเรียน!D27","v":0},null,null,null,null,null,null,null,null,null,null,null,null,null,null,null,null,null,null,null,null,null,null,null,null,null,null,null,null,null,null,null,null,null,null,null,null,null,0,null,"ข้อ 15",{"$f":"COUNTIF(BI11:BI360,\"✓\")","v":0},0,null,"","","","","","","","","","","","","","","","","","","","","","","","","","","","","","","","",0,null,0,0,0]
[{"$f":"ข้อมูลนักเรียน!B28","v":0},16,{"$f":"ข้อมูลนักเรียน!D28","v":0},null,null,null,null,null,null,null,null,null,null,null,null,null,null,null,null,null,null,null,null,null,null,null,null,null,null,null,null,null,null,null,null,null,null,null,null,null,0,null,"ข้อ 16",{"$f":"COUNTIF(BJ11:BJ360,\"✓\")","v":0},0,null,"","","","","","","","","","","","","","","","","","","","","","","","","","","","","","","","",0,null,0,0,0]
[{"$f":"ข้อมูลนักเรียน!B29","v":0},17,{"$f":"ข้อมูลนักเรียน!D29","v":0},null,null,null,null,null,null,null,null,null,null,null,null,null,null,null,null,null,null,null,null,null,null,null,null,null,null,null,null,null,null,null,null,null,null,null,null,null,0,null,"ข้อ 17",{"$f":"COUNTIF(BK11:BK360,\"✓\")","v":0},0,null,"","","","","","","","","","","","","","","","","","","","","","","","","","","","","","","","",0,null,0,0,0]
[{"$f":"ข้อมูลนักเรียน!B30","v":0},18,{"$f":"ข้อมูลนักเรียน!D30","v":0},null,null,null,null,null,null,null,null,null,null,null,null,null,null,null,null,null,null,null,null,null,null,null,null,null,null,null,null,null,null,null,null,null,null,null,null,null,0,null,"ข้อ 18",{"$f":"COUNTIF(BL11:BL360,\"✓\")","v":0},0,null,"","","","","","","","","","","","","","","","","","","","","","","","","","","","","","","","",0,null,0,0,0]
[{"$f":"ข้อมูลนักเรียน!B31","v":0},19,{"$f":"ข้อมูลนักเรียน!D31","v":0},null,null,null,null,null,null,null,null,null,null,null,null,null,null,null,null,null,null,null,null,null,null,null,null,null,null,null,null,null,null,null,null,null,null,null,null,null,0,null,"ข้อ 19",{"$f":"COUNTIF(BM11:BM360,\"✓\")","v":0},0,null,"","","","","","","","","","","","","","","","","","","","","","","","","","","","","","","","",0,null,0,0,0]
[{"$f":"ข้อมูลนักเรียน!B32","v":0},20,{"$f":"ข้อมูลนักเรียน!D32","v":0},null,null,null,null,null,null,null,null,null,null,null,null,null,null,null,null,null,null,null,null,null,null,null,null,null,null,null,null,null,null,null,null,null,null,null,null,null,0,null,"ข้อ 20",{"$f":"COUNTIF(BN11:BN360,\"✓\")","v":0},0,null,"","","","","","","","","","","","","","","","","","","","","","","","","","","","","","","","",0,null,0,0,0]
[{"$f":"ข้อมูลนักเรียน!B33","v":0},21,{"$f":"ข้อมูลนักเรียน!D33","v":0},null,null,null,null,null,null,null,null,null,null,null,null,null,null,null,null,null,null,null,null,null,null,null,null,null,null,null,null,null,null,null,null,null,null,null,null,null,0,null,"ข้อ 21",{"$f":"COUNTIF(BO11:BO360,\"✓\")","v":0},0,null,"","","","","","","","","","","","","","","","","","","","","","","","","","","","","","","","",0,null,0,0,0]
[{"$f":"ข้อมูลนักเรียน!B34","v":0},22,{"$f":"ข้อมูลนักเรียน!D34","v":0},null,null,null,null,null,null,null,null,null,null,null,null,null,null,null,null,null,null,null,null,null,null,null,null,null,null,null,null,null,null,null,null,null,null,null,null,null,0,null,"ข้อ 22",{"$f":"COUNTIF(BP11:BP360,\"✓\")","v":0},0,null,"","","","","","","","","","","","","","","","","","","","","","","","","","","","","","","","",0,null,0,0,0]
[{"$f":"ข้อมูลนักเรียน!B35","v":0},23,{"$f":"ข้อมูลนักเรียน!D35","v":0},null,null,null,null,null,null,null,null,null,null,null,null,null,null,null,null,null,null,null,null,null,null,null,null,null,null,null,null,null,null,null,null,null,null,null,null,null,0,null,"ข้อ 23",{"$f":"COUNTIF(BQ11:BQ360,\"✓\")","v":0},0,null,"","","","","","","","","","","","","","","","","","","","","","","","","","","","","","","","",0,null,0,0,0]
[{"$f":"ข้อมูลนักเรียน!B36","v":0},24,{"$f":"ข้อมูลนักเรียน!D36","v":0},null,null,null,null,null,null,null,null,null,null,null,null,null,null,null,null,null,null,null,null,null,null,null,null,null,null,null,null,null,null,null,null,null,null,null,null,null,0,null,"ข้อ 24",{"$f":"COUNTIF(BR11:BR360,\"✓\")","v":0},0,null,"","","","","","","","","","","","","","","","","","","","","","","","","","","","","","","","",0,null,0,0,0]
[{"$f":"ข้อมูลนักเรียน!B37","v":0},25,{"$f":"ข้อมูลนักเรียน!D37","v":0},null,null,null,null,null,null,null,null,null,null,null,null,null,null,null,null,null,null,null,null,null,null,null,null,null,null,null,null,null,null,null,null,null,null,null,null,null,0,null,"ข้อ 25",{"$f":"COUNTIF(BS11:BS360,\"✓\")","v":0},0,null,"","","","","","","","","","","","","","","","","","","","","","","","","","","","","","","","",0,null,0,0,0]
[{"$f":"ข้อมูลนักเรียน!B38","v":0},26,{"$f":"ข้อมูลนักเรียน!D38","v":0},null,null,null,null,null,null,null,null,null,null,null,null,null,null,null,null,null,null,null,null,null,null,null,null,null,null,null,null,null,null,null,null,null,null,null,null,null,0,null,"ข้อ 26",{"$f":"COUNTIF(BT11:BT360,\"✓\")","v":0},0,null,"","","","","","","","","","","","","","","","","","","","","","","","","","","","","","","","",0,null,0,0,0]
[{"$f":"ข้อมูลนักเรียน!B39","v":0},27,{"$f":"ข้อมูลนักเรียน!D39","v":0},null,null,null,null,null,null,null,null,null,null,null,null,null,null,null,null,null,null,null,null,null,null,null,null,null,null,null,null,null,null,null,null,null,null,null,null,null,0,null,"ข้อ 27",{"$f":"COUNTIF(BU11:BU360,\"✓\")","v":0},0,null,"","","","","","","","","","","","","","","","","","","","","","","","","","","","","","","","",0,null,0,0,0]
[{"$f":"ข้อมูลนักเรียน!B40","v":0},28,{"$f":"ข้อมูลนักเรียน!D40","v":0},null,null,null,null,null,null,null,null,null,null,null,null,null,null,null,null,null,null,null,null,null,null,null,null,null,null,null,null,null,null,null,null,null,null,null,null,null,0,null,"ข้อ 28",{"$f":"COUNTIF(BV11:BV360,\"✓\")","v":0},0,null,"","","","","","","","","","","","","","","","","","","","","","","","","","","","","","","","",0,null,0,0,0]
[{"$f":"ข้อมูลนักเรียน!B41","v":0},29,{"$f":"ข้อมูลนักเรียน!D41","v":0},null,null,null,null,null,null,null,null,null,null,null,null,null,null,null,null,null,null,null,null,null,null,null,null,null,null,null,null,null,null,null,null,null,null,null,null,null,0,null,"ข้อ 29",{"$f":"COUNTIF(BW11:BW360,\"✓\")","v":0},0,null,"","","","","","","","","","","","","","","","","","","","","","","","","","","","","","","","",0,null,0,0,0]
[{"$f":"ข้อมูลนักเรียน!B42","v":0},30,{"$f":"ข้อมูลนักเรียน!D42","v":0},null,null,null,null,null,null,null,null,null,null,null,null,null,null,null,null,null,null,null,null,null,null,null,null,null,null,null,null,null,null,null,null,null,null,null,null,null,0,null,"ข้อ 30",{"$f":"COUNTIF(BX11:BX360,\"✓\")","v":0},0,null,"","","","","","","","","","","","","","","","","","","","","","","","","","","","","","","","",0,null,0,0,0]
[{"$f":"ข้อมูลนักเรียน!B43","v":0},31,{"$f":"ข้อมูลนักเรียน!D43","v":0},null,null,null,null,null,null,null,null,null,null,null,null,null,null,null,null,null,null,null,null,null,null,null,null,null,null,null,null,null,null,null,null,null,null,null,null,null,0,null,"ข้อ 31",{"$f":"COUNTIF(BY11:BY360,\"✓\")","v":0},0,null,"","","","","","","","","","","","","","","","","","","","","","","","","","","","","","","","",0,null,0,0,0]
[{"$f":"ข้อมูลนักเรียน!B44","v":0},32,{"$f":"ข้อมูลนักเรียน!D44","v":0},null,null,null,null,null,null,null,null,null,null,null,null,null,null,null,null,null,null,null,null,null,null,null,null,null,null,null,null,null,null,null,null,null,null,null,null,null,0,null,"ข้อ 32",{"$f":"COUNTIF(BZ11:BZ360,\"✓\")","v":0},0,null,"","","","","","","","","","","","","","","","","","","","","","","","","","","","","","","","",0,null,0,0,0]
[{"$f":"ข้อมูลนักเรียน!B45","v":0},33,{"$f":"ข้อมูลนักเรียน!D45","v":0},null,null,null,null,null,null,null,null,null,null,null,null,null,null,null,null,null,null,null,null,null,null,null,null,null,null,null,null,null,null,null,null,null,null,null,null,null,0,null,null,null,null,null,"","","","","","","","","","","","","","","","","","","","","","","","","","","","","","","","",0,null,0,0,0]
[{"$f":"ข้อมูลนักเรียน!B46","v":0},34,{"$f":"ข้อมูลนักเรียน!D46","v":0},null,null,null,null,null,null,null,null,null,null,null,null,null,null,null,null,null,null,null,null,null,null,null,null,null,null,null,null,null,null,null,null,null,null,null,null,null,0,null,"ตอนที่ 2",null,null,null,"","","","","","","","","","","","","","","","","","","","","","","","","","","","","","","","",0,null,0,0,0]
[{"$f":"ข้อมูลนักเรียน!B47","v":0},35,{"$f":"ข้อมูลนักเรียน!D47","v":0},null,null,null,null,null,null,null,null,null,null,null,null,null,null,null,null,null,null,null,null,null,null,null,null,null,null,null,null,null,null,null,null,null,null,null,null,null,0,null,"ข้อที่","คะแนนเฉลี่ย",null,null,"","","","","","","","","","","","","","","","","","","","","","","","","","","","","","","","",0,null,0,0,0]
[{"$f":"ข้อมูลนักเรียน!B48","v":0},36,{"$f":"ข้อมูลนักเรียน!D48","v":0},null,null,null,null,null,null,null,null,null,null,null,null,null,null,null,null,null,null,null,null,null,null,null,null,null,null,null,null,null,null,null,null,null,null,null,null,null,0,null,"ข้อ 33",{"$f":"(SUM(CC11:CC360)/$E$5)","v":0},null,null,"","","","","","","","","","","","","","","","","","","","","","","","","","","","","","","","",0,null,0,0,0]
[{"$f":"ข้อมูลนักเรียน!B49","v":0},37,{"$f":"ข้อมูลนักเรียน!D49","v":0},null,null,null,null,null,null,null,null,null,null,null,null,null,null,null,null,null,null,null,null,null,null,null,null,null,null,null,null,null,null,null,null,null,null,null,null,null,0,null,"ข้อ 34",{"$f":"(SUM(CD11:CD360)/$E$5)","v":0},null,null,"","","","","","","","","","","","","","","","","","","","","","","","","","","","","","","","",0,null,0,0,0]
[{"$f":"ข้อมูลนักเรียน!B50","v":0},38,{"$f":"ข้อมูลนักเรียน!D50","v":0},null,null,null,null,null,null,null,null,null,null,null,null,null,null,null,null,null,null,null,null,null,null,null,null,null,null,null,null,null,null,null,null,null,null,null,null,null,0,null,null,null,null,null,"","","","","","","","","","","","","","","","","","","","","","","","","","","","","","","","",0,null,0,0,0]
[{"$f":"ข้อมูลนักเรียน!B51","v":0},39,{"$f":"ข้อมูลนักเรียน!D51","v":0},null,null,null,null,null,null,null,null,null,null,null,null,null,null,null,null,null,null,null,null,null,null,null,null,null,null,null,null,null,null,null,null,null,null,null,null,null,0,null,null,null,null,null,"","","","","","","","","","","","","","","","","","","","","","","","","","","","","","","","",0,null,0,0,0]
[{"$f":"ข้อมูลนักเรียน!B52","v":0},40,{"$f":"ข้อมูลนักเรียน!D52","v":0},null,null,null,null,null,null,null,null,null,null,null,null,null,null,null,null,null,null,null,null,null,null,null,null,null,null,null,null,null,null,null,null,null,null,null,null,null,0,null,null,null,null,null,"","","","","","","","","","","","","","","","","","","","","","","","","","","","","","","","",0,null,0,0,0]
[{"$f":"ข้อมูลนักเรียน!B53","v":0},41,{"$f":"ข้อมูลนักเรียน!D53","v":0},null,null,null,null,null,null,null,null,null,null,null,null,null,null,null,null,null,null,null,null,null,null,null,null,null,null,null,null,null,null,null,null,null,null,null,null,null,0,null,null,null,null,null,"","","","","","","","","","","","","","","","","","","","","","","","","","","","","","","","",0,null,0,0,0]
[{"$f":"ข้อมูลนักเรียน!B54","v":0},42,{"$f":"ข้อมูลนักเรียน!D54","v":0},null,null,null,null,null,null,null,null,null,null,null,null,null,null,null,null,null,null,null,null,null,null,null,null,null,null,null,null,null,null,null,null,null,null,null,null,null,0,null,null,null,null,null,"","","","","","","","","","","","","","","","","","","","","","","","","","","","","","","","",0,null,0,0,0]
[{"$f":"ข้อมูลนักเรียน!B55","v":0},43,{"$f":"ข้อมูลนักเรียน!D55","v":0},null,null,null,null,null,null,null,null,null,null,null,null,null,null,null,null,null,null,null,null,null,null,null,null,null,null,null,null,null,null,null,null,null,null,null,null,null,0,null,null,null,null,null,"","","","","","","","","","","","","","","","","","","","","","","","","","","","","","","","",0,null,0,0,0]
[{"$f":"ข้อมูลนักเรียน!B56","v":0},44,{"$f":"ข้อมูลนักเรียน!D56","v":0},null,null,null,null,null,null,null,null,null,null,null,null,null,null,null,null,null,null,null,null,null,null,null,null,null,null,null,null,null,null,null,null,null,null,null,null,null,0,null,null,null,null,null,"","","","","","","","","","","","","","","","","","","","","","","","","","","","","","","","",0,null,0,0,0]
[{"$f":"ข้อมูลนักเรียน!B57","v":0},45,{"$f":"ข้อมูลนักเรียน!D57","v":0},null,null,null,null,null,null,null,null,null,null,null,null,null,null,null,null,null,null,null,null,null,null,null,null,null,null,null,null,null,null,null,null,null,null,null,null,null,0,null,null,null,null,null,"","","","","","","","","","","","","","","","","","","","","","","","","","","","","","","","",0,null,0,0,0]
[{"$f":"ข้อมูลนักเรียน!B58","v":0},46,{"$f":"ข้อมูลนักเรียน!D58","v":0},null,null,null,null,null,null,null,null,null,null,null,null,null,null,null,null,null,null,null,null,null,null,null,null,null,null,null,null,null,null,null,null,null,null,null,null,null,0,null,null,null,null,null,"","","","","","","","","","","","","","","","","","","","","","","","","","","","","","","","",0,null,0,0,0]
[{"$f":"ข้อมูลนักเรียน!B59","v":0},47,{"$f":"ข้อมูลนักเรียน!D59","v":0},null,null,null,null,null,null,null,null,null,null,null,null,null,null,null,null,null,null,null,null,null,null,null,null,null,null,null,null,null,null,null,null,null,null,null,null,null,0,null,null,null,null,null,"","","","","","","","","","","","","","","","","","","","","","","","","","","","","","","","",0,null,0,0,0]
[{"$f":"ข้อมูลนักเรียน!B60","v":0},48,{"$f":"ข้อมูลนักเรียน!D60","v":0},null,null,null,null,null,null,null,null,null,null,null,null,null,null,null,null,null,null,null,null,null,null,null,null,null,null,null,null,null,null,null,null,null,null,null,null,null,0,null,null,null,null,null,"","","","","","","","","","","","","","","","","","","","","","","","","","","","","","","","",0,null,0,0,0]
[{"$f":"ข้อมูลนักเรียน!B61","v":0},49,{"$f":"ข้อมูลนักเรียน!D61","v":0},null,null,null,null,null,null,null,null,null,null,null,null,null,null,null,null,null,null,null,null,null,null,null,null,null,null,null,null,null,null,null,null,null,null,null,null,null,0,null,null,null,null,null,"","","","","","","","","","","","","","","","","","","","","","","","","","","","","","","","",0,null,0,0,0]
[{"$f":"ข้อมูลนักเรียน!B62","v":0},50,{"$f":"ข้อมูลนักเรียน!D62","v":0},null,null,null,null,null,null,null,null,null,null,null,null,null,null,null,null,null,null,null,null,null,null,null,null,null,null,null,null,null,null,null,null,null,null,null,null,null,0,null,null,null,null,null,"","","","","","","","","","","","","","","","","","","","","","","","","","","","","","","","",0,null,0,0,0]
[{"$f":"ข้อมูลนักเรียน!B63","v":0},51,{"$f":"ข้อมูลนักเรียน!D63","v":0},null,null,null,null,null,null,null,null,null,null,null,null,null,null,null,null,null,null,null,null,null,null,null,null,null,null,null,null,null,null,null,null,null,null,null,null,null,0,null,null,null,null,null,"","","","","","","","","","","","","","","","","","","","","","","","","","","","","","","","",0,null,0,0,0]
[{"$f":"ข้อมูลนักเรียน!B64","v":0},52,{"$f":"ข้อมูลนักเรียน!D64","v":0},null,null,null,null,null,null,null,null,null,null,null,null,null,null,null,null,null,null,null,null,null,null,null,null,null,null,null,null,null,null,null,null,null,null,null,null,null,0,null,null,null,null,null,"","","","","","","","","","","","","","","","","","","","","","","","","","","","","","","","",0,null,0,0,0]
[{"$f":"ข้อมูลนักเรียน!B65","v":0},53,{"$f":"ข้อมูลนักเรียน!D65","v":0},null,null,null,null,null,null,null,null,null,null,null,null,null,null,null,null,null,null,null,null,null,null,null,null,null,null,null,null,null,null,null,null,null,null,null,null,null,0,null,null,null,null,null,"","","","","","","","","","","","","","","","","","","","","","","","","","","","","","","","",0,null,0,0,0]
[{"$f":"ข้อมูลนักเรียน!B66","v":0},54,{"$f":"ข้อมูลนักเรียน!D66","v":0},null,null,null,null,null,null,null,null,null,null,null,null,null,null,null,null,null,null,null,null,null,null,null,null,null,null,null,null,null,null,null,null,null,null,null,null,null,0,null,null,null,null,null,"","","","","","","","","","","","","","","","","","","","","","","","","","","","","","","","",0,null,0,0,0]
[{"$f":"ข้อมูลนักเรียน!B67","v":0},55,{"$f":"ข้อมูลนักเรียน!D67","v":0},null,null,null,null,null,null,null,null,null,null,null,null,null,null,null,null,null,null,null,null,null,null,null,null,null,null,null,null,null,null,null,null,null,null,null,null,null,0,null,null,null,null,null,"","","","","","","","","","","","","","","","","","","","","","","","","","","","","","","","",0,null,0,0,0]
[{"$f":"ข้อมูลนักเรียน!B68","v":0},56,{"$f":"ข้อมูลนักเรียน!D68","v":0},null,null,null,null,null,null,null,null,null,null,null,null,null,null,null,null,null,null,null,null,null,null,null,null,null,null,null,null,null,null,null,null,null,null,null,null,null,0,null,null,null,null,null,"","","","","","","","","","","","","","","","","","","","","","","","","","","","","","","","",0,null,0,0,0]
[{"$f":"ข้อมูลนักเรียน!B69","v":0},57,{"$f":"ข้อมูลนักเรียน!D69","v":0},null,null,null,null,null,null,null,null,null,null,null,null,null,null,null,null,null,null,null,null,null,null,null,null,null,null,null,null,null,null,null,null,null,null,null,null,null,0,null,null,null,null,null,"","","","","","","","","","","","","","","","","","","","","","","","","","","","","","","","",0,null,0,0,0]
[{"$f":"ข้อมูลนักเรียน!B70","v":0},58,{"$f":"ข้อมูลนักเรียน!D70","v":0},null,null,null,null,null,null,null,null,null,null,null,null,null,null,null,null,null,null,null,null,null,null,null,null,null,null,null,null,null,null,null,null,null,null,null,null,null,0,null,null,null,null,null,"","","","","","","","","","","","","","","","","","","","","","","","","","","","","","","","",0,null,0,0,0]
[{"$f":"ข้อมูลนักเรียน!B71","v":0},59,{"$f":"ข้อมูลนักเรียน!D71","v":0},null,null,null,null,null,null,null,null,null,null,null,null,null,null,null,null,null,null,null,null,null,null,null,null,null,null,null,null,null,null,null,null,null,null,null,null,null,0,null,null,null,null,null,"","","","","","","","","","","","","","","","","","","","","","","","","","","","","","","","",0,null,0,0,0]
[{"$f":"ข้อมูลนักเรียน!B72","v":0},60,{"$f":"ข้อมูลนักเรียน!D72","v":0},null,null,null,null,null,null,null,null,null,null,null,null,null,null,null,null,null,null,null,null,null,null,null,null,null,null,null,null,null,null,null,null,null,null,null,null,null,0,null,null,null,null,null,"","","","","","","","","","","","","","","","","","","","","","","","","","","","","","","","",0,null,0,0,0]
[{"$f":"ข้อมูลนักเรียน!B73","v":0},61,{"$f":"ข้อมูลนักเรียน!D73","v":0},null,null,null,null,null,null,null,null,null,null,null,null,null,null,null,null,null,null,null,null,null,null,null,null,null,null,null,null,null,null,null,null,null,null,null,null,null,0,null,null,null,null,null,"","","","","","","","","","","","","","","","","","","","","","","","","","","","","","","","",0,null,0,0,0]
[{"$f":"ข้อมูลนักเรียน!B74","v":0},62,{"$f":"ข้อมูลนักเรียน!D74","v":0},null,null,null,null,null,null,null,null,null,null,null,null,null,null,null,null,null,null,null,null,null,null,null,null,null,null,null,null,null,null,null,null,null,null,null,null,null,0,null,null,null,null,null,"","","","","","","","","","","","","","","","","","","","","","","","","","","","","","","","",0,null,0,0,0]
[{"$f":"ข้อมูลนักเรียน!B75","v":0},63,{"$f":"ข้อมูลนักเรียน!D75","v":0},null,null,null,null,null,null,null,null,null,null,null,null,null,null,null,null,null,null,null,null,null,null,null,null,null,null,null,null,null,null,null,null,null,null,null,null,null,0,null,null,null,null,null,"","","","","","","","","","","","","","","","","","","","","","","","","","","","","","","","",0,null,0,0,0]
[{"$f":"ข้อมูลนักเรียน!B76","v":0},64,{"$f":"ข้อมูลนักเรียน!D76","v":0},null,null,null,null,null,null,null,null,null,null,null,null,null,null,null,null,null,null,null,null,null,null,null,null,null,null,null,null,null,null,null,null,null,null,null,null,null,0,null,null,null,null,null,"","","","","","","","","","","","","","","","","","","","","","","","","","","","","","","","",0,null,0,0,0]
[{"$f":"ข้อมูลนักเรียน!B77","v":0},65,{"$f":"ข้อมูลนักเรียน!D77","v":0},null,null,null,null,null,null,null,null,null,null,null,null,null,null,null,null,null,null,null,null,null,null,null,null,null,null,null,null,null,null,null,null,null,null,null,null,null,{"$f":"SUM(IF(G75=NumTh1,ScoreTh1),IF(H75=NumTh2,ScoreTh2),IF(I75=NumTh3,ScoreTh3),IF(J75=NumTh4,ScoreTh4),IF(K75=NumTh5,ScoreTh5),IF(L75=NumTh6,ScoreTh6),IF(M75=NumTh7,ScoreTh7),IF(N75=NumTh8,ScoreTh8),IF(O75=NumTh9,ScoreTh9),IF(P75=NumTh10,ScoreTh10),IF(Q75=NumTh11,ScoreTh11),IF(R75=NumTh12,ScoreTh12),IF(S75=NumTh13,ScoreTh13),IF(T75=NumTh14,ScoreTh14),IF(U75=NumTh15,ScoreTh15),IF(V75=NumTh16,ScoreTh16),IF(W75=NumTh17,ScoreTh17),IF(X75=NumTh18,ScoreTh18),IF(Y75=NumTh19,ScoreTh19),IF(Z75=NumTh20,ScoreTh20),IF(AA75=NumTh21,ScoreTh21),IF(AB75=NumTh22,ScoreTh22),IF(AC75=NumTh23,ScoreTh23),IF(AD75=NumTh24,ScoreTh24),IF(AE75=NumTh25,ScoreTh25),IF(AF75=NumTh26,ScoreTh26),IF(AG75=NumTh27,ScoreTh27),IF(AH75=NumTh28,ScoreTh28),IF(AI75=NumTh29,ScoreTh29),IF(AJ75=NumTh30,ScoreTh30),IF(AK75=NumTh31,ScoreTh31),IF(AL75=NumTh32,ScoreTh32),AM75,AN75)","v":0},null,null,null,null,null,{"$f":"IF(G75=\"\",\"\",IF(G75=NumTh1,\"✓\",\"X\"))","v":""},{"$f":"IF(H75=\"\",\"\",IF(H75=NumTh2,\"✓\",\"X\"))","v":""},{"$f":"IF(I75=\"\",\"\",IF(I75=NumTh3,\"✓\",\"X\"))","v":""},{"$f":"IF(J75=\"\",\"\",IF(J75=NumTh4,\"✓\",\"X\"))","v":""},{"$f":"IF(K75=\"\",\"\",IF(K75=NumTh5,\"✓\",\"X\"))","v":""},{"$f":"IF(L75=\"\",\"\",IF(L75=NumTh6,\"✓\",\"X\"))","v":""},{"$f":"IF(M75=\"\",\"\",IF(M75=NumTh7,\"✓\",\"X\"))","v":""},{"$f":"IF(N75=\"\",\"\",IF(N75=NumTh8,\"✓\",\"X\"))","v":""},{"$f":"IF(O75=\"\",\"\",IF(O75=NumTh9,\"✓\",\"X\"))","v":""},{"$f":"IF(P75=\"\",\"\",IF(P75=NumTh10,\"✓\",\"X\"))","v":""},{"$f":"IF(Q75=\"\",\"\",IF(Q75=NumTh11,\"✓\",\"X\"))","v":""},{"$f":"IF(R75=\"\",\"\",IF(R75=NumTh12,\"✓\",\"X\"))","v":""},{"$f":"IF(S75=\"\",\"\",IF(S75=NumTh13,\"✓\",\"X\"))","v":""},{"$f":"IF(T75=\"\",\"\",IF(T75=NumTh14,\"✓\",\"X\"))","v":""},{"$f":"IF(U75=\"\",\"\",IF(U75=NumTh15,\"✓\",\"X\"))","v":""},{"$f":"IF(V75=\"\",\"\",IF(V75=NumTh16,\"✓\",\"X\"))","v":""},{"$f":"IF(W75=\"\",\"\",IF(W75=NumTh17,\"✓\",\"X\"))","v":""},{"$f":"IF(X75=\"\",\"\",IF(X75=NumTh18,\"✓\",\"X\"))","v":""},{"$f":"IF(Y75=\"\",\"\",IF(Y75=NumTh19,\"✓\",\"X\"))","v":""},{"$f":"IF(Z75=\"\",\"\",IF(Z75=NumTh20,\"✓\",\"X\"))","v":""},{"$f":"IF(AA75=\"\",\"\",IF(AA75=NumTh21,\"✓\",\"X\"))","v":""},{"$f":"IF(AB75=\"\",\"\",IF(AB75=NumTh22,\"✓\",\"X\"))","v":""},{"$f":"IF(AC75=\"\",\"\",IF(AC75=NumTh23,\"✓\",\"X\"))","v":""},{"$f":"IF(AD75=\"\",\"\",IF(AD75=NumTh24,\"✓\",\"X\"))","v":""},{"$f":"IF(AE75=\"\",\"\",IF(AE75=NumTh25,\"✓\",\"X\"))","v":""},{"$f":"IF(AF75=\"\",\"\",IF(AF75=NumTh26,\"✓\",\"X\"))","v":""},{"$f":"IF(AG75=\"\",\"\",IF(AG75=NumTh27,\"✓\",\"X\"))","v":""},{"$f":"IF(AH75=\"\",\"\",IF(AH75=NumTh28,\"✓\",\"X\"))","v":""},{"$f":"IF(AI75=\"\",\"\",IF(AI75=NumTh29,\"✓\",\"X\"))","v":""},{"$f":"IF(AJ75=\"\",\"\",IF(AJ75=NumTh30,\"✓\",\"X\"))","v":""},{"$f":"IF(AK75=\"\",\"\",IF(AK75=NumTh31,\"✓\",\"X\"))","v":""},{"$f":"IF(AL75=\"\",\"\",IF(AL75=NumTh32,\"✓\",\"X\"))","v":""},{"$f":"COUNTIF(AU75:BZ75,\"✓\")","v":0},null,0,0,0]
[{"$f":"ข้อมูลนักเรียน!B78","v":0},66,{"$f":"ข้อมูลนักเรียน!D78","v":0},null,null,null,null,null,null,null,null,null,null,null,null,null,null,null,null,null,null,null,null,null,null,null,null,null,null,null,null,null,null,null,null,null,null,null,null,null,0,null,null,null,null,null,"","","","","","","","","","","","","","","","","","","","","","","","","","","","","","","","",0,null,{"$f":"AM76","v":0},{"$f":"AN76","v":0},{"$f":"SUM(CC76:CD76)","v":0}]
[{"$f":"ข้อมูลนักเรียน!B79","v":0},67,{"$f":"ข้อมูลนักเรียน!D79","v":0},null,null,null,null,null,null,null,null,null,null,null,null,null,null,null,null,null,null,null,null,null,null,null,null,null,null,null,null,null,null,null,null,null,null,null,null,null,0,null,null,null,null,null,"","","","","","","","","","","","","","","","","","","","","","","","","","","","","","","","",0,null,0,0,0]
[{"$f":"ข้อมูลนักเรียน!B80","v":0},68,{"$f":"ข้อมูลนักเรียน!D80","v":0},null,null,null,null,null,null,null,null,null,null,null,null,null,null,null,null,null,null,null,null,null,null,null,null,null,null,null,null,null,null,null,null,null,null,null,null,null,0,null,null,null,null,null,"","","","","","","","","","","","","","","","","","","","","","","","","","","","","","","","",0,null,0,0,0]
[{"$f":"ข้อมูลนักเรียน!B81","v":0},69,{"$f":"ข้อมูลนักเรียน!D81","v":0},null,null,null,null,null,null,null,null,null,null,null,null,null,null,null,null,null,null,null,null,null,null,null,null,null,null,null,null,null,null,null,null,null,null,null,null,null,0,null,null,null,null,null,"","","","","","","","","","","","","","","","","","","","","","","","","","","","","","","","",0,null,0,0,0]
[{"$f":"ข้อมูลนักเรียน!B82","v":0},70,{"$f":"ข้อมูลนักเรียน!D82","v":0},null,null,null,null,null,null,null,null,null,null,null,null,null,null,null,null,null,null,null,null,null,null,null,null,null,null,null,null,null,null,null,null,null,null,null,null,null,0,null,null,null,null,null,"","","","","","","","","","","","","","","","","","","","","","","","","","","","","","","","",0,null,0,0,0]
[{"$f":"ข้อมูลนักเรียน!B83","v":0},71,{"$f":"ข้อมูลนักเรียน!D83","v":0},null,null,null,null,null,null,null,null,null,null,null,null,null,null,null,null,null,null,null,null,null,null,null,null,null,null,null,null,null,null,null,null,null,null,null,null,null,0,null,null,null,null,null,"","","","","","","","","","","","","","","","","","","","","","","","","","","","","","","","",0,null,0,0,0]
[{"$f":"ข้อมูลนักเรียน!B84","v":0},72,{"$f":"ข้อมูลนักเรียน!D84","v":0},null,null,null,null,null,null,null,null,null,null,null,null,null,null,null,null,null,null,null,null,null,null,null,null,null,null,null,null,null,null,null,null,null,null,null,null,null,0,null,null,null,null,null,"","","","","","","","","","","","","","","","","","","","","","","","","","","","","","","","",0,null,0,0,0]
[{"$f":"ข้อมูลนักเรียน!B85","v":0},73,{"$f":"ข้อมูลนักเรียน!D85","v":0},null,null,null,null,null,null,null,null,null,null,null,null,null,null,null,null,null,null,null,null,null,null,null,null,null,null,null,null,null,null,null,null,null,null,null,null,null,0,null,null,null,null,null,"","","","","","","","","","","","","","","","","","","","","","","","","","","","","","","","",0,null,0,0,0]
[{"$f":"ข้อมูลนักเรียน!B86","v":0},74,{"$f":"ข้อมูลนักเรียน!D86","v":0},null,null,null,null,null,null,null,null,null,null,null,null,null,null,null,null,null,null,null,null,null,null,null,null,null,null,null,null,null,null,null,null,null,null,null,null,null,0,null,null,null,null,null,"","","","","","","","","","","","","","","","","","","","","","","","","","","","","","","","",0,null,0,0,0]
[{"$f":"ข้อมูลนักเรียน!B87","v":0},75,{"$f":"ข้อมูลนักเรียน!D87","v":0},null,null,null,null,null,null,null,null,null,null,null,null,null,null,null,null,null,null,null,null,null,null,null,null,null,null,null,null,null,null,null,null,null,null,null,null,null,0,null,null,null,null,null,"","","","","","","","","","","","","","","","","","","","","","","","","","","","","","","","",0,null,0,0,0]
[{"$f":"ข้อมูลนักเรียน!B88","v":0},76,{"$f":"ข้อมูลนักเรียน!D88","v":0},null,null,null,null,null,null,null,null,null,null,null,null,null,null,null,null,null,null,null,null,null,null,null,null,null,null,null,null,null,null,null,null,null,null,null,null,null,0,null,null,null,null,null,"","","","","","","","","","","","","","","","","","","","","","","","","","","","","","","","",0,null,0,0,0]
[{"$f":"ข้อมูลนักเรียน!B89","v":0},77,{"$f":"ข้อมูลนักเรียน!D89","v":0},null,null,null,null,null,null,null,null,null,null,null,null,null,null,null,null,null,null,null,null,null,null,null,null,null,null,null,null,null,null,null,null,null,null,null,null,null,0,null,null,null,null,null,"","","","","","","","","","","","","","","","","","","","","","","","","","","","","","","","",0,null,0,0,0]
[{"$f":"ข้อมูลนักเรียน!B90","v":0},78,{"$f":"ข้อมูลนักเรียน!D90","v":0},null,null,null,null,null,null,null,null,null,null,null,null,null,null,null,null,null,null,null,null,null,null,null,null,null,null,null,null,null,null,null,null,null,null,null,null,null,0,null,null,null,null,null,"","","","","","","","","","","","","","","","","","","","","","","","","","","","","","","","",0,null,0,0,0]
[{"$f":"ข้อมูลนักเรียน!B91","v":0},79,{"$f":"ข้อมูลนักเรียน!D91","v":0},null,null,null,null,null,null,null,null,null,null,null,null,null,null,null,null,null,null,null,null,null,null,null,null,null,null,null,null,null,null,null,null,null,null,null,null,null,0,null,null,null,null,null,"","","","","","","","","","","","","","","","","","","","","","","","","","","","","","","","",0,null,0,0,0]
[{"$f":"ข้อมูลนักเรียน!B92","v":0},80,{"$f":"ข้อมูลนักเรียน!D92","v":0},null,null,null,null,null,null,null,null,null,null,null,null,null,null,null,null,null,null,null,null,null,null,null,null,null,null,null,null,null,null,null,null,null,null,null,null,null,0,null,null,null,null,null,"","","","","","","","","","","","","","","","","","","","","","","","","","","","","","","","",0,null,0,0,0]
[{"$f":"ข้อมูลนักเรียน!B93","v":0},81,{"$f":"ข้อมูลนักเรียน!D93","v":0},null,null,null,null,null,null,null,null,null,null,null,null,null,null,null,null,null,null,null,null,null,null,null,null,null,null,null,null,null,null,null,null,null,null,null,null,null,0,null,null,null,null,null,"","","","","","","","","","","","","","","","","","","","","","","","","","","","","","","","",0,null,0,0,0]
[{"$f":"ข้อมูลนักเรียน!B94","v":0},82,{"$f":"ข้อมูลนักเรียน!D94","v":0},null,null,null,null,null,null,null,null,null,null,null,null,null,null,null,null,null,null,null,null,null,null,null,null,null,null,null,null,null,null,null,null,null,null,null,null,null,0,null,null,null,null,null,"","","","","","","","","","","","","","","","","","","","","","","","","","","","","","","","",0,null,0,0,0]
[{"$f":"ข้อมูลนักเรียน!B95","v":0},83,{"$f":"ข้อมูลนักเรียน!D95","v":0},null,null,null,null,null,null,null,null,null,null,null,null,null,null,null,null,null,null,null,null,null,null,null,null,null,null,null,null,null,null,null,null,null,null,null,null,null,0,null,null,null,null,null,"","","","","","","","","","","","","","","","","","","","","","","","","","","","","","","","",0,null,0,0,0]
[{"$f":"ข้อมูลนักเรียน!B96","v":0},84,{"$f":"ข้อมูลนักเรียน!D96","v":0},null,null,null,null,null,null,null,null,null,null,null,null,null,null,null,null,null,null,null,null,null,null,null,null,null,null,null,null,null,null,null,null,null,null,null,null,null,0,null,null,null,null,null,"","","","","","","","","","","","","","","","","","","","","","","","","","","","","","","","",0,null,0,0,0]
[{"$f":"ข้อมูลนักเรียน!B97","v":0},85,{"$f":"ข้อมูลนักเรียน!D97","v":0},null,null,null,null,null,null,null,null,null,null,null,null,null,null,null,null,null,null,null,null,null,null,null,null,null,null,null,null,null,null,null,null,null,null,null,null,null,0,null,null,null,null,null,"","","","","","","","","","","","","","","","","","","","","","","","","","","","","","","","",0,null,0,0,0]
[{"$f":"ข้อมูลนักเรียน!B98","v":0},86,{"$f":"ข้อมูลนักเรียน!D98","v":0},null,null,null,null,null,null,null,null,null,null,null,null,null,null,null,null,null,null,null,null,null,null,null,null,null,null,null,null,null,null,null,null,null,null,null,null,null,0,null,null,null,null,null,"","","","","","","","","","","","","","","","","","","","","","","","","","","","","","","","",0,null,0,0,0]
[{"$f":"ข้อมูลนักเรียน!B99","v":0},87,{"$f":"ข้อมูลนักเรียน!D99","v":0},null,null,null,null,null,null,null,null,null,null,null,null,null,null,null,null,null,null,null,null,null,null,null,null,null,null,null,null,null,null,null,null,null,null,null,null,null,0,null,null,null,null,null,"","","","","","","","","","","","","","","","","","","","","","","","","","","","","","","","",0,null,0,0,0]
[{"$f":"ข้อมูลนักเรียน!B100","v":0},88,{"$f":"ข้อมูลนักเรียน!D100","v":0},null,null,null,null,null,null,null,null,null,null,null,null,null,null,null,null,null,null,null,null,null,null,null,null,null,null,null,null,null,null,null,null,null,null,null,null,null,0,null,null,null,null,null,"","","","","","","","","","","","","","","","","","","","","","","","","","","","","","","","",0,null,0,0,0]
[{"$f":"ข้อมูลนักเรียน!B101","v":0},89,{"$f":"ข้อมูลนักเรียน!D101","v":0},null,null,null,null,null,null,null,null,null,null,null,null,null,null,null,null,null,null,null,null,null,null,null,null,null,null,null,null,null,null,null,null,null,null,null,null,null,0,null,null,null,null,null,"","","","","","","","","","","","","","","","","","","","","","","","","","","","","","","","",0,null,0,0,0]
[{"$f":"ข้อมูลนักเรียน!B102","v":0},90,{"$f":"ข้อมูลนักเรียน!D102","v":0},null,null,null,null,null,null,null,null,null,null,null,null,null,null,null,null,null,null,null,null,null,null,null,null,null,null,null,null,null,null,null,null,null,null,null,null,null,0,null,null,null,null,null,"","","","","","","","","","","","","","","","","","","","","","","","","","","","","","","","",0,null,0,0,0]
[{"$f":"ข้อมูลนักเรียน!B103","v":0},91,{"$f":"ข้อมูลนักเรียน!D103","v":0},null,null,null,null,null,null,null,null,null,null,null,null,null,null,null,null,null,null,null,null,null,null,null,null,null,null,null,null,null,null,null,null,null,null,null,null,null,0,null,null,null,null,null,"","","","","","","","","","","","","","","","","","","","","","","","","","","","","","","","",0,null,0,0,0]
[{"$f":"ข้อมูลนักเรียน!B104","v":0},92,{"$f":"ข้อมูลนักเรียน!D104","v":0},null,null,null,null,null,null,null,null,null,null,null,null,null,null,null,null,null,null,null,null,null,null,null,null,null,null,null,null,null,null,null,null,null,null,null,null,null,0,null,null,null,null,null,"","","","","","","","","","","","","","","","","","","","","","","","","","","","","","","","",0,null,0,0,0]
[{"$f":"ข้อมูลนักเรียน!B105","v":0},93,{"$f":"ข้อมูลนักเรียน!D105","v":0},null,null,null,null,null,null,null,null,null,null,null,null,null,null,null,null,null,null,null,null,null,null,null,null,null,null,null,null,null,null,null,null,null,null,null,null,null,0,null,null,null,null,null,"","","","","","","","","","","","","","","","","","","","","","","","","","","","","","","","",0,null,0,0,0]
[{"$f":"ข้อมูลนักเรียน!B106","v":0},94,{"$f":"ข้อมูลนักเรียน!D106","v":0},null,null,null,null,null,null,null,null,null,null,null,null,null,null,null,null,null,null,null,null,null,null,null,null,null,null,null,null,null,null,null,null,null,null,null,null,null,0,null,null,null,null,null,"","","","","","","","","","","","","","","","","","","","","","","","","","","","","","","","",0,null,0,0,0]
[{"$f":"ข้อมูลนักเรียน!B107","v":0},95,{"$f":"ข้อมูลนักเรียน!D107","v":0},null,null,null,null,null,null,null,null,null,null,null,null,null,null,null,null,null,null,null,null,null,null,null,null,null,null,null,null,null,null,null,null,null,null,null,null,null,0,null,null,null,null,null,"","","","","","","","","","","","","","","","","","","","","","","","","","","","","","","","",0,null,0,0,0]
[{"$f":"ข้อมูลนักเรียน!B108","v":0},96,{"$f":"ข้อมูลนักเรียน!D108","v":0},null,null,null,null,null,null,null,null,null,null,null,null,null,null,null,null,null,null,null,null,null,null,null,null,null,null,null,null,null,null,null,null,null,null,null,null,null,0,null,null,null,null,null,"","","","","","","","","","","","","","","","","","","","","","","","","","","","","","","","",0,null,0,0,0]
[{"$f":"ข้อมูลนักเรียน!B109","v":0},97,{"$f":"ข้อมูลนักเรียน!D109","v":0},null,null,null,null,null,null,null,null,null,null,null,null,null,null,null,null,null,null,null,null,null,null,null,null,null,null,null,null,null,null,null,null,null,null,null,null,null,0,null,null,null,null,null,"","","","","","","","","","","","","","","","","","","","","","","","","","","","","","","","",0,null,0,0,0]
[{"$f":"ข้อมูลนักเรียน!B110","v":0},98,{"$f":"ข้อมูลนักเรียน!D110","v":0},null,null,null,null,null,null,null,null,null,null,null,null,null,null,null,null,null,null,null,null,null,null,null,null,null,null,null,null,null,null,null,null,null,null,null,null,null,0,null,null,null,null,null,"","","","","","","","","","","","","","","","","","","","","","","","","","","","","","","","",0,null,0,0,0]
[{"$f":"ข้อมูลนักเรียน!B111","v":0},99,{"$f":"ข้อมูลนักเรียน!D111","v":0},null,null,null,null,null,null,null,null,null,null,null,null,null,null,null,null,null,null,null,null,null,null,null,null,null,null,null,null,null,null,null,null,null,null,null,null,null,0,null,null,null,null,null,"","","","","","","","","","","","","","","","","","","","","","","","","","","","","","","","",0,null,0,0,0]
[{"$f":"ข้อมูลนักเรียน!B112","v":0},100,{"$f":"ข้อมูลนักเรียน!D112","v":0},null,null,null,null,null,null,null,null,null,null,null,null,null,null,null,null,null,null,null,null,null,null,null,null,null,null,null,null,null,null,null,null,null,null,null,null,null,0,null,null,null,null,null,"","","","","","","","","","","","","","","","","","","","","","","","","","","","","","","","",0,null,0,0,0]
[{"$f":"ข้อมูลนักเรียน!B113","v":0},101,{"$f":"ข้อมูลนักเรียน!D113","v":0},null,null,null,null,null,null,null,null,null,null,null,null,null,null,null,null,null,null,null,null,null,null,null,null,null,null,null,null,null,null,null,null,null,null,null,null,null,0,null,null,null,null,null,"","","","","","","","","","","","","","","","","","","","","","","","","","","","","","","","",0,null,0,0,0]
[{"$f":"ข้อมูลนักเรียน!B114","v":0},102,{"$f":"ข้อมูลนักเรียน!D114","v":0},null,null,null,null,null,null,null,null,null,null,null,null,null,null,null,null,null,null,null,null,null,null,null,null,null,null,null,null,null,null,null,null,null,null,null,null,null,0,null,null,null,null,null,"","","","","","","","","","","","","","","","","","","","","","","","","","","","","","","","",0,null,0,0,0]
[{"$f":"ข้อมูลนักเรียน!B115","v":0},103,{"$f":"ข้อมูลนักเรียน!D115","v":0},null,null,null,null,null,null,null,null,null,null,null,null,null,null,null,null,null,null,null,null,null,null,null,null,null,null,null,null,null,null,null,null,null,null,null,null,null,0,null,null,null,null,null,"","","","","","","","","","","","","","","","","","","","","","","","","","","","","","","","",0,null,0,0,0]
[{"$f":"ข้อมูลนักเรียน!B116","v":0},104,{"$f":"ข้อมูลนักเรียน!D116","v":0},null,null,null,null,null,null,null,null,null,null,null,null,null,null,null,null,null,null,null,null,null,null,null,null,null,null,null,null,null,null,null,null,null,null,null,null,null,0,null,null,null,null,null,"","","","","","","","","","","","","","","","","","","","","","","","","","","","","","","","",0,null,0,0,0]
[{"$f":"ข้อมูลนักเรียน!B117","v":0},105,{"$f":"ข้อมูลนักเรียน!D117","v":0},null,null,null,null,null,null,null,null,null,null,null,null,null,null,null,null,null,null,null,null,null,null,null,null,null,null,null,null,null,null,null,null,null,null,null,null,null,0,null,null,null,null,null,"","","","","","","","","","","","","","","","","","","","","","","","","","","","","","","","",0,null,0,0,0]
[{"$f":"ข้อมูลนักเรียน!B118","v":0},106,{"$f":"ข้อมูลนักเรียน!D118","v":0},null,null,null,null,null,null,null,null,null,null,null,null,null,null,null,null,null,null,null,null,null,null,null,null,null,null,null,null,null,null,null,null,null,null,null,null,null,0,null,null,null,null,null,"","","","","","","","","","","","","","","","","","","","","","","","","","","","","","","","",0,null,0,0,0]
[{"$f":"ข้อมูลนักเรียน!B119","v":0},107,{"$f":"ข้อมูลนักเรียน!D119","v":0},null,null,null,null,null,null,null,null,null,null,null,null,null,null,null,null,null,null,null,null,null,null,null,null,null,null,null,null,null,null,null,null,null,null,null,null,null,0,null,null,null,null,null,"","","","","","","","","","","","","","","","","","","","","","","","","","","","","","","","",0,null,0,0,0]
[{"$f":"ข้อมูลนักเรียน!B120","v":0},108,{"$f":"ข้อมูลนักเรียน!D120","v":0},null,null,null,null,null,null,null,null,null,null,null,null,null,null,null,null,null,null,null,null,null,null,null,null,null,null,null,null,null,null,null,null,null,null,null,null,null,0,null,null,null,null,null,"","","","","","","","","","","","","","","","","","","","","","","","","","","","","","","","",0,null,0,0,0]
[{"$f":"ข้อมูลนักเรียน!B121","v":0},109,{"$f":"ข้อมูลนักเรียน!D121","v":0},null,null,null,null,null,null,null,null,null,null,null,null,null,null,null,null,null,null,null,null,null,null,null,null,null,null,null,null,null,null,null,null,null,null,null,null,null,0,null,null,null,null,null,"","","","","","","","","","","","","","","","","","","","","","","","","","","","","","","","",0,null,0,0,0]
[{"$f":"ข้อมูลนักเรียน!B122","v":0},110,{"$f":"ข้อมูลนักเรียน!D122","v":0},null,null,null,null,null,null,null,null,null,null,null,null,null,null,null,null,null,null,null,null,null,null,null,null,null,null,null,null,null,null,null,null,null,null,null,null,null,0,null,null,null,null,null,"","","","","","","","","","","","","","","","","","","","","","","","","","","","","","","","",0,null,0,0,0]
[{"$f":"ข้อมูลนักเรียน!B123","v":0},111,{"$f":"ข้อมูลนักเรียน!D123","v":0},null,null,null,null,null,null,null,null,null,null,null,null,null,null,null,null,null,null,null,null,null,null,null,null,null,null,null,null,null,null,null,null,null,null,null,null,null,0,null,null,null,null,null,"","","","","","","","","","","","","","","","","","","","","","","","","","","","","","","","",0,null,0,0,0]
[{"$f":"ข้อมูลนักเรียน!B124","v":0},112,{"$f":"ข้อมูลนักเรียน!D124","v":0},null,null,null,null,null,null,null,null,null,null,null,null,null,null,null,null,null,null,null,null,null,null,null,null,null,null,null,null,null,null,null,null,null,null,null,null,null,0,null,null,null,null,null,"","","","","","","","","","","","","","","","","","","","","","","","","","","","","","","","",0,null,0,0,0]
[{"$f":"ข้อมูลนักเรียน!B125","v":0},113,{"$f":"ข้อมูลนักเรียน!D125","v":0},null,null,null,null,null,null,null,null,null,null,null,null,null,null,null,null,null,null,null,null,null,null,null,null,null,null,null,null,null,null,null,null,null,null,null,null,null,0,null,null,null,null,null,"","","","","","","","","","","","","","","","","","","","","","","","","","","","","","","","",0,null,0,0,0]
[{"$f":"ข้อมูลนักเรียน!B126","v":0},114,{"$f":"ข้อมูลนักเรียน!D126","v":0},null,null,null,null,null,null,null,null,null,null,null,null,null,null,null,null,null,null,null,null,null,null,null,null,null,null,null,null,null,null,null,null,null,null,null,null,null,0,null,null,null,null,null,"","","","","","","","","","","","","","","","","","","","","","","","","","","","","","","","",0,null,0,0,0]
[{"$f":"ข้อมูลนักเรียน!B127","v":0},115,{"$f":"ข้อมูลนักเรียน!D127","v":0},null,null,null,null,null,null,null,null,null,null,null,null,null,null,null,null,null,null,null,null,null,null,null,null,null,null,null,null,null,null,null,null,null,null,null,null,null,0,null,null,null,null,null,"","","","","","","","","","","","","","","","","","","","","","","","","","","","","","","","",0,null,0,0,0]
[{"$f":"ข้อมูลนักเรียน!B128","v":0},116,{"$f":"ข้อมูลนักเรียน!D128","v":0},null,null,null,null,null,null,null,null,null,null,null,null,null,null,null,null,null,null,null,null,null,null,null,null,null,null,null,null,null,null,null,null,null,null,null,null,null,0,null,null,null,null,null,"","","","","","","","","","","","","","","","","","","","","","","","","","","","","","","","",0,null,0,0,0]
[{"$f":"ข้อมูลนักเรียน!B129","v":0},117,{"$f":"ข้อมูลนักเรียน!D129","v":0},null,null,null,null,null,null,null,null,null,null,null,null,null,null,null,null,null,null,null,null,null,null,null,null,null,null,null,null,null,null,null,null,null,null,null,null,null,0,null,null,null,null,null,"","","","","","","","","","","","","","","","","","","","","","","","","","","","","","","","",0,null,0,0,0]
[{"$f":"ข้อมูลนักเรียน!B130","v":0},118,{"$f":"ข้อมูลนักเรียน!D130","v":0},null,null,null,null,null,null,null,null,null,null,null,null,null,null,null,null,null,null,null,null,null,null,null,null,null,null,null,null,null,null,null,null,null,null,null,null,null,0,null,null,null,null,null,"","","","","","","","","","","","","","","","","","","","","","","","","","","","","","","","",0,null,0,0,0]
[{"$f":"ข้อมูลนักเรียน!B131","v":0},119,{"$f":"ข้อมูลนักเรียน!D131","v":0},null,null,null,null,null,null,null,null,null,null,null,null,null,null,null,null,null,null,null,null,null,null,null,null,null,null,null,null,null,null,null,null,null,null,null,null,null,0,null,null,null,null,null,"","","","","","","","","","","","","","","","","","","","","","","","","","","","","","","","",0,null,0,0,0]
[{"$f":"ข้อมูลนักเรียน!B132","v":0},120,{"$f":"ข้อมูลนักเรียน!D132","v":0},null,null,null,null,null,null,null,null,null,null,null,null,null,null,null,null,null,null,null,null,null,null,null,null,null,null,null,null,null,null,null,null,null,null,null,null,null,0,null,null,null,null,null,"","","","","","","","","","","","","","","","","","","","","","","","","","","","","","","","",0,null,0,0,0]
[{"$f":"ข้อมูลนักเรียน!B133","v":0},121,{"$f":"ข้อมูลนักเรียน!D133","v":0},null,null,null,null,null,null,null,null,null,null,null,null,null,null,null,null,null,null,null,null,null,null,null,null,null,null,null,null,null,null,null,null,null,null,null,null,null,0,null,null,null,null,null,"","","","","","","","","","","","","","","","","","","","","","","","","","","","","","","","",0,null,0,0,0]
[{"$f":"ข้อมูลนักเรียน!B134","v":0},122,{"$f":"ข้อมูลนักเรียน!D134","v":0},null,null,null,null,null,null,null,null,null,null,null,null,null,null,null,null,null,null,null,null,null,null,null,null,null,null,null,null,null,null,null,null,null,null,null,null,null,0,null,null,null,null,null,"","","","","","","","","","","","","","","","","","","","","","","","","","","","","","","","",0,null,0,0,0]
[{"$f":"ข้อมูลนักเรียน!B135","v":0},123,{"$f":"ข้อมูลนักเรียน!D135","v":0},null,null,null,null,null,null,null,null,null,null,null,null,null,null,null,null,null,null,null,null,null,null,null,null,null,null,null,null,null,null,null,null,null,null,null,null,null,0,null,null,null,null,null,"","","","","","","","","","","","","","","","","","","","","","","","","","","","","","","","",0,null,0,0,0]
[{"$f":"ข้อมูลนักเรียน!B136","v":0},124,{"$f":"ข้อมูลนักเรียน!D136","v":0},null,null,null,null,null,null,null,null,null,null,null,null,null,null,null,null,null,null,null,null,null,null,null,null,null,null,null,null,null,null,null,null,null,null,null,null,null,0,null,null,null,null,null,"","","","","","","","","","","","","","","","","","","","","","","","","","","","","","","","",0,null,0,0,0]
[{"$f":"ข้อมูลนักเรียน!B137","v":0},125,{"$f":"ข้อมูลนักเรียน!D137","v":0},null,null,null,null,null,null,null,null,null,null,null,null,null,null,null,null,null,null,null,null,null,null,null,null,null,null,null,null,null,null,null,null,null,null,null,null,null,0,null,null,null,null,null,"","","","","","","","","","","","","","","","","","","","","","","","","","","","","","","","",0,null,0,0,0]
[{"$f":"ข้อมูลนักเรียน!B138","v":0},126,{"$f":"ข้อมูลนักเรียน!D138","v":0},null,null,null,null,null,null,null,null,null,null,null,null,null,null,null,null,null,null,null,null,null,null,null,null,null,null,null,null,null,null,null,null,null,null,null,null,null,0,null,null,null,null,null,"","","","","","","","","","","","","","","","","","","","","","","","","","","","","","","","",0,null,0,0,0]
[{"$f":"ข้อมูลนักเรียน!B139","v":0},127,{"$f":"ข้อมูลนักเรียน!D139","v":0},null,null,null,null,null,null,null,null,null,null,null,null,null,null,null,null,null,null,null,null,null,null,null,null,null,null,null,null,null,null,null,null,null,null,null,null,null,0,null,null,null,null,null,"","","","","","","","","","","","","","","","","","","","","","","","","","","","","","","","",0,null,0,0,0]
[{"$f":"ข้อมูลนักเรียน!B140","v":0},128,{"$f":"ข้อมูลนักเรียน!D140","v":0},null,null,null,null,null,null,null,null,null,null,null,null,null,null,null,null,null,null,null,null,null,null,null,null,null,null,null,null,null,null,null,null,null,null,null,null,null,0,null,null,null,null,null,"","","","","","","","","","","","","","","","","","","","","","","","","","","","","","","","",0,null,0,0,0]
[{"$f":"ข้อมูลนักเรียน!B141","v":0},129,{"$f":"ข้อมูลนักเรียน!D141","v":0},null,null,null,null,null,null,null,null,null,null,null,null,null,null,null,null,null,null,null,null,null,null,null,null,null,null,null,null,null,null,null,null,null,null,null,null,null,{"$f":"SUM(IF(G139=NumTh1,ScoreTh1),IF(H139=NumTh2,ScoreTh2),IF(I139=NumTh3,ScoreTh3),IF(J139=NumTh4,ScoreTh4),IF(K139=NumTh5,ScoreTh5),IF(L139=NumTh6,ScoreTh6),IF(M139=NumTh7,ScoreTh7),IF(N139=NumTh8,ScoreTh8),IF(O139=NumTh9,ScoreTh9),IF(P139=NumTh10,ScoreTh10),IF(Q139=NumTh11,ScoreTh11),IF(R139=NumTh12,ScoreTh12),IF(S139=NumTh13,ScoreTh13),IF(T139=NumTh14,ScoreTh14),IF(U139=NumTh15,ScoreTh15),IF(V139=NumTh16,ScoreTh16),IF(W139=NumTh17,ScoreTh17),IF(X139=NumTh18,ScoreTh18),IF(Y139=NumTh19,ScoreTh19),IF(Z139=NumTh20,ScoreTh20),IF(AA139=NumTh21,ScoreTh21),IF(AB139=NumTh22,ScoreTh22),IF(AC139=NumTh23,ScoreTh23),IF(AD139=NumTh24,ScoreTh24),IF(AE139=NumTh25,ScoreTh25),IF(AF139=NumTh26,ScoreTh26),IF(AG139=NumTh27,ScoreTh27),IF(AH139=NumTh28,ScoreTh28),IF(AI139=NumTh29,ScoreTh29),IF(AJ139=NumTh30,ScoreTh30),IF(AK139=NumTh31,ScoreTh31),IF(AL139=NumTh32,ScoreTh32),AM139,AN139)","v":0},null,null,null,null,null,{"$f":"IF(G139=\"\",\"\",IF(G139=NumTh1,\"✓\",\"X\"))","v":""},{"$f":"IF(H139=\"\",\"\",IF(H139=NumTh2,\"✓\",\"X\"))","v":""},{"$f":"IF(I139=\"\",\"\",IF(I139=NumTh3,\"✓\",\"X\"))","v":""},{"$f":"IF(J139=\"\",\"\",IF(J139=NumTh4,\"✓\",\"X\"))","v":""},{"$f":"IF(K139=\"\",\"\",IF(K139=NumTh5,\"✓\",\"X\"))","v":""},{"$f":"IF(L139=\"\",\"\",IF(L139=NumTh6,\"✓\",\"X\"))","v":""},{"$f":"IF(M139=\"\",\"\",IF(M139=NumTh7,\"✓\",\"X\"))","v":""},{"$f":"IF(N139=\"\",\"\",IF(N139=NumTh8,\"✓\",\"X\"))","v":""},{"$f":"IF(O139=\"\",\"\",IF(O139=NumTh9,\"✓\",\"X\"))","v":""},{"$f":"IF(P139=\"\",\"\",IF(P139=NumTh10,\"✓\",\"X\"))","v":""},{"$f":"IF(Q139=\"\",\"\",IF(Q139=NumTh11,\"✓\",\"X\"))","v":""},{"$f":"IF(R139=\"\",\"\",IF(R139=NumTh12,\"✓\",\"X\"))","v":""},{"$f":"IF(S139=\"\",\"\",IF(S139=NumTh13,\"✓\",\"X\"))","v":""},{"$f":"IF(T139=\"\",\"\",IF(T139=NumTh14,\"✓\",\"X\"))","v":""},{"$f":"IF(U139=\"\",\"\",IF(U139=NumTh15,\"✓\",\"X\"))","v":""},{"$f":"IF(V139=\"\",\"\",IF(V139=NumTh16,\"✓\",\"X\"))","v":""},{"$f":"IF(W139=\"\",\"\",IF(W139=NumTh17,\"✓\",\"X\"))","v":""},{"$f":"IF(X139=\"\",\"\",IF(X139=NumTh18,\"✓\",\"X\"))","v":""},{"$f":"IF(Y139=\"\",\"\",IF(Y139=NumTh19,\"✓\",\"X\"))","v":""},{"$f":"IF(Z139=\"\",\"\",IF(Z139=NumTh20,\"✓\",\"X\"))","v":""},{"$f":"IF(AA139=\"\",\"\",IF(AA139=NumTh21,\"✓\",\"X\"))","v":""},{"$f":"IF(AB139=\"\",\"\",IF(AB139=NumTh22,\"✓\",\"X\"))","v":""},{"$f":"IF(AC139=\"\",\"\",IF(AC139=NumTh23,\"✓\",\"X\"))","v":""},{"$f":"IF(AD139=\"\",\"\",IF(AD139=NumTh24,\"✓\",\"X\"))","v":""},{"$f":"IF(AE139=\"\",\"\",IF(AE139=NumTh25,\"✓\",\"X\"))","v":""},{"$f":"IF(AF139=\"\",\"\",IF(AF139=NumTh26,\"✓\",\"X\"))","v":""},{"$f":"IF(AG139=\"\",\"\",IF(AG139=NumTh27,\"✓\",\"X\"))","v":""},{"$f":"IF(AH139=\"\",\"\",IF(AH139=NumTh28,\"✓\",\"X\"))","v":""},{"$f":"IF(AI139=\"\",\"\",IF(AI139=NumTh29,\"✓\",\"X\"))","v":""},{"$f":"IF(AJ139=\"\",\"\",IF(AJ139=NumTh30,\"✓\",\"X\"))","v":""},{"$f":"IF(AK139=\"\",\"\",IF(AK139=NumTh31,\"✓\",\"X\"))","v":""},{"$f":"IF(AL139=\"\",\"\",IF(AL139=NumTh32,\"✓\",\"X\"))","v":""},{"$f":"COUNTIF(AU139:BZ139,\"✓\")","v":0},null,0,0,0]
[{"$f":"ข้อมูลนักเรียน!B142","v":0},130,{"$f":"ข้อมูลนักเรียน!D142","v":0},null,null,null,null,null,null,null,null,null,null,null,null,null,null,null,null,null,null,null,null,null,null,null,null,null,null,null,null,null,null,null,null,null,null,null,null,null,0,null,null,null,null,null,"","","","","","","","","","","","","","","","","","","","","","","","","","","","","","","","",0,null,{"$f":"AM140","v":0},{"$f":"AN140","v":0},{"$f":"SUM(CC140:CD140)","v":0}]
[{"$f":"ข้อมูลนักเรียน!B143","v":0},131,{"$f":"ข้อมูลนักเรียน!D143","v":0},null,null,null,null,null,null,null,null,null,null,null,null,null,null,null,null,null,null,null,null,null,null,null,null,null,null,null,null,null,null,null,null,null,null,null,null,null,0,null,null,null,null,null,"","","","","","","","","","","","","","","","","","","","","","","","","","","","","","","","",0,null,0,0,0]
[{"$f":"ข้อมูลนักเรียน!B144","v":0},132,{"$f":"ข้อมูลนักเรียน!D144","v":0},null,null,null,null,null,null,null,null,null,null,null,null,null,null,null,null,null,null,null,null,null,null,null,null,null,null,null,null,null,null,null,null,null,null,null,null,null,0,null,null,null,null,null,"","","","","","","","","","","","","","","","","","","","","","","","","","","","","","","","",0,null,0,0,0]
[{"$f":"ข้อมูลนักเรียน!B145","v":0},133,{"$f":"ข้อมูลนักเรียน!D145","v":0},null,null,null,null,null,null,null,null,null,null,null,null,null,null,null,null,null,null,null,null,null,null,null,null,null,null,null,null,null,null,null,null,null,null,null,null,null,0,null,null,null,null,null,"","","","","","","","","","","","","","","","","","","","","","","","","","","","","","","","",0,null,0,0,0]
[{"$f":"ข้อมูลนักเรียน!B146","v":0},134,{"$f":"ข้อมูลนักเรียน!D146","v":0},null,null,null,null,null,null,null,null,null,null,null,null,null,null,null,null,null,null,null,null,null,null,null,null,null,null,null,null,null,null,null,null,null,null,null,null,null,0,null,null,null,null,null,"","","","","","","","","","","","","","","","","","","","","","","","","","","","","","","","",0,null,0,0,0]
[{"$f":"ข้อมูลนักเรียน!B147","v":0},135,{"$f":"ข้อมูลนักเรียน!D147","v":0},null,null,null,null,null,null,null,null,null,null,null,null,null,null,null,null,null,null,null,null,null,null,null,null,null,null,null,null,null,null,null,null,null,null,null,null,null,0,null,null,null,null,null,"","","","","","","","","","","","","","","","","","","","","","","","","","","","","","","","",0,null,0,0,0]
[{"$f":"ข้อมูลนักเรียน!B148","v":0},136,{"$f":"ข้อมูลนักเรียน!D148","v":0},null,null,null,null,null,null,null,null,null,null,null,null,null,null,null,null,null,null,null,null,null,null,null,null,null,null,null,null,null,null,null,null,null,null,null,null,null,0,null,null,null,null,null,"","","","","","","","","","","","","","","","","","","","","","","","","","","","","","","","",0,null,0,0,0]
[{"$f":"ข้อมูลนักเรียน!B149","v":0},137,{"$f":"ข้อมูลนักเรียน!D149","v":0},null,null,null,null,null,null,null,null,null,null,null,null,null,null,null,null,null,null,null,null,null,null,null,null,null,null,null,null,null,null,null,null,null,null,null,null,null,0,null,null,null,null,null,"","","","","","","","","","","","","","","","","","","","","","","","","","","","","","","","",0,null,0,0,0]
[{"$f":"ข้อมูลนักเรียน!B150","v":0},138,{"$f":"ข้อมูลนักเรียน!D150","v":0},null,null,null,null,null,null,null,null,null,null,null,null,null,null,null,null,null,null,null,null,null,null,null,null,null,null,null,null,null,null,null,null,null,null,null,null,null,0,null,null,null,null,null,"","","","","","","","","","","","","","","","","","","","","","","","","","","","","","","","",0,null,0,0,0]
[{"$f":"ข้อมูลนักเรียน!B151","v":0},139,{"$f":"ข้อมูลนักเรียน!D151","v":0},null,null,null,null,null,null,null,null,null,null,null,null,null,null,null,null,null,null,null,null,null,null,null,null,null,null,null,null,null,null,null,null,null,null,null,null,null,0,null,null,null,null,null,"","","","","","","","","","","","","","","","","","","","","","","","","","","","","","","","",0,null,0,0,0]
[{"$f":"ข้อมูลนักเรียน!B152","v":0},140,{"$f":"ข้อมูลนักเรียน!D152","v":0},null,null,null,null,null,null,null,null,null,null,null,null,null,null,null,null,null,null,null,null,null,null,null,null,null,null,null,null,null,null,null,null,null,null,null,null,null,0,null,null,null,null,null,"","","","","","","","","","","","","","","","","","","","","","","","","","","","","","","","",0,null,0,0,0]
[{"$f":"ข้อมูลนักเรียน!B153","v":0},141,{"$f":"ข้อมูลนักเรียน!D153","v":0},null,null,null,null,null,null,null,null,null,null,null,null,null,null,null,null,null,null,null,null,null,null,null,null,null,null,null,null,null,null,null,null,null,null,null,null,null,0,null,null,null,null,null,"","","","","","","","","","","","","","","","","","","","","","","","","","","","","","","","",0,null,0,0,0]
[{"$f":"ข้อมูลนักเรียน!B154","v":0},142,{"$f":"ข้อมูลนักเรียน!D154","v":0},null,null,null,null,null,null,null,null,null,null,null,null,null,null,null,null,null,null,null,null,null,null,null,null,null,null,null,null,null,null,null,null,null,null,null,null,null,0,null,null,null,null,null,"","","","","","","","","","","","","","","","","","","","","","","","","","","","","","","","",0,null,0,0,0]
[{"$f":"ข้อมูลนักเรียน!B155","v":0},143,{"$f":"ข้อมูลนักเรียน!D155","v":0},null,null,null,null,null,null,null,null,null,null,null,null,null,null,null,null,null,null,null,null,null,null,null,null,null,null,null,null,null,null,null,null,null,null,null,null,null,0,null,null,null,null,null,"","","","","","","","","","","","","","","","","","","","","","","","","","","","","","","","",0,null,0,0,0]
[{"$f":"ข้อมูลนักเรียน!B156","v":0},144,{"$f":"ข้อมูลนักเรียน!D156","v":0},null,null,null,null,null,null,null,null,null,null,null,null,null,null,null,null,null,null,null,null,null,null,null,null,null,null,null,null,null,null,null,null,null,null,null,null,null,0,null,null,null,null,null,"","","","","","","","","","","","","","","","","","","","","","","","","","","","","","","","",0,null,0,0,0]
[{"$f":"ข้อมูลนักเรียน!B157","v":0},145,{"$f":"ข้อมูลนักเรียน!D157","v":0},null,null,null,null,null,null,null,null,null,null,null,null,null,null,null,null,null,null,null,null,null,null,null,null,null,null,null,null,null,null,null,null,null,null,null,null,null,0,null,null,null,null,null,"","","","","","","","","","","","","","","","","","","","","","","","","","","","","","","","",0,null,0,0,0]
[{"$f":"ข้อมูลนักเรียน!B158","v":0},146,{"$f":"ข้อมูลนักเรียน!D158","v":0},null,null,null,null,null,null,null,null,null,null,null,null,null,null,null,null,null,null,null,null,null,null,null,null,null,null,null,null,null,null,null,null,null,null,null,null,null,0,null,null,null,null,null,"","","","","","","","","","","","","","","","","","","","","","","","","","","","","","","","",0,null,0,0,0]
[{"$f":"ข้อมูลนักเรียน!B159","v":0},147,{"$f":"ข้อมูลนักเรียน!D159","v":0},null,null,null,null,null,null,null,null,null,null,null,null,null,null,null,null,null,null,null,null,null,null,null,null,null,null,null,null,null,null,null,null,null,null,null,null,null,0,null,null,null,null,null,"","","","","","","","","","","","","","","","","","","","","","","","","","","","","","","","",0,null,0,0,0]
[{"$f":"ข้อมูลนักเรียน!B160","v":0},148,{"$f":"ข้อมูลนักเรียน!D160","v":0},null,null,null,null,null,null,null,null,null,null,null,null,null,null,null,null,null,null,null,null,null,null,null,null,null,null,null,null,null,null,null,null,null,null,null,null,null,0,null,null,null,null,null,"","","","","","","","","","","","","","","","","","","","","","","","","","","","","","","","",0,null,0,0,0]
[{"$f":"ข้อมูลนักเรียน!B161","v":0},149,{"$f":"ข้อมูลนักเรียน!D161","v":0},null,null,null,null,null,null,null,null,null,null,null,null,null,null,null,null,null,null,null,null,null,null,null,null,null,null,null,null,null,null,null,null,null,null,null,null,null,0,null,null,null,null,null,"","","","","","","","","","","","","","","","","","","","","","","","","","","","","","","","",0,null,0,0,0]
[{"$f":"ข้อมูลนักเรียน!B162","v":0},150,{"$f":"ข้อมูลนักเรียน!D162","v":0},null,null,null,null,null,null,null,null,null,null,null,null,null,null,null,null,null,null,null,null,null,null,null,null,null,null,null,null,null,null,null,null,null,null,null,null,null,0,null,null,null,null,null,"","","","","","","","","","","","","","","","","","","","","","","","","","","","","","","","",0,null,0,0,0]
[{"$f":"ข้อมูลนักเรียน!B163","v":0},151,{"$f":"ข้อมูลนักเรียน!D163","v":0},null,null,null,null,null,null,null,null,null,null,null,null,null,null,null,null,null,null,null,null,null,null,null,null,null,null,null,null,null,null,null,null,null,null,null,null,null,0,null,null,null,null,null,"","","","","","","","","","","","","","","","","","","","","","","","","","","","","","","","",0,null,0,0,0]
[{"$f":"ข้อมูลนักเรียน!B164","v":0},152,{"$f":"ข้อมูลนักเรียน!D164","v":0},null,null,null,null,null,null,null,null,null,null,null,null,null,null,null,null,null,null,null,null,null,null,null,null,null,null,null,null,null,null,null,null,null,null,null,null,null,0,null,null,null,null,null,"","","","","","","","","","","","","","","","","","","","","","","","","","","","","","","","",0,null,0,0,0]
[{"$f":"ข้อมูลนักเรียน!B165","v":0},153,{"$f":"ข้อมูลนักเรียน!D165","v":0},null,null,null,null,null,null,null,null,null,null,null,null,null,null,null,null,null,null,null,null,null,null,null,null,null,null,null,null,null,null,null,null,null,null,null,null,null,0,null,null,null,null,null,"","","","","","","","","","","","","","","","","","","","","","","","","","","","","","","","",0,null,0,0,0]
[{"$f":"ข้อมูลนักเรียน!B166","v":0},154,{"$f":"ข้อมูลนักเรียน!D166","v":0},null,null,null,null,null,null,null,null,null,null,null,null,null,null,null,null,null,null,null,null,null,null,null,null,null,null,null,null,null,null,null,null,null,null,null,null,null,0,null,null,null,null,null,"","","","","","","","","","","","","","","","","","","","","","","","","","","","","","","","",0,null,0,0,0]
[{"$f":"ข้อมูลนักเรียน!B167","v":0},155,{"$f":"ข้อมูลนักเรียน!D167","v":0},null,null,null,null,null,null,null,null,null,null,null,null,null,null,null,null,null,null,null,null,null,null,null,null,null,null,null,null,null,null,null,null,null,null,null,null,null,0,null,null,null,null,null,"","","","","","","","","","","","","","","","","","","","","","","","","","","","","","","","",0,null,0,0,0]
[{"$f":"ข้อมูลนักเรียน!B168","v":0},156,{"$f":"ข้อมูลนักเรียน!D168","v":0},null,null,null,null,null,null,null,null,null,null,null,null,null,null,null,null,null,null,null,null,null,null,null,null,null,null,null,null,null,null,null,null,null,null,null,null,null,0,null,null,null,null,null,"","","","","","","","","","","","","","","","","","","","","","","","","","","","","","","","",0,null,0,0,0]
[{"$f":"ข้อมูลนักเรียน!B169","v":0},157,{"$f":"ข้อมูลนักเรียน!D169","v":0},null,null,null,null,null,null,null,null,null,null,null,null,null,null,null,null,null,null,null,null,null,null,null,null,null,null,null,null,null,null,null,null,null,null,null,null,null,0,null,null,null,null,null,"","","","","","","","","","","","","","","","","","","","","","","","","","","","","","","","",0,null,0,0,0]
[{"$f":"ข้อมูลนักเรียน!B170","v":0},158,{"$f":"ข้อมูลนักเรียน!D170","v":0},null,null,null,null,null,null,null,null,null,null,null,null,null,null,null,null,null,null,null,null,null,null,null,null,null,null,null,null,null,null,null,null,null,null,null,null,null,0,null,null,null,null,null,"","","","","","","","","","","","","","","","","","","","","","","","","","","","","","","","",0,null,0,0,0]
[{"$f":"ข้อมูลนักเรียน!B171","v":0},159,{"$f":"ข้อมูลนักเรียน!D171","v":0},null,null,null,null,null,null,null,null,null,null,null,null,null,null,null,null,null,null,null,null,null,null,null,null,null,null,null,null,null,null,null,null,null,null,null,null,null,0,null,null,null,null,null,"","","","","","","","","","","","","","","","","","","","","","","","","","","","","","","","",0,null,0,0,0]
[{"$f":"ข้อมูลนักเรียน!B172","v":0},160,{"$f":"ข้อมูลนักเรียน!D172","v":0},null,null,null,null,null,null,null,null,null,null,null,null,null,null,null,null,null,null,null,null,null,null,null,null,null,null,null,null,null,null,null,null,null,null,null,null,null,0,null,null,null,null,null,"","","","","","","","","","","","","","","","","","","","","","","","","","","","","","","","",0,null,0,0,0]
[{"$f":"ข้อมูลนักเรียน!B173","v":0},161,{"$f":"ข้อมูลนักเรียน!D173","v":0},null,null,null,null,null,null,null,null,null,null,null,null,null,null,null,null,null,null,null,null,null,null,null,null,null,null,null,null,null,null,null,null,null,null,null,null,null,0,null,null,null,null,null,"","","","","","","","","","","","","","","","","","","","","","","","","","","","","","","","",0,null,0,0,0]
[{"$f":"ข้อมูลนักเรียน!B174","v":0},162,{"$f":"ข้อมูลนักเรียน!D174","v":0},null,null,null,null,null,null,null,null,null,null,null,null,null,null,null,null,null,null,null,null,null,null,null,null,null,null,null,null,null,null,null,null,null,null,null,null,null,0,null,null,null,null,null,"","","","","","","","","","","","","","","","","","","","","","","","","","","","","","","","",0,null,0,0,0]
[{"$f":"ข้อมูลนักเรียน!B175","v":0},163,{"$f":"ข้อมูลนักเรียน!D175","v":0},null,null,null,null,null,null,null,null,null,null,null,null,null,null,null,null,null,null,null,null,null,null,null,null,null,null,null,null,null,null,null,null,null,null,null,null,null,0,null,null,null,null,null,"","","","","","","","","","","","","","","","","","","","","","","","","","","","","","","","",0,null,0,0,0]
[{"$f":"ข้อมูลนักเรียน!B176","v":0},164,{"$f":"ข้อมูลนักเรียน!D176","v":0},null,null,null,null,null,null,null,null,null,null,null,null,null,null,null,null,null,null,null,null,null,null,null,null,null,null,null,null,null,null,null,null,null,null,null,null,null,0,null,null,null,null,null,"","","","","","","","","","","","","","","","","","","","","","","","","","","","","","","","",0,null,0,0,0]
[{"$f":"ข้อมูลนักเรียน!B177","v":0},165,{"$f":"ข้อมูลนักเรียน!D177","v":0},null,null,null,null,null,null,null,null,null,null,null,null,null,null,null,null,null,null,null,null,null,null,null,null,null,null,null,null,null,null,null,null,null,null,null,null,null,0,null,null,null,null,null,"","","","","","","","","","","","","","","","","","","","","","","","","","","","","","","","",0,null,0,0,0]
[{"$f":"ข้อมูลนักเรียน!B178","v":0},166,{"$f":"ข้อมูลนักเรียน!D178","v":0},null,null,null,null,null,null,null,null,null,null,null,null,null,null,null,null,null,null,null,null,null,null,null,null,null,null,null,null,null,null,null,null,null,null,null,null,null,0,null,null,null,null,null,"","","","","","","","","","","","","","","","","","","","","","","","","","","","","","","","",0,null,0,0,0]
[{"$f":"ข้อมูลนักเรียน!B179","v":0},167,{"$f":"ข้อมูลนักเรียน!D179","v":0},null,null,null,null,null,null,null,null,null,null,null,null,null,null,null,null,null,null,null,null,null,null,null,null,null,null,null,null,null,null,null,null,null,null,null,null,null,0,null,null,null,null,null,"","","","","","","","","","","","","","","","","","","","","","","","","","","","","","","","",0,null,0,0,0]
[{"$f":"ข้อมูลนักเรียน!B180","v":0},168,{"$f":"ข้อมูลนักเรียน!D180","v":0},null,null,null,null,null,null,null,null,null,null,null,null,null,null,null,null,null,null,null,null,null,null,null,null,null,null,null,null,null,null,null,null,null,null,null,null,null,0,null,null,null,null,null,"","","","","","","","","","","","","","","","","","","","","","","","","","","","","","","","",0,null,0,0,0]
[{"$f":"ข้อมูลนักเรียน!B181","v":0},169,{"$f":"ข้อมูลนักเรียน!D181","v":0},null,null,null,null,null,null,null,null,null,null,null,null,null,null,null,null,null,null,null,null,null,null,null,null,null,null,null,null,null,null,null,null,null,null,null,null,null,0,null,null,null,null,null,"","","","","","","","","","","","","","","","","","","","","","","","","","","","","","","","",0,null,0,0,0]
[{"$f":"ข้อมูลนักเรียน!B182","v":0},170,{"$f":"ข้อมูลนักเรียน!D182","v":0},null,null,null,null,null,null,null,null,null,null,null,null,null,null,null,null,null,null,null,null,null,null,null,null,null,null,null,null,null,null,null,null,null,null,null,null,null,0,null,null,null,null,null,"","","","","","","","","","","","","","","","","","","","","","","","","","","","","","","","",0,null,0,0,0]
[{"$f":"ข้อมูลนักเรียน!B183","v":0},171,{"$f":"ข้อมูลนักเรียน!D183","v":0},null,null,null,null,null,null,null,null,null,null,null,null,null,null,null,null,null,null,null,null,null,null,null,null,null,null,null,null,null,null,null,null,null,null,null,null,null,0,null,null,null,null,null,"","","","","","","","","","","","","","","","","","","","","","","","","","","","","","","","",0,null,0,0,0]
[{"$f":"ข้อมูลนักเรียน!B184","v":0},172,{"$f":"ข้อมูลนักเรียน!D184","v":0},null,null,null,null,null,null,null,null,null,null,null,null,null,null,null,null,null,null,null,null,null,null,null,null,null,null,null,null,null,null,null,null,null,null,null,null,null,0,null,null,null,null,null,"","","","","","","","","","","","","","","","","","","","","","","","","","","","","","","","",0,null,0,0,0]
[{"$f":"ข้อมูลนักเรียน!B185","v":0},173,{"$f":"ข้อมูลนักเรียน!D185","v":0},null,null,null,null,null,null,null,null,null,null,null,null,null,null,null,null,null,null,null,null,null,null,null,null,null,null,null,null,null,null,null,null,null,null,null,null,null,0,null,null,null,null,null,"","","","","","","","","","","","","","","","","","","","","","","","","","","","","","","","",0,null,0,0,0]
[{"$f":"ข้อมูลนักเรียน!B186","v":0},174,{"$f":"ข้อมูลนักเรียน!D186","v":0},null,null,null,null,null,null,null,null,null,null,null,null,null,null,null,null,null,null,null,null,null,null,null,null,null,null,null,null,null,null,null,null,null,null,null,null,null,0,null,null,null,null,null,"","","","","","","","","","","","","","","","","","","","","","","","","","","","","","","","",0,null,0,0,0]
[{"$f":"ข้อมูลนักเรียน!B187","v":0},175,{"$f":"ข้อมูลนักเรียน!D187","v":0},null,null,null,null,null,null,null,null,null,null,null,null,null,null,null,null,null,null,null,null,null,null,null,null,null,null,null,null,null,null,null,null,null,null,null,null,null,0,null,null,null,null,null,"","","","","","","","","","","","","","","","","","","","","","","","","","","","","","","","",0,null,0,0,0]
[{"$f":"ข้อมูลนักเรียน!B188","v":0},176,{"$f":"ข้อมูลนักเรียน!D188","v":0},null,null,null,null,null,null,null,null,null,null,null,null,null,null,null,null,null,null,null,null,null,null,null,null,null,null,null,null,null,null,null,null,null,null,null,null,null,0,null,null,null,null,null,"","","","","","","","","","","","","","","","","","","","","","","","","","","","","","","","",0,null,0,0,0]
[{"$f":"ข้อมูลนักเรียน!B189","v":0},177,{"$f":"ข้อมูลนักเรียน!D189","v":0},null,null,null,null,null,null,null,null,null,null,null,null,null,null,null,null,null,null,null,null,null,null,null,null,null,null,null,null,null,null,null,null,null,null,null,null,null,0,null,null,null,null,null,"","","","","","","","","","","","","","","","","","","","","","","","","","","","","","","","",0,null,0,0,0]
[{"$f":"ข้อมูลนักเรียน!B190","v":0},178,{"$f":"ข้อมูลนักเรียน!D190","v":0},null,null,null,null,null,null,null,null,null,null,null,null,null,null,null,null,null,null,null,null,null,null,null,null,null,null,null,null,null,null,null,null,null,null,null,null,null,0,null,null,null,null,null,"","","","","","","","","","","","","","","","","","","","","","","","","","","","","","","","",0,null,0,0,0]
[{"$f":"ข้อมูลนักเรียน!B191","v":0},179,{"$f":"ข้อมูลนักเรียน!D191","v":0},null,null,null,null,null,null,null,null,null,null,null,null,null,null,null,null,null,null,null,null,null,null,null,null,null,null,null,null,null,null,null,null,null,null,null,null,null,0,null,null,null,null,null,"","","","","","","","","","","","","","","","","","","","","","","","","","","","","","","","",0,null,0,0,0]
[{"$f":"ข้อมูลนักเรียน!B192","v":0},180,{"$f":"ข้อมูลนักเรียน!D192","v":0},null,null,null,null,null,null,null,null,null,null,null,null,null,null,null,null,null,null,null,null,null,null,null,null,null,null,null,null,null,null,null,null,null,null,null,null,null,0,null,null,null,null,null,"","","","","","","","","","","","","","","","","","","","","","","","","","","","","","","","",0,null,0,0,0]
[{"$f":"ข้อมูลนักเรียน!B193","v":0},181,{"$f":"ข้อมูลนักเรียน!D193","v":0},null,null,null,null,null,null,null,null,null,null,null,null,null,null,null,null,null,null,null,null,null,null,null,null,null,null,null,null,null,null,null,null,null,null,null,null,null,0,null,null,null,null,null,"","","","","","","","","","","","","","","","","","","","","","","","","","","","","","","","",0,null,0,0,0]
[{"$f":"ข้อมูลนักเรียน!B194","v":0},182,{"$f":"ข้อมูลนักเรียน!D194","v":0},null,null,null,null,null,null,null,null,null,null,null,null,null,null,null,null,null,null,null,null,null,null,null,null,null,null,null,null,null,null,null,null,null,null,null,null,null,0,null,null,null,null,null,"","","","","","","","","","","","","","","","","","","","","","","","","","","","","","","","",0,null,0,0,0]
[{"$f":"ข้อมูลนักเรียน!B195","v":0},183,{"$f":"ข้อมูลนักเรียน!D195","v":0},null,null,null,null,null,null,null,null,null,null,null,null,null,null,null,null,null,null,null,null,null,null,null,null,null,null,null,null,null,null,null,null,null,null,null,null,null,0,null,null,null,null,null,"","","","","","","","","","","","","","","","","","","","","","","","","","","","","","","","",0,null,0,0,0]
[{"$f":"ข้อมูลนักเรียน!B196","v":0},184,{"$f":"ข้อมูลนักเรียน!D196","v":0},null,null,null,null,null,null,null,null,null,null,null,null,null,null,null,null,null,null,null,null,null,null,null,null,null,null,null,null,null,null,null,null,null,null,null,null,null,0,null,null,null,null,null,"","","","","","","","","","","","","","","","","","","","","","","","","","","","","","","","",0,null,0,0,0]
[{"$f":"ข้อมูลนักเรียน!B197","v":0},185,{"$f":"ข้อมูลนักเรียน!D197","v":0},null,null,null,null,null,null,null,null,null,null,null,null,null,null,null,null,null,null,null,null,null,null,null,null,null,null,null,null,null,null,null,null,null,null,null,null,null,0,null,null,null,null,null,"","","","","","","","","","","","","","","","","","","","","","","","","","","","","","","","",0,null,0,0,0]
[{"$f":"ข้อมูลนักเรียน!B198","v":0},186,{"$f":"ข้อมูลนักเรียน!D198","v":0},null,null,null,null,null,null,null,null,null,null,null,null,null,null,null,null,null,null,null,null,null,null,null,null,null,null,null,null,null,null,null,null,null,null,null,null,null,0,null,null,null,null,null,"","","","","","","","","","","","","","","","","","","","","","","","","","","","","","","","",0,null,0,0,0]
[{"$f":"ข้อมูลนักเรียน!B199","v":0},187,{"$f":"ข้อมูลนักเรียน!D199","v":0},null,null,null,null,null,null,null,null,null,null,null,null,null,null,null,null,null,null,null,null,null,null,null,null,null,null,null,null,null,null,null,null,null,null,null,null,null,0,null,null,null,null,null,"","","","","","","","","","","","","","","","","","","","","","","","","","","","","","","","",0,null,0,0,0]
[{"$f":"ข้อมูลนักเรียน!B200","v":0},188,{"$f":"ข้อมูลนักเรียน!D200","v":0},null,null,null,null,null,null,null,null,null,null,null,null,null,null,null,null,null,null,null,null,null,null,null,null,null,null,null,null,null,null,null,null,null,null,null,null,null,0,null,null,null,null,null,"","","","","","","","","","","","","","","","","","","","","","","","","","","","","","","","",0,null,0,0,0]
[{"$f":"ข้อมูลนักเรียน!B201","v":0},189,{"$f":"ข้อมูลนักเรียน!D201","v":0},null,null,null,null,null,null,null,null,null,null,null,null,null,null,null,null,null,null,null,null,null,null,null,null,null,null,null,null,null,null,null,null,null,null,null,null,null,0,null,null,null,null,null,"","","","","","","","","","","","","","","","","","","","","","","","","","","","","","","","",0,null,0,0,0]
[{"$f":"ข้อมูลนักเรียน!B202","v":0},190,{"$f":"ข้อมูลนักเรียน!D202","v":0},null,null,null,null,null,null,null,null,null,null,null,null,null,null,null,null,null,null,null,null,null,null,null,null,null,null,null,null,null,null,null,null,null,null,null,null,null,0,null,null,null,null,null,"","","","","","","","","","","","","","","","","","","","","","","","","","","","","","","","",0,null,0,0,0]
[{"$f":"ข้อมูลนักเรียน!B203","v":0},191,{"$f":"ข้อมูลนักเรียน!D203","v":0},null,null,null,null,null,null,null,null,null,null,null,null,null,null,null,null,null,null,null,null,null,null,null,null,null,null,null,null,null,null,null,null,null,null,null,null,null,0,null,null,null,null,null,"","","","","","","","","","","","","","","","","","","","","","","","","","","","","","","","",0,null,0,0,0]
[{"$f":"ข้อมูลนักเรียน!B204","v":0},192,{"$f":"ข้อมูลนักเรียน!D204","v":0},null,null,null,null,null,null,null,null,null,null,null,null,null,null,null,null,null,null,null,null,null,null,null,null,null,null,null,null,null,null,null,null,null,null,null,null,null,0,null,null,null,null,null,"","","","","","","","","","","","","","","","","","","","","","","","","","","","","","","","",0,null,0,0,0]
[{"$f":"ข้อมูลนักเรียน!B205","v":0},193,{"$f":"ข้อมูลนักเรียน!D205","v":0},null,null,null,null,null,null,null,null,null,null,null,null,null,null,null,null,null,null,null,null,null,null,null,null,null,null,null,null,null,null,null,null,null,null,null,null,null,{"$f":"SUM(IF(G203=NumTh1,ScoreTh1),IF(H203=NumTh2,ScoreTh2),IF(I203=NumTh3,ScoreTh3),IF(J203=NumTh4,ScoreTh4),IF(K203=NumTh5,ScoreTh5),IF(L203=NumTh6,ScoreTh6),IF(M203=NumTh7,ScoreTh7),IF(N203=NumTh8,ScoreTh8),IF(O203=NumTh9,ScoreTh9),IF(P203=NumTh10,ScoreTh10),IF(Q203=NumTh11,ScoreTh11),IF(R203=NumTh12,ScoreTh12),IF(S203=NumTh13,ScoreTh13),IF(T203=NumTh14,ScoreTh14),IF(U203=NumTh15,ScoreTh15),IF(V203=NumTh16,ScoreTh16),IF(W203=NumTh17,ScoreTh17),IF(X203=NumTh18,ScoreTh18),IF(Y203=NumTh19,ScoreTh19),IF(Z203=NumTh20,ScoreTh20),IF(AA203=NumTh21,ScoreTh21),IF(AB203=NumTh22,ScoreTh22),IF(AC203=NumTh23,ScoreTh23),IF(AD203=NumTh24,ScoreTh24),IF(AE203=NumTh25,ScoreTh25),IF(AF203=NumTh26,ScoreTh26),IF(AG203=NumTh27,ScoreTh27),IF(AH203=NumTh28,ScoreTh28),IF(AI203=NumTh29,ScoreTh29),IF(AJ203=NumTh30,ScoreTh30),IF(AK203=NumTh31,ScoreTh31),IF(AL203=NumTh32,ScoreTh32),AM203,AN203)","v":0},null,null,null,null,null,{"$f":"IF(G203=\"\",\"\",IF(G203=NumTh1,\"✓\",\"X\"))","v":""},{"$f":"IF(H203=\"\",\"\",IF(H203=NumTh2,\"✓\",\"X\"))","v":""},{"$f":"IF(I203=\"\",\"\",IF(I203=NumTh3,\"✓\",\"X\"))","v":""},{"$f":"IF(J203=\"\",\"\",IF(J203=NumTh4,\"✓\",\"X\"))","v":""},{"$f":"IF(K203=\"\",\"\",IF(K203=NumTh5,\"✓\",\"X\"))","v":""},{"$f":"IF(L203=\"\",\"\",IF(L203=NumTh6,\"✓\",\"X\"))","v":""},{"$f":"IF(M203=\"\",\"\",IF(M203=NumTh7,\"✓\",\"X\"))","v":""},{"$f":"IF(N203=\"\",\"\",IF(N203=NumTh8,\"✓\",\"X\"))","v":""},{"$f":"IF(O203=\"\",\"\",IF(O203=NumTh9,\"✓\",\"X\"))","v":""},{"$f":"IF(P203=\"\",\"\",IF(P203=NumTh10,\"✓\",\"X\"))","v":""},{"$f":"IF(Q203=\"\",\"\",IF(Q203=NumTh11,\"✓\",\"X\"))","v":""},{"$f":"IF(R203=\"\",\"\",IF(R203=NumTh12,\"✓\",\"X\"))","v":""},{"$f":"IF(S203=\"\",\"\",IF(S203=NumTh13,\"✓\",\"X\"))","v":""},{"$f":"IF(T203=\"\",\"\",IF(T203=NumTh14,\"✓\",\"X\"))","v":""},{"$f":"IF(U203=\"\",\"\",IF(U203=NumTh15,\"✓\",\"X\"))","v":""},{"$f":"IF(V203=\"\",\"\",IF(V203=NumTh16,\"✓\",\"X\"))","v":""},{"$f":"IF(W203=\"\",\"\",IF(W203=NumTh17,\"✓\",\"X\"))","v":""},{"$f":"IF(X203=\"\",\"\",IF(X203=NumTh18,\"✓\",\"X\"))","v":""},{"$f":"IF(Y203=\"\",\"\",IF(Y203=NumTh19,\"✓\",\"X\"))","v":""},{"$f":"IF(Z203=\"\",\"\",IF(Z203=NumTh20,\"✓\",\"X\"))","v":""},{"$f":"IF(AA203=\"\",\"\",IF(AA203=NumTh21,\"✓\",\"X\"))","v":""},{"$f":"IF(AB203=\"\",\"\",IF(AB203=NumTh22,\"✓\",\"X\"))","v":""},{"$f":"IF(AC203=\"\",\"\",IF(AC203=NumTh23,\"✓\",\"X\"))","v":""},{"$f":"IF(AD203=\"\",\"\",IF(AD203=NumTh24,\"✓\",\"X\"))","v":""},{"$f":"IF(AE203=\"\",\"\",IF(AE203=NumTh25,\"✓\",\"X\"))","v":""},{"$f":"IF(AF203=\"\",\"\",IF(AF203=NumTh26,\"✓\",\"X\"))","v":""},{"$f":"IF(AG203=\"\",\"\",IF(AG203=NumTh27,\"✓\",\"X\"))","v":""},{"$f":"IF(AH203=\"\",\"\",IF(AH203=NumTh28,\"✓\",\"X\"))","v":""},{"$f":"IF(AI203=\"\",\"\",IF(AI203=NumTh29,\"✓\",\"X\"))","v":""},{"$f":"IF(AJ203=\"\",\"\",IF(AJ203=NumTh30,\"✓\",\"X\"))","v":""},{"$f":"IF(AK203=\"\",\"\",IF(AK203=NumTh31,\"✓\",\"X\"))","v":""},{"$f":"IF(AL203=\"\",\"\",IF(AL203=NumTh32,\"✓\",\"X\"))","v":""},{"$f":"COUNTIF(AU203:BZ203,\"✓\")","v":0},null,0,0,0]
[{"$f":"ข้อมูลนักเรียน!B206","v":0},194,{"$f":"ข้อมูลนักเรียน!D206","v":0},null,null,null,null,null,null,null,null,null,null,null,null,null,null,null,null,null,null,null,null,null,null,null,null,null,null,null,null,null,null,null,null,null,null,null,null,null,0,null,null,null,null,null,"","","","","","","","","","","","","","","","","","","","","","","","","","","","","","","","",0,null,{"$f":"AM204","v":0},{"$f":"AN204","v":0},{"$f":"SUM(CC204:CD204)","v":0}]
[{"$f":"ข้อมูลนักเรียน!B207","v":0},195,{"$f":"ข้อมูลนักเรียน!D207","v":0},null,null,null,null,null,null,null,null,null,null,null,null,null,null,null,null,null,null,null,null,null,null,null,null,null,null,null,null,null,null,null,null,null,null,null,null,null,0,null,null,null,null,null,"","","","","","","","","","","","","","","","","","","","","","","","","","","","","","","","",0,null,0,0,0]
[{"$f":"ข้อมูลนักเรียน!B208","v":0},196,{"$f":"ข้อมูลนักเรียน!D208","v":0},null,null,null,null,null,null,null,null,null,null,null,null,null,null,null,null,null,null,null,null,null,null,null,null,null,null,null,null,null,null,null,null,null,null,null,null,null,0,null,null,null,null,null,"","","","","","","","","","","","","","","","","","","","","","","","","","","","","","","","",0,null,0,0,0]
[{"$f":"ข้อมูลนักเรียน!B209","v":0},197,{"$f":"ข้อมูลนักเรียน!D209","v":0},null,null,null,null,null,null,null,null,null,null,null,null,null,null,null,null,null,null,null,null,null,null,null,null,null,null,null,null,null,null,null,null,null,null,null,null,null,0,null,null,null,null,null,"","","","","","","","","","","","","","","","","","","","","","","","","","","","","","","","",0,null,0,0,0]
[{"$f":"ข้อมูลนักเรียน!B210","v":0},198,{"$f":"ข้อมูลนักเรียน!D210","v":0},null,null,null,null,null,null,null,null,null,null,null,null,null,null,null,null,null,null,null,null,null,null,null,null,null,null,null,null,null,null,null,null,null,null,null,null,null,0,null,null,null,null,null,"","","","","","","","","","","","","","","","","","","","","","","","","","","","","","","","",0,null,0,0,0]
[{"$f":"ข้อมูลนักเรียน!B211","v":0},199,{"$f":"ข้อมูลนักเรียน!D211","v":0},null,null,null,null,null,null,null,null,null,null,null,null,null,null,null,null,null,null,null,null,null,null,null,null,null,null,null,null,null,null,null,null,null,null,null,null,null,0,null,null,null,null,null,"","","","","","","","","","","","","","","","","","","","","","","","","","","","","","","","",0,null,0,0,0]
[{"$f":"ข้อมูลนักเรียน!B212","v":0},200,{"$f":"ข้อมูลนักเรียน!D212","v":0},null,null,null,null,null,null,null,null,null,null,null,null,null,null,null,null,null,null,null,null,null,null,null,null,null,null,null,null,null,null,null,null,null,null,null,null,null,0,null,null,null,null,null,"","","","","","","","","","","","","","","","","","","","","","","","","","","","","","","","",0,null,0,0,0]
[{"$f":"ข้อมูลนักเรียน!B213","v":0},201,{"$f":"ข้อมูลนักเรียน!D213","v":0},null,null,null,null,null,null,null,null,null,null,null,null,null,null,null,null,null,null,null,null,null,null,null,null,null,null,null,null,null,null,null,null,null,null,null,null,null,0,null,null,null,null,null,"","","","","","","","","","","","","","","","","","","","","","","","","","","","","","","","",0,null,0,0,0]
[{"$f":"ข้อมูลนักเรียน!B214","v":0},202,{"$f":"ข้อมูลนักเรียน!D214","v":0},null,null,null,null,null,null,null,null,null,null,null,null,null,null,null,null,null,null,null,null,null,null,null,null,null,null,null,null,null,null,null,null,null,null,null,null,null,0,null,null,null,null,null,"","","","","","","","","","","","","","","","","","","","","","","","","","","","","","","","",0,null,0,0,0]
[{"$f":"ข้อมูลนักเรียน!B215","v":0},203,{"$f":"ข้อมูลนักเรียน!D215","v":0},null,null,null,null,null,null,null,null,null,null,null,null,null,null,null,null,null,null,null,null,null,null,null,null,null,null,null,null,null,null,null,null,null,null,null,null,null,0,null,null,null,null,null,"","","","","","","","","","","","","","","","","","","","","","","","","","","","","","","","",0,null,0,0,0]
[{"$f":"ข้อมูลนักเรียน!B216","v":0},204,{"$f":"ข้อมูลนักเรียน!D216","v":0},null,null,null,null,null,null,null,null,null,null,null,null,null,null,null,null,null,null,null,null,null,null,null,null,null,null,null,null,null,null,null,null,null,null,null,null,null,0,null,null,null,null,null,"","","","","","","","","","","","","","","","","","","","","","","","","","","","","","","","",0,null,0,0,0]
[{"$f":"ข้อมูลนักเรียน!B217","v":0},205,{"$f":"ข้อมูลนักเรียน!D217","v":0},null,null,null,null,null,null,null,null,null,null,null,null,null,null,null,null,null,null,null,null,null,null,null,null,null,null,null,null,null,null,null,null,null,null,null,null,null,0,null,null,null,null,null,"","","","","","","","","","","","","","","","","","","","","","","","","","","","","","","","",0,null,0,0,0]
[{"$f":"ข้อมูลนักเรียน!B218","v":0},206,{"$f":"ข้อมูลนักเรียน!D218","v":0},null,null,null,null,null,null,null,null,null,null,null,null,null,null,null,null,null,null,null,null,null,null,null,null,null,null,null,null,null,null,null,null,null,null,null,null,null,0,null,null,null,null,null,"","","","","","","","","","","","","","","","","","","","","","","","","","","","","","","","",0,null,0,0,0]
[{"$f":"ข้อมูลนักเรียน!B219","v":0},207,{"$f":"ข้อมูลนักเรียน!D219","v":0},null,null,null,null,null,null,null,null,null,null,null,null,null,null,null,null,null,null,null,null,null,null,null,null,null,null,null,null,null,null,null,null,null,null,null,null,null,0,null,null,null,null,null,"","","","","","","","","","","","","","","","","","","","","","","","","","","","","","","","",0,null,0,0,0]
[{"$f":"ข้อมูลนักเรียน!B220","v":0},208,{"$f":"ข้อมูลนักเรียน!D220","v":0},null,null,null,null,null,null,null,null,null,null,null,null,null,null,null,null,null,null,null,null,null,null,null,null,null,null,null,null,null,null,null,null,null,null,null,null,null,0,null,null,null,null,null,"","","","","","","","","","","","","","","","","","","","","","","","","","","","","","","","",0,null,0,0,0]
[{"$f":"ข้อมูลนักเรียน!B221","v":0},209,{"$f":"ข้อมูลนักเรียน!D221","v":0},null,null,null,null,null,null,null,null,null,null,null,null,null,null,null,null,null,null,null,null,null,null,null,null,null,null,null,null,null,null,null,null,null,null,null,null,null,0,null,null,null,null,null,"","","","","","","","","","","","","","","","","","","","","","","","","","","","","","","","",0,null,0,0,0]
[{"$f":"ข้อมูลนักเรียน!B222","v":0},210,{"$f":"ข้อมูลนักเรียน!D222","v":0},null,null,null,null,null,null,null,null,null,null,null,null,null,null,null,null,null,null,null,null,null,null,null,null,null,null,null,null,null,null,null,null,null,null,null,null,null,0,null,null,null,null,null,"","","","","","","","","","","","","","","","","","","","","","","","","","","","","","","","",0,null,0,0,0]
[{"$f":"ข้อมูลนักเรียน!B223","v":0},211,{"$f":"ข้อมูลนักเรียน!D223","v":0},null,null,null,null,null,null,null,null,null,null,null,null,null,null,null,null,null,null,null,null,null,null,null,null,null,null,null,null,null,null,null,null,null,null,null,null,null,0,null,null,null,null,null,"","","","","","","","","","","","","","","","","","","","","","","","","","","","","","","","",0,null,0,0,0]
[{"$f":"ข้อมูลนักเรียน!B224","v":0},212,{"$f":"ข้อมูลนักเรียน!D224","v":0},null,null,null,null,null,null,null,null,null,null,null,null,null,null,null,null,null,null,null,null,null,null,null,null,null,null,null,null,null,null,null,null,null,null,null,null,null,0,null,null,null,null,null,"","","","","","","","","","","","","","","","","","","","","","","","","","","","","","","","",0,null,0,0,0]
[{"$f":"ข้อมูลนักเรียน!B225","v":0},213,{"$f":"ข้อมูลนักเรียน!D225","v":0},null,null,null,null,null,null,null,null,null,null,null,null,null,null,null,null,null,null,null,null,null,null,null,null,null,null,null,null,null,null,null,null,null,null,null,null,null,0,null,null,null,null,null,"","","","","","","","","","","","","","","","","","","","","","","","","","","","","","","","",0,null,0,0,0]
[{"$f":"ข้อมูลนักเรียน!B226","v":0},214,{"$f":"ข้อมูลนักเรียน!D226","v":0},null,null,null,null,null,null,null,null,null,null,null,null,null,null,null,null,null,null,null,null,null,null,null,null,null,null,null,null,null,null,null,null,null,null,null,null,null,0,null,null,null,null,null,"","","","","","","","","","","","","","","","","","","","","","","","","","","","","","","","",0,null,0,0,0]
[{"$f":"ข้อมูลนักเรียน!B227","v":0},215,{"$f":"ข้อมูลนักเรียน!D227","v":0},null,null,null,null,null,null,null,null,null,null,null,null,null,null,null,null,null,null,null,null,null,null,null,null,null,null,null,null,null,null,null,null,null,null,null,null,null,0,null,null,null,null,null,"","","","","","","","","","","","","","","","","","","","","","","","","","","","","","","","",0,null,0,0,0]
[{"$f":"ข้อมูลนักเรียน!B228","v":0},216,{"$f":"ข้อมูลนักเรียน!D228","v":0},null,null,null,null,null,null,null,null,null,null,null,null,null,null,null,null,null,null,null,null,null,null,null,null,null,null,null,null,null,null,null,null,null,null,null,null,null,0,null,null,null,null,null,"","","","","","","","","","","","","","","","","","","","","","","","","","","","","","","","",0,null,0,0,0]
[{"$f":"ข้อมูลนักเรียน!B229","v":0},217,{"$f":"ข้อมูลนักเรียน!D229","v":0},null,null,null,null,null,null,null,null,null,null,null,null,null,null,null,null,null,null,null,null,null,null,null,null,null,null,null,null,null,null,null,null,null,null,null,null,null,0,null,null,null,null,null,"","","","","","","","","","","","","","","","","","","","","","","","","","","","","","","","",0,null,0,0,0]
[{"$f":"ข้อมูลนักเรียน!B230","v":0},218,{"$f":"ข้อมูลนักเรียน!D230","v":0},null,null,null,null,null,null,null,null,null,null,null,null,null,null,null,null,null,null,null,null,null,null,null,null,null,null,null,null,null,null,null,null,null,null,null,null,null,0,null,null,null,null,null,"","","","","","","","","","","","","","","","","","","","","","","","","","","","","","","","",0,null,0,0,0]
[{"$f":"ข้อมูลนักเรียน!B231","v":0},219,{"$f":"ข้อมูลนักเรียน!D231","v":0},null,null,null,null,null,null,null,null,null,null,null,null,null,null,null,null,null,null,null,null,null,null,null,null,null,null,null,null,null,null,null,null,null,null,null,null,null,0,null,null,null,null,null,"","","","","","","","","","","","","","","","","","","","","","","","","","","","","","","","",0,null,0,0,0]
[{"$f":"ข้อมูลนักเรียน!B232","v":0},220,{"$f":"ข้อมูลนักเรียน!D232","v":0},null,null,null,null,null,null,null,null,null,null,null,null,null,null,null,null,null,null,null,null,null,null,null,null,null,null,null,null,null,null,null,null,null,null,null,null,null,0,null,null,null,null,null,"","","","","","","","","","","","","","","","","","","","","","","","","","","","","","","","",0,null,0,0,0]
[{"$f":"ข้อมูลนักเรียน!B233","v":0},221,{"$f":"ข้อมูลนักเรียน!D233","v":0},null,null,null,null,null,null,null,null,null,null,null,null,null,null,null,null,null,null,null,null,null,null,null,null,null,null,null,null,null,null,null,null,null,null,null,null,null,0,null,null,null,null,null,"","","","","","","","","","","","","","","","","","","","","","","","","","","","","","","","",0,null,0,0,0]
[{"$f":"ข้อมูลนักเรียน!B234","v":0},222,{"$f":"ข้อมูลนักเรียน!D234","v":0},null,null,null,null,null,null,null,null,null,null,null,null,null,null,null,null,null,null,null,null,null,null,null,null,null,null,null,null,null,null,null,null,null,null,null,null,null,0,null,null,null,null,null,"","","","","","","","","","","","","","","","","","","","","","","","","","","","","","","","",0,null,0,0,0]
[{"$f":"ข้อมูลนักเรียน!B235","v":0},223,{"$f":"ข้อมูลนักเรียน!D235","v":0},null,null,null,null,null,null,null,null,null,null,null,null,null,null,null,null,null,null,null,null,null,null,null,null,null,null,null,null,null,null,null,null,null,null,null,null,null,0,null,null,null,null,null,"","","","","","","","","","","","","","","","","","","","","","","","","","","","","","","","",0,null,0,0,0]
[{"$f":"ข้อมูลนักเรียน!B236","v":0},224,{"$f":"ข้อมูลนักเรียน!D236","v":0},null,null,null,null,null,null,null,null,null,null,null,null,null,null,null,null,null,null,null,null,null,null,null,null,null,null,null,null,null,null,null,null,null,null,null,null,null,0,null,null,null,null,null,"","","","","","","","","","","","","","","","","","","","","","","","","","","","","","","","",0,null,0,0,0]
[{"$f":"ข้อมูลนักเรียน!B237","v":0},225,{"$f":"ข้อมูลนักเรียน!D237","v":0},null,null,null,null,null,null,null,null,null,null,null,null,null,null,null,null,null,null,null,null,null,null,null,null,null,null,null,null,null,null,null,null,null,null,null,null,null,0,null,null,null,null,null,"","","","","","","","","","","","","","","","","","","","","","","","","","","","","","","","",0,null,0,0,0]
[{"$f":"ข้อมูลนักเรียน!B238","v":0},226,{"$f":"ข้อมูลนักเรียน!D238","v":0},null,null,null,null,null,null,null,null,null,null,null,null,null,null,null,null,null,null,null,null,null,null,null,null,null,null,null,null,null,null,null,null,null,null,null,null,null,0,null,null,null,null,null,"","","","","","","","","","","","","","","","","","","","","","","","","","","","","","","","",0,null,0,0,0]
[{"$f":"ข้อมูลนักเรียน!B239","v":0},227,{"$f":"ข้อมูลนักเรียน!D239","v":0},null,null,null,null,null,null,null,null,null,null,null,null,null,null,null,null,null,null,null,null,null,null,null,null,null,null,null,null,null,null,null,null,null,null,null,null,null,0,null,null,null,null,null,"","","","","","","","","","","","","","","","","","","","","","","","","","","","","","","","",0,null,0,0,0]
[{"$f":"ข้อมูลนักเรียน!B240","v":0},228,{"$f":"ข้อมูลนักเรียน!D240","v":0},null,null,null,null,null,null,null,null,null,null,null,null,null,null,null,null,null,null,null,null,null,null,null,null,null,null,null,null,null,null,null,null,null,null,null,null,null,0,null,null,null,null,null,"","","","","","","","","","","","","","","","","","","","","","","","","","","","","","","","",0,null,0,0,0]
[{"$f":"ข้อมูลนักเรียน!B241","v":0},229,{"$f":"ข้อมูลนักเรียน!D241","v":0},null,null,null,null,null,null,null,null,null,null,null,null,null,null,null,null,null,null,null,null,null,null,null,null,null,null,null,null,null,null,null,null,null,null,null,null,null,0,null,null,null,null,null,"","","","","","","","","","","","","","","","","","","","","","","","","","","","","","","","",0,null,0,0,0]
[{"$f":"ข้อมูลนักเรียน!B242","v":0},230,{"$f":"ข้อมูลนักเรียน!D242","v":0},null,null,null,null,null,null,null,null,null,null,null,null,null,null,null,null,null,null,null,null,null,null,null,null,null,null,null,null,null,null,null,null,null,null,null,null,null,0,null,null,null,null,null,"","","","","","","","","","","","","","","","","","","","","","","","","","","","","","","","",0,null,0,0,0]
[{"$f":"ข้อมูลนักเรียน!B243","v":0},231,{"$f":"ข้อมูลนักเรียน!D243","v":0},null,null,null,null,null,null,null,null,null,null,null,null,null,null,null,null,null,null,null,null,null,null,null,null,null,null,null,null,null,null,null,null,null,null,null,null,null,0,null,null,null,null,null,"","","","","","","","","","","","","","","","","","","","","","","","","","","","","","","","",0,null,0,0,0]
[{"$f":"ข้อมูลนักเรียน!B244","v":0},232,{"$f":"ข้อมูลนักเรียน!D244","v":0},null,null,null,null,null,null,null,null,null,null,null,null,null,null,null,null,null,null,null,null,null,null,null,null,null,null,null,null,null,null,null,null,null,null,null,null,null,0,null,null,null,null,null,"","","","","","","","","","","","","","","","","","","","","","","","","","","","","","","","",0,null,0,0,0]
[{"$f":"ข้อมูลนักเรียน!B245","v":0},233,{"$f":"ข้อมูลนักเรียน!D245","v":0},null,null,null,null,null,null,null,null,null,null,null,null,null,null,null,null,null,null,null,null,null,null,null,null,null,null,null,null,null,null,null,null,null,null,null,null,null,0,null,null,null,null,null,"","","","","","","","","","","","","","","","","","","","","","","","","","","","","","","","",0,null,0,0,0]
[{"$f":"ข้อมูลนักเรียน!B246","v":0},234,{"$f":"ข้อมูลนักเรียน!D246","v":0},null,null,null,null,null,null,null,null,null,null,null,null,null,null,null,null,null,null,null,null,null,null,null,null,null,null,null,null,null,null,null,null,null,null,null,null,null,0,null,null,null,null,null,"","","","","","","","","","","","","","","","","","","","","","","","","","","","","","","","",0,null,0,0,0]
[{"$f":"ข้อมูลนักเรียน!B247","v":0},235,{"$f":"ข้อมูลนักเรียน!D247","v":0},null,null,null,null,null,null,null,null,null,null,null,null,null,null,null,null,null,null,null,null,null,null,null,null,null,null,null,null,null,null,null,null,null,null,null,null,null,0,null,null,null,null,null,"","","","","","","","","","","","","","","","","","","","","","","","","","","","","","","","",0,null,0,0,0]
[{"$f":"ข้อมูลนักเรียน!B248","v":0},236,{"$f":"ข้อมูลนักเรียน!D248","v":0},null,null,null,null,null,null,null,null,null,null,null,null,null,null,null,null,null,null,null,null,null,null,null,null,null,null,null,null,null,null,null,null,null,null,null,null,null,0,null,null,null,null,null,"","","","","","","","","","","","","","","","","","","","","","","","","","","","","","","","",0,null,0,0,0]
[{"$f":"ข้อมูลนักเรียน!B249","v":0},237,{"$f":"ข้อมูลนักเรียน!D249","v":0},null,null,null,null,null,null,null,null,null,null,null,null,null,null,null,null,null,null,null,null,null,null,null,null,null,null,null,null,null,null,null,null,null,null,null,null,null,0,null,null,null,null,null,"","","","","","","","","","","","","","","","","","","","","","","","","","","","","","","","",0,null,0,0,0]
[{"$f":"ข้อมูลนักเรียน!B250","v":0},238,{"$f":"ข้อมูลนักเรียน!D250","v":0},null,null,null,null,null,null,null,null,null,null,null,null,null,null,null,null,null,null,null,null,null,null,null,null,null,null,null,null,null,null,null,null,null,null,null,null,null,0,null,null,null,null,null,"","","","","","","","","","","","","","","","","","","","","","","","","","","","","","","","",0,null,0,0,0]
[{"$f":"ข้อมูลนักเรียน!B251","v":0},239,{"$f":"ข้อมูลนักเรียน!D251","v":0},null,null,null,null,null,null,null,null,null,null,null,null,null,null,null,null,null,null,null,null,null,null,null,null,null,null,null,null,null,null,null,null,null,null,null,null,null,0,null,null,null,null,null,"","","","","","","","","","","","","","","","","","","","","","","","","","","","","","","","",0,null,0,0,0]
[{"$f":"ข้อมูลนักเรียน!B252","v":0},240,{"$f":"ข้อมูลนักเรียน!D252","v":0},null,null,null,null,null,null,null,null,null,null,null,null,null,null,null,null,null,null,null,null,null,null,null,null,null,null,null,null,null,null,null,null,null,null,null,null,null,0,null,null,null,null,null,"","","","","","","","","","","","","","","","","","","","","","","","","","","","","","","","",0,null,0,0,0]
[{"$f":"ข้อมูลนักเรียน!B253","v":0},241,{"$f":"ข้อมูลนักเรียน!D253","v":0},null,null,null,null,null,null,null,null,null,null,null,null,null,null,null,null,null,null,null,null,null,null,null,null,null,null,null,null,null,null,null,null,null,null,null,null,null,0,null,null,null,null,null,"","","","","","","","","","","","","","","","","","","","","","","","","","","","","","","","",0,null,0,0,0]
[{"$f":"ข้อมูลนักเรียน!B254","v":0},242,{"$f":"ข้อมูลนักเรียน!D254","v":0},null,null,null,null,null,null,null,null,null,null,null,null,null,null,null,null,null,null,null,null,null,null,null,null,null,null,null,null,null,null,null,null,null,null,null,null,null,0,null,null,null,null,null,"","","","","","","","","","","","","","","","","","","","","","","","","","","","","","","","",0,null,0,0,0]
[{"$f":"ข้อมูลนักเรียน!B255","v":0},243,{"$f":"ข้อมูลนักเรียน!D255","v":0},null,null,null,null,null,null,null,null,null,null,null,null,null,null,null,null,null,null,null,null,null,null,null,null,null,null,null,null,null,null,null,null,null,null,null,null,null,0,null,null,null,null,null,"","","","","","","","","","","","","","","","","","","","","","","","","","","","","","","","",0,null,0,0,0]
[{"$f":"ข้อมูลนักเรียน!B256","v":0},244,{"$f":"ข้อมูลนักเรียน!D256","v":0},null,null,null,null,null,null,null,null,null,null,null,null,null,null,null,null,null,null,null,null,null,null,null,null,null,null,null,null,null,null,null,null,null,null,null,null,null,0,null,null,null,null,null,"","","","","","","","","","","","","","","","","","","","","","","","","","","","","","","","",0,null,0,0,0]
[{"$f":"ข้อมูลนักเรียน!B257","v":0},245,{"$f":"ข้อมูลนักเรียน!D257","v":0},null,null,null,null,null,null,null,null,null,null,null,null,null,null,null,null,null,null,null,null,null,null,null,null,null,null,null,null,null,null,null,null,null,null,null,null,null,0,null,null,null,null,null,"","","","","","","","","","","","","","","","","","","","","","","","","","","","","","","","",0,null,0,0,0]
[{"$f":"ข้อมูลนักเรียน!B258","v":0},246,{"$f":"ข้อมูลนักเรียน!D258","v":0},null,null,null,null,null,null,null,null,null,null,null,null,null,null,null,null,null,null,null,null,null,null,null,null,null,null,null,null,null,null,null,null,null,null,null,null,null,0,null,null,null,null,null,"","","","","","","","","","","","","","","","","","","","","","","","","","","","","","","","",0,null,0,0,0]
[{"$f":"ข้อมูลนักเรียน!B259","v":0},247,{"$f":"ข้อมูลนักเรียน!D259","v":0},null,null,null,null,null,null,null,null,null,null,null,null,null,null,null,null,null,null,null,null,null,null,null,null,null,null,null,null,null,null,null,null,null,null,null,null,null,0,null,null,null,null,null,"","","","","","","","","","","","","","","","","","","","","","","","","","","","","","","","",0,null,0,0,0]
[{"$f":"ข้อมูลนักเรียน!B260","v":0},248,{"$f":"ข้อมูลนักเรียน!D260","v":0},null,null,null,null,null,null,null,null,null,null,null,null,null,null,null,null,null,null,null,null,null,null,null,null,null,null,null,null,null,null,null,null,null,null,null,null,null,0,null,null,null,null,null,"","","","","","","","","","","","","","","","","","","","","","","","","","","","","","","","",0,null,0,0,0]
[{"$f":"ข้อมูลนักเรียน!B261","v":0},249,{"$f":"ข้อมูลนักเรียน!D261","v":0},null,null,null,null,null,null,null,null,null,null,null,null,null,null,null,null,null,null,null,null,null,null,null,null,null,null,null,null,null,null,null,null,null,null,null,null,null,0,null,null,null,null,null,"","","","","","","","","","","","","","","","","","","","","","","","","","","","","","","","",0,null,0,0,0]
[{"$f":"ข้อมูลนักเรียน!B262","v":0},250,{"$f":"ข้อมูลนักเรียน!D262","v":0},null,null,null,null,null,null,null,null,null,null,null,null,null,null,null,null,null,null,null,null,null,null,null,null,null,null,null,null,null,null,null,null,null,null,null,null,null,0,null,null,null,null,null,"","","","","","","","","","","","","","","","","","","","","","","","","","","","","","","","",0,null,0,0,0]
[{"$f":"ข้อมูลนักเรียน!B263","v":0},251,{"$f":"ข้อมูลนักเรียน!D263","v":0},null,null,null,null,null,null,null,null,null,null,null,null,null,null,null,null,null,null,null,null,null,null,null,null,null,null,null,null,null,null,null,null,null,null,null,null,null,0,null,null,null,null,null,"","","","","","","","","","","","","","","","","","","","","","","","","","","","","","","","",0,null,0,0,0]
[{"$f":"ข้อมูลนักเรียน!B264","v":0},252,{"$f":"ข้อมูลนักเรียน!D264","v":0},null,null,null,null,null,null,null,null,null,null,null,null,null,null,null,null,null,null,null,null,null,null,null,null,null,null,null,null,null,null,null,null,null,null,null,null,null,0,null,null,null,null,null,"","","","","","","","","","","","","","","","","","","","","","","","","","","","","","","","",0,null,0,0,0]
[{"$f":"ข้อมูลนักเรียน!B265","v":0},253,{"$f":"ข้อมูลนักเรียน!D265","v":0},null,null,null,null,null,null,null,null,null,null,null,null,null,null,null,null,null,null,null,null,null,null,null,null,null,null,null,null,null,null,null,null,null,null,null,null,null,0,null,null,null,null,null,"","","","","","","","","","","","","","","","","","","","","","","","","","","","","","","","",0,null,0,0,0]
[{"$f":"ข้อมูลนักเรียน!B266","v":0},254,{"$f":"ข้อมูลนักเรียน!D266","v":0},null,null,null,null,null,null,null,null,null,null,null,null,null,null,null,null,null,null,null,null,null,null,null,null,null,null,null,null,null,null,null,null,null,null,null,null,null,0,null,null,null,null,null,"","","","","","","","","","","","","","","","","","","","","","","","","","","","","","","","",0,null,0,0,0]
[{"$f":"ข้อมูลนักเรียน!B267","v":0},255,{"$f":"ข้อมูลนักเรียน!D267","v":0},null,null,null,null,null,null,null,null,null,null,null,null,null,null,null,null,null,null,null,null,null,null,null,null,null,null,null,null,null,null,null,null,null,null,null,null,null,0,null,null,null,null,null,"","","","","","","","","","","","","","","","","","","","","","","","","","","","","","","","",0,null,0,0,0]
[{"$f":"ข้อมูลนักเรียน!B268","v":0},256,{"$f":"ข้อมูลนักเรียน!D268","v":0},null,null,null,null,null,null,null,null,null,null,null,null,null,null,null,null,null,null,null,null,null,null,null,null,null,null,null,null,null,null,null,null,null,null,null,null,null,0,null,null,null,null,null,"","","","","","","","","","","","","","","","","","","","","","","","","","","","","","","","",0,null,0,0,0]
[{"$f":"ข้อมูลนักเรียน!B269","v":0},257,{"$f":"ข้อมูลนักเรียน!D269","v":0},null,null,null,null,null,null,null,null,null,null,null,null,null,null,null,null,null,null,null,null,null,null,null,null,null,null,null,null,null,null,null,null,null,null,null,null,null,{"$f":"SUM(IF(G267=NumTh1,ScoreTh1),IF(H267=NumTh2,ScoreTh2),IF(I267=NumTh3,ScoreTh3),IF(J267=NumTh4,ScoreTh4),IF(K267=NumTh5,ScoreTh5),IF(L267=NumTh6,ScoreTh6),IF(M267=NumTh7,ScoreTh7),IF(N267=NumTh8,ScoreTh8),IF(O267=NumTh9,ScoreTh9),IF(P267=NumTh10,ScoreTh10),IF(Q267=NumTh11,ScoreTh11),IF(R267=NumTh12,ScoreTh12),IF(S267=NumTh13,ScoreTh13),IF(T267=NumTh14,ScoreTh14),IF(U267=NumTh15,ScoreTh15),IF(V267=NumTh16,ScoreTh16),IF(W267=NumTh17,ScoreTh17),IF(X267=NumTh18,ScoreTh18),IF(Y267=NumTh19,ScoreTh19),IF(Z267=NumTh20,ScoreTh20),IF(AA267=NumTh21,ScoreTh21),IF(AB267=NumTh22,ScoreTh22),IF(AC267=NumTh23,ScoreTh23),IF(AD267=NumTh24,ScoreTh24),IF(AE267=NumTh25,ScoreTh25),IF(AF267=NumTh26,ScoreTh26),IF(AG267=NumTh27,ScoreTh27),IF(AH267=NumTh28,ScoreTh28),IF(AI267=NumTh29,ScoreTh29),IF(AJ267=NumTh30,ScoreTh30),IF(AK267=NumTh31,ScoreTh31),IF(AL267=NumTh32,ScoreTh32),AM267,AN267)","v":0},null,null,null,null,null,{"$f":"IF(G267=\"\",\"\",IF(G267=NumTh1,\"✓\",\"X\"))","v":""},{"$f":"IF(H267=\"\",\"\",IF(H267=NumTh2,\"✓\",\"X\"))","v":""},{"$f":"IF(I267=\"\",\"\",IF(I267=NumTh3,\"✓\",\"X\"))","v":""},{"$f":"IF(J267=\"\",\"\",IF(J267=NumTh4,\"✓\",\"X\"))","v":""},{"$f":"IF(K267=\"\",\"\",IF(K267=NumTh5,\"✓\",\"X\"))","v":""},{"$f":"IF(L267=\"\",\"\",IF(L267=NumTh6,\"✓\",\"X\"))","v":""},{"$f":"IF(M267=\"\",\"\",IF(M267=NumTh7,\"✓\",\"X\"))","v":""},{"$f":"IF(N267=\"\",\"\",IF(N267=NumTh8,\"✓\",\"X\"))","v":""},{"$f":"IF(O267=\"\",\"\",IF(O267=NumTh9,\"✓\",\"X\"))","v":""},{"$f":"IF(P267=\"\",\"\",IF(P267=NumTh10,\"✓\",\"X\"))","v":""},{"$f":"IF(Q267=\"\",\"\",IF(Q267=NumTh11,\"✓\",\"X\"))","v":""},{"$f":"IF(R267=\"\",\"\",IF(R267=NumTh12,\"✓\",\"X\"))","v":""},{"$f":"IF(S267=\"\",\"\",IF(S267=NumTh13,\"✓\",\"X\"))","v":""},{"$f":"IF(T267=\"\",\"\",IF(T267=NumTh14,\"✓\",\"X\"))","v":""},{"$f":"IF(U267=\"\",\"\",IF(U267=NumTh15,\"✓\",\"X\"))","v":""},{"$f":"IF(V267=\"\",\"\",IF(V267=NumTh16,\"✓\",\"X\"))","v":""},{"$f":"IF(W267=\"\",\"\",IF(W267=NumTh17,\"✓\",\"X\"))","v":""},{"$f":"IF(X267=\"\",\"\",IF(X267=NumTh18,\"✓\",\"X\"))","v":""},{"$f":"IF(Y267=\"\",\"\",IF(Y267=NumTh19,\"✓\",\"X\"))","v":""},{"$f":"IF(Z267=\"\",\"\",IF(Z267=NumTh20,\"✓\",\"X\"))","v":""},{"$f":"IF(AA267=\"\",\"\",IF(AA267=NumTh21,\"✓\",\"X\"))","v":""},{"$f":"IF(AB267=\"\",\"\",IF(AB267=NumTh22,\"✓\",\"X\"))","v":""},{"$f":"IF(AC267=\"\",\"\",IF(AC267=NumTh23,\"✓\",\"X\"))","v":""},{"$f":"IF(AD267=\"\",\"\",IF(AD267=NumTh24,\"✓\",\"X\"))","v":""},{"$f":"IF(AE267=\"\",\"\",IF(AE267=NumTh25,\"✓\",\"X\"))","v":""},{"$f":"IF(AF267=\"\",\"\",IF(AF267=NumTh26,\"✓\",\"X\"))","v":""},{"$f":"IF(AG267=\"\",\"\",IF(AG267=NumTh27,\"✓\",\"X\"))","v":""},{"$f":"IF(AH267=\"\",\"\",IF(AH267=NumTh28,\"✓\",\"X\"))","v":""},{"$f":"IF(AI267=\"\",\"\",IF(AI267=NumTh29,\"✓\",\"X\"))","v":""},{"$f":"IF(AJ267=\"\",\"\",IF(AJ267=NumTh30,\"✓\",\"X\"))","v":""},{"$f":"IF(AK267=\"\",\"\",IF(AK267=NumTh31,\"✓\",\"X\"))","v":""},{"$f":"IF(AL267=\"\",\"\",IF(AL267=NumTh32,\"✓\",\"X\"))","v":""},{"$f":"COUNTIF(AU267:BZ267,\"✓\")","v":0},null,0,0,0]
[{"$f":"ข้อมูลนักเรียน!B270","v":0},258,{"$f":"ข้อมูลนักเรียน!D270","v":0},null,null,null,null,null,null,null,null,null,null,null,null,null,null,null,null,null,null,null,null,null,null,null,null,null,null,null,null,null,null,null,null,null,null,null,null,null,0,null,null,null,null,null,"","","","","","","","","","","","","","","","","","","","","","","","","","","","","","","","",0,null,{"$f":"AM268","v":0},{"$f":"AN268","v":0},{"$f":"SUM(CC268:CD268)","v":0}]
[{"$f":"ข้อมูลนักเรียน!B271","v":0},259,{"$f":"ข้อมูลนักเรียน!D271","v":0},null,null,null,null,null,null,null,null,null,null,null,null,null,null,null,null,null,null,null,null,null,null,null,null,null,null,null,null,null,null,null,null,null,null,null,null,null,0,null,null,null,null,null,"","","","","","","","","","","","","","","","","","","","","","","","","","","","","","","","",0,null,0,0,0]
[{"$f":"ข้อมูลนักเรียน!B272","v":0},260,{"$f":"ข้อมูลนักเรียน!D272","v":0},null,null,null,null,null,null,null,null,null,null,null,null,null,null,null,null,null,null,null,null,null,null,null,null,null,null,null,null,null,null,null,null,null,null,null,null,null,0,null,null,null,null,null,"","","","","","","","","","","","","","","","","","","","","","","","","","","","","","","","",0,null,0,0,0]
[{"$f":"ข้อมูลนักเรียน!B273","v":0},261,{"$f":"ข้อมูลนักเรียน!D273","v":0},null,null,null,null,null,null,null,null,null,null,null,null,null,null,null,null,null,null,null,null,null,null,null,null,null,null,null,null,null,null,null,null,null,null,null,null,null,0,null,null,null,null,null,"","","","","","","","","","","","","","","","","","","","","","","","","","","","","","","","",0,null,0,0,0]
[{"$f":"ข้อมูลนักเรียน!B274","v":0},262,{"$f":"ข้อมูลนักเรียน!D274","v":0},null,null,null,null,null,null,null,null,null,null,null,null,null,null,null,null,null,null,null,null,null,null,null,null,null,null,null,null,null,null,null,null,null,null,null,null,null,0,null,null,null,null,null,"","","","","","","","","","","","","","","","","","","","","","","","","","","","","","","","",0,null,0,0,0]
[{"$f":"ข้อมูลนักเรียน!B275","v":0},263,{"$f":"ข้อมูลนักเรียน!D275","v":0},null,null,null,null,null,null,null,null,null,null,null,null,null,null,null,null,null,null,null,null,null,null,null,null,null,null,null,null,null,null,null,null,null,null,null,null,null,0,null,null,null,null,null,"","","","","","","","","","","","","","","","","","","","","","","","","","","","","","","","",0,null,0,0,0]
[{"$f":"ข้อมูลนักเรียน!B276","v":0},264,{"$f":"ข้อมูลนักเรียน!D276","v":0},null,null,null,null,null,null,null,null,null,null,null,null,null,null,null,null,null,null,null,null,null,null,null,null,null,null,null,null,null,null,null,null,null,null,null,null,null,0,null,null,null,null,null,"","","","","","","","","","","","","","","","","","","","","","","","","","","","","","","","",0,null,0,0,0]
[{"$f":"ข้อมูลนักเรียน!B277","v":0},265,{"$f":"ข้อมูลนักเรียน!D277","v":0},null,null,null,null,null,null,null,null,null,null,null,null,null,null,null,null,null,null,null,null,null,null,null,null,null,null,null,null,null,null,null,null,null,null,null,null,null,0,null,null,null,null,null,"","","","","","","","","","","","","","","","","","","","","","","","","","","","","","","","",0,null,0,0,0]
[{"$f":"ข้อมูลนักเรียน!B278","v":0},266,{"$f":"ข้อมูลนักเรียน!D278","v":0},null,null,null,null,null,null,null,null,null,null,null,null,null,null,null,null,null,null,null,null,null,null,null,null,null,null,null,null,null,null,null,null,null,null,null,null,null,0,null,null,null,null,null,"","","","","","","","","","","","","","","","","","","","","","","","","","","","","","","","",0,null,0,0,0]
[{"$f":"ข้อมูลนักเรียน!B279","v":0},267,{"$f":"ข้อมูลนักเรียน!D279","v":0},null,null,null,null,null,null,null,null,null,null,null,null,null,null,null,null,null,null,null,null,null,null,null,null,null,null,null,null,null,null,null,null,null,null,null,null,null,0,null,null,null,null,null,"","","","","","","","","","","","","","","","","","","","","","","","","","","","","","","","",0,null,0,0,0]
[{"$f":"ข้อมูลนักเรียน!B280","v":0},268,{"$f":"ข้อมูลนักเรียน!D280","v":0},null,null,null,null,null,null,null,null,null,null,null,null,null,null,null,null,null,null,null,null,null,null,null,null,null,null,null,null,null,null,null,null,null,null,null,null,null,0,null,null,null,null,null,"","","","","","","","","","","","","","","","","","","","","","","","","","","","","","","","",0,null,0,0,0]
[{"$f":"ข้อมูลนักเรียน!B281","v":0},269,{"$f":"ข้อมูลนักเรียน!D281","v":0},null,null,null,null,null,null,null,null,null,null,null,null,null,null,null,null,null,null,null,null,null,null,null,null,null,null,null,null,null,null,null,null,null,null,null,null,null,0,null,null,null,null,null,"","","","","","","","","","","","","","","","","","","","","","","","","","","","","","","","",0,null,0,0,0]
[{"$f":"ข้อมูลนักเรียน!B282","v":0},270,{"$f":"ข้อมูลนักเรียน!D282","v":0},null,null,null,null,null,null,null,null,null,null,null,null,null,null,null,null,null,null,null,null,null,null,null,null,null,null,null,null,null,null,null,null,null,null,null,null,null,0,null,null,null,null,null,"","","","","","","","","","","","","","","","","","","","","","","","","","","","","","","","",0,null,0,0,0]
[{"$f":"ข้อมูลนักเรียน!B283","v":0},271,{"$f":"ข้อมูลนักเรียน!D283","v":0},null,null,null,null,null,null,null,null,null,null,null,null,null,null,null,null,null,null,null,null,null,null,null,null,null,null,null,null,null,null,null,null,null,null,null,null,null,0,null,null,null,null,null,"","","","","","","","","","","","","","","","","","","","","","","","","","","","","","","","",0,null,0,0,0]
[{"$f":"ข้อมูลนักเรียน!B284","v":0},272,{"$f":"ข้อมูลนักเรียน!D284","v":0},null,null,null,null,null,null,null,null,null,null,null,null,null,null,null,null,null,null,null,null,null,null,null,null,null,null,null,null,null,null,null,null,null,null,null,null,null,0,null,null,null,null,null,"","","","","","","","","","","","","","","","","","","","","","","","","","","","","","","","",0,null,0,0,0]
[{"$f":"ข้อมูลนักเรียน!B285","v":0},273,{"$f":"ข้อมูลนักเรียน!D285","v":0},null,null,null,null,null,null,null,null,null,null,null,null,null,null,null,null,null,null,null,null,null,null,null,null,null,null,null,null,null,null,null,null,null,null,null,null,null,0,null,null,null,null,null,"","","","","","","","","","","","","","","","","","","","","","","","","","","","","","","","",0,null,0,0,0]
[{"$f":"ข้อมูลนักเรียน!B286","v":0},274,{"$f":"ข้อมูลนักเรียน!D286","v":0},null,null,null,null,null,null,null,null,null,null,null,null,null,null,null,null,null,null,null,null,null,null,null,null,null,null,null,null,null,null,null,null,null,null,null,null,null,0,null,null,null,null,null,"","","","","","","","","","","","","","","","","","","","","","","","","","","","","","","","",0,null,0,0,0]
[{"$f":"ข้อมูลนักเรียน!B287","v":0},275,{"$f":"ข้อมูลนักเรียน!D287","v":0},null,null,null,null,null,null,null,null,null,null,null,null,null,null,null,null,null,null,null,null,null,null,null,null,null,null,null,null,null,null,null,null,null,null,null,null,null,0,null,null,null,null,null,"","","","","","","","","","","","","","","","","","","","","","","","","","","","","","","","",0,null,0,0,0]
[{"$f":"ข้อมูลนักเรียน!B288","v":0},276,{"$f":"ข้อมูลนักเรียน!D288","v":0},null,null,null,null,null,null,null,null,null,null,null,null,null,null,null,null,null,null,null,null,null,null,null,null,null,null,null,null,null,null,null,null,null,null,null,null,null,0,null,null,null,null,null,"","","","","","","","","","","","","","","","","","","","","","","","","","","","","","","","",0,null,0,0,0]
[{"$f":"ข้อมูลนักเรียน!B289","v":0},277,{"$f":"ข้อมูลนักเรียน!D289","v":0},null,null,null,null,null,null,null,null,null,null,null,null,null,null,null,null,null,null,null,null,null,null,null,null,null,null,null,null,null,null,null,null,null,null,null,null,null,0,null,null,null,null,null,"","","","","","","","","","","","","","","","","","","","","","","","","","","","","","","","",0,null,0,0,0]
[{"$f":"ข้อมูลนักเรียน!B290","v":0},278,{"$f":"ข้อมูลนักเรียน!D290","v":0},null,null,null,null,null,null,null,null,null,null,null,null,null,null,null,null,null,null,null,null,null,null,null,null,null,null,null,null,null,null,null,null,null,null,null,null,null,0,null,null,null,null,null,"","","","","","","","","","","","","","","","","","","","","","","","","","","","","","","","",0,null,0,0,0]
[{"$f":"ข้อมูลนักเรียน!B291","v":0},279,{"$f":"ข้อมูลนักเรียน!D291","v":0},null,null,null,null,null,null,null,null,null,null,null,null,null,null,null,null,null,null,null,null,null,null,null,null,null,null,null,null,null,null,null,null,null,null,null,null,null,0,null,null,null,null,null,"","","","","","","","","","","","","","","","","","","","","","","","","","","","","","","","",0,null,0,0,0]
[{"$f":"ข้อมูลนักเรียน!B292","v":0},280,{"$f":"ข้อมูลนักเรียน!D292","v":0},null,null,null,null,null,null,null,null,null,null,null,null,null,null,null,null,null,null,null,null,null,null,null,null,null,null,null,null,null,null,null,null,null,null,null,null,null,0,null,null,null,null,null,"","","","","","","","","","","","","","","","","","","","","","","","","","","","","","","","",0,null,0,0,0]
[{"$f":"ข้อมูลนักเรียน!B293","v":0},281,{"$f":"ข้อมูลนักเรียน!D293","v":0},null,null,null,null,null,null,null,null,null,null,null,null,null,null,null,null,null,null,null,null,null,null,null,null,null,null,null,null,null,null,null,null,null,null,null,null,null,0,null,null,null,null,null,"","","","","","","","","","","","","","","","","","","","","","","","","","","","","","","","",0,null,0,0,0]
[{"$f":"ข้อมูลนักเรียน!B294","v":0},282,{"$f":"ข้อมูลนักเรียน!D294","v":0},null,null,null,null,null,null,null,null,null,null,null,null,null,null,null,null,null,null,null,null,null,null,null,null,null,null,null,null,null,null,null,null,null,null,null,null,null,0,null,null,null,null,null,"","","","","","","","","","","","","","","","","","","","","","","","","","","","","","","","",0,null,0,0,0]
[{"$f":"ข้อมูลนักเรียน!B295","v":0},283,{"$f":"ข้อมูลนักเรียน!D295","v":0},null,null,null,null,null,null,null,null,null,null,null,null,null,null,null,null,null,null,null,null,null,null,null,null,null,null,null,null,null,null,null,null,null,null,null,null,null,0,null,null,null,null,null,"","","","","","","","","","","","","","","","","","","","","","","","","","","","","","","","",0,null,0,0,0]
[{"$f":"ข้อมูลนักเรียน!B296","v":0},284,{"$f":"ข้อมูลนักเรียน!D296","v":0},null,null,null,null,null,null,null,null,null,null,null,null,null,null,null,null,null,null,null,null,null,null,null,null,null,null,null,null,null,null,null,null,null,null,null,null,null,0,null,null,null,null,null,"","","","","","","","","","","","","","","","","","","","","","","","","","","","","","","","",0,null,0,0,0]
[{"$f":"ข้อมูลนักเรียน!B297","v":0},285,{"$f":"ข้อมูลนักเรียน!D297","v":0},null,null,null,null,null,null,null,null,null,null,null,null,null,null,null,null,null,null,null,null,null,null,null,null,null,null,null,null,null,null,null,null,null,null,null,null,null,0,null,null,null,null,null,"","","","","","","","","","","","","","","","","","","","","","","","","","","","","","","","",0,null,0,0,0]
[{"$f":"ข้อมูลนักเรียน!B298","v":0},286,{"$f":"ข้อมูลนักเรียน!D298","v":0},null,null,null,null,null,null,null,null,null,null,null,null,null,null,null,null,null,null,null,null,null,null,null,null,null,null,null,null,null,null,null,null,null,null,null,null,null,0,null,null,null,null,null,"","","","","","","","","","","","","","","","","","","","","","","","","","","","","","","","",0,null,0,0,0]
[{"$f":"ข้อมูลนักเรียน!B299","v":0},287,{"$f":"ข้อมูลนักเรียน!D299","v":0},null,null,null,null,null,null,null,null,null,null,null,null,null,null,null,null,null,null,null,null,null,null,null,null,null,null,null,null,null,null,null,null,null,null,null,null,null,0,null,null,null,null,null,"","","","","","","","","","","","","","","","","","","","","","","","","","","","","","","","",0,null,0,0,0]
[{"$f":"ข้อมูลนักเรียน!B300","v":0},288,{"$f":"ข้อมูลนักเรียน!D300","v":0},null,null,null,null,null,null,null,null,null,null,null,null,null,null,null,null,null,null,null,null,null,null,null,null,null,null,null,null,null,null,null,null,null,null,null,null,null,0,null,null,null,null,null,"","","","","","","","","","","","","","","","","","","","","","","","","","","","","","","","",0,null,0,0,0]
[{"$f":"ข้อมูลนักเรียน!B301","v":0},289,{"$f":"ข้อมูลนักเรียน!D301","v":0},null,null,null,null,null,null,null,null,null,null,null,null,null,null,null,null,null,null,null,null,null,null,null,null,null,null,null,null,null,null,null,null,null,null,null,null,null,0,null,null,null,null,null,"","","","","","","","","","","","","","","","","","","","","","","","","","","","","","","","",0,null,0,0,0]
[{"$f":"ข้อมูลนักเรียน!B302","v":0},290,{"$f":"ข้อมูลนักเรียน!D302","v":0},null,null,null,null,null,null,null,null,null,null,null,null,null,null,null,null,null,null,null,null,null,null,null,null,null,null,null,null,null,null,null,null,null,null,null,null,null,0,null,null,null,null,null,"","","","","","","","","","","","","","","","","","","","","","","","","","","","","","","","",0,null,0,0,0]
[{"$f":"ข้อมูลนักเรียน!B303","v":0},291,{"$f":"ข้อมูลนักเรียน!D303","v":0},null,null,null,null,null,null,null,null,null,null,null,null,null,null,null,null,null,null,null,null,null,null,null,null,null,null,null,null,null,null,null,null,null,null,null,null,null,0,null,null,null,null,null,"","","","","","","","","","","","","","","","","","","","","","","","","","","","","","","","",0,null,0,0,0]
[{"$f":"ข้อมูลนักเรียน!B304","v":0},292,{"$f":"ข้อมูลนักเรียน!D304","v":0},null,null,null,null,null,null,null,null,null,null,null,null,null,null,null,null,null,null,null,null,null,null,null,null,null,null,null,null,null,null,null,null,null,null,null,null,null,0,null,null,null,null,null,"","","","","","","","","","","","","","","","","","","","","","","","","","","","","","","","",0,null,0,0,0]
[{"$f":"ข้อมูลนักเรียน!B305","v":0},293,{"$f":"ข้อมูลนักเรียน!D305","v":0},null,null,null,null,null,null,null,null,null,null,null,null,null,null,null,null,null,null,null,null,null,null,null,null,null,null,null,null,null,null,null,null,null,null,null,null,null,0,null,null,null,null,null,"","","","","","","","","","","","","","","","","","","","","","","","","","","","","","","","",0,null,0,0,0]
[{"$f":"ข้อมูลนักเรียน!B306","v":0},294,{"$f":"ข้อมูลนักเรียน!D306","v":0},null,null,null,null,null,null,null,null,null,null,null,null,null,null,null,null,null,null,null,null,null,null,null,null,null,null,null,null,null,null,null,null,null,null,null,null,null,0,null,null,null,null,null,"","","","","","","","","","","","","","","","","","","","","","","","","","","","","","","","",0,null,0,0,0]
[{"$f":"ข้อมูลนักเรียน!B307","v":0},295,{"$f":"ข้อมูลนักเรียน!D307","v":0},null,null,null,null,null,null,null,null,null,null,null,null,null,null,null,null,null,null,null,null,null,null,null,null,null,null,null,null,null,null,null,null,null,null,null,null,null,0,null,null,null,null,null,"","","","","","","","","","","","","","","","","","","","","","","","","","","","","","","","",0,null,0,0,0]
[{"$f":"ข้อมูลนักเรียน!B308","v":0},296,{"$f":"ข้อมูลนักเรียน!D308","v":0},null,null,null,null,null,null,null,null,null,null,null,null,null,null,null,null,null,null,null,null,null,null,null,null,null,null,null,null,null,null,null,null,null,null,null,null,null,0,null,null,null,null,null,"","","","","","","","","","","","","","","","","","","","","","","","","","","","","","","","",0,null,0,0,0]
[{"$f":"ข้อมูลนักเรียน!B309","v":0},297,{"$f":"ข้อมูลนักเรียน!D309","v":0},null,null,null,null,null,null,null,null,null,null,null,null,null,null,null,null,null,null,null,null,null,null,null,null,null,null,null,null,null,null,null,null,null,null,null,null,null,0,null,null,null,null,null,"","","","","","","","","","","","","","","","","","","","","","","","","","","","","","","","",0,null,0,0,0]
[{"$f":"ข้อมูลนักเรียน!B310","v":0},298,{"$f":"ข้อมูลนักเรียน!D310","v":0},null,null,null,null,null,null,null,null,null,null,null,null,null,null,null,null,null,null,null,null,null,null,null,null,null,null,null,null,null,null,null,null,null,null,null,null,null,0,null,null,null,null,null,"","","","","","","","","","","","","","","","","","","","","","","","","","","","","","","","",0,null,0,0,0]
[{"$f":"ข้อมูลนักเรียน!B311","v":0},299,{"$f":"ข้อมูลนักเรียน!D311","v":0},null,null,null,null,null,null,null,null,null,null,null,null,null,null,null,null,null,null,null,null,null,null,null,null,null,null,null,null,null,null,null,null,null,null,null,null,null,0,null,null,null,null,null,"","","","","","","","","","","","","","","","","","","","","","","","","","","","","","","","",0,null,0,0,0]
[{"$f":"ข้อมูลนักเรียน!B312","v":0},300,{"$f":"ข้อมูลนักเรียน!D312","v":0},null,null,null,null,null,null,null,null,null,null,null,null,null,null,null,null,null,null,null,null,null,null,null,null,null,null,null,null,null,null,null,null,null,null,null,null,null,0,null,null,null,null,null,"","","","","","","","","","","","","","","","","","","","","","","","","","","","","","","","",0,null,0,0,0]
[{"$f":"ข้อมูลนักเรียน!B313","v":0},301,{"$f":"ข้อมูลนักเรียน!D313","v":0},null,null,null,null,null,null,null,null,null,null,null,null,null,null,null,null,null,null,null,null,null,null,null,null,null,null,null,null,null,null,null,null,null,null,null,null,null,0,null,null,null,null,null,"","","","","","","","","","","","","","","","","","","","","","","","","","","","","","","","",0,null,0,0,0]
[{"$f":"ข้อมูลนักเรียน!B314","v":0},302,{"$f":"ข้อมูลนักเรียน!D314","v":0},null,null,null,null,null,null,null,null,null,null,null,null,null,null,null,null,null,null,null,null,null,null,null,null,null,null,null,null,null,null,null,null,null,null,null,null,null,0,null,null,null,null,null,"","","","","","","","","","","","","","","","","","","","","","","","","","","","","","","","",0,null,0,0,0]
[{"$f":"ข้อมูลนักเรียน!B315","v":0},303,{"$f":"ข้อมูลนักเรียน!D315","v":0},null,null,null,null,null,null,null,null,null,null,null,null,null,null,null,null,null,null,null,null,null,null,null,null,null,null,null,null,null,null,null,null,null,null,null,null,null,0,null,null,null,null,null,"","","","","","","","","","","","","","","","","","","","","","","","","","","","","","","","",0,null,0,0,0]
[{"$f":"ข้อมูลนักเรียน!B316","v":0},304,{"$f":"ข้อมูลนักเรียน!D316","v":0},null,null,null,null,null,null,null,null,null,null,null,null,null,null,null,null,null,null,null,null,null,null,null,null,null,null,null,null,null,null,null,null,null,null,null,null,null,0,null,null,null,null,null,"","","","","","","","","","","","","","","","","","","","","","","","","","","","","","","","",0,null,0,0,0]
[{"$f":"ข้อมูลนักเรียน!B317","v":0},305,{"$f":"ข้อมูลนักเรียน!D317","v":0},null,null,null,null,null,null,null,null,null,null,null,null,null,null,null,null,null,null,null,null,null,null,null,null,null,null,null,null,null,null,null,null,null,null,null,null,null,0,null,null,null,null,null,"","","","","","","","","","","","","","","","","","","","","","","","","","","","","","","","",0,null,0,0,0]
[{"$f":"ข้อมูลนักเรียน!B318","v":0},306,{"$f":"ข้อมูลนักเรียน!D318","v":0},null,null,null,null,null,null,null,null,null,null,null,null,null,null,null,null,null,null,null,null,null,null,null,null,null,null,null,null,null,null,null,null,null,null,null,null,null,0,null,null,null,null,null,"","","","","","","","","","","","","","","","","","","","","","","","","","","","","","","","",0,null,0,0,0]
[{"$f":"ข้อมูลนักเรียน!B319","v":0},307,{"$f":"ข้อมูลนักเรียน!D319","v":0},null,null,null,null,null,null,null,null,null,null,null,null,null,null,null,null,null,null,null,null,null,null,null,null,null,null,null,null,null,null,null,null,null,null,null,null,null,0,null,null,null,null,null,"","","","","","","","","","","","","","","","","","","","","","","","","","","","","","","","",0,null,0,0,0]
[{"$f":"ข้อมูลนักเรียน!B320","v":0},308,{"$f":"ข้อมูลนักเรียน!D320","v":0},null,null,null,null,null,null,null,null,null,null,null,null,null,null,null,null,null,null,null,null,null,null,null,null,null,null,null,null,null,null,null,null,null,null,null,null,null,0,null,null,null,null,null,"","","","","","","","","","","","","","","","","","","","","","","","","","","","","","","","",0,null,0,0,0]
[{"$f":"ข้อมูลนักเรียน!B321","v":0},309,{"$f":"ข้อมูลนักเรียน!D321","v":0},null,null,null,null,null,null,null,null,null,null,null,null,null,null,null,null,null,null,null,null,null,null,null,null,null,null,null,null,null,null,null,null,null,null,null,null,null,0,null,null,null,null,null,"","","","","","","","","","","","","","","","","","","","","","","","","","","","","","","","",0,null,0,0,0]
[{"$f":"ข้อมูลนักเรียน!B322","v":0},310,{"$f":"ข้อมูลนักเรียน!D322","v":0},null,null,null,null,null,null,null,null,null,null,null,null,null,null,null,null,null,null,null,null,null,null,null,null,null,null,null,null,null,null,null,null,null,null,null,null,null,0,null,null,null,null,null,"","","","","","","","","","","","","","","","","","","","","","","","","","","","","","","","",0,null,0,0,0]
[{"$f":"ข้อมูลนักเรียน!B323","v":0},311,{"$f":"ข้อมูลนักเรียน!D323","v":0},null,null,null,null,null,null,null,null,null,null,null,null,null,null,null,null,null,null,null,null,null,null,null,null,null,null,null,null,null,null,null,null,null,null,null,null,null,0,null,null,null,null,null,"","","","","","","","","","","","","","","","","","","","","","","","","","","","","","","","",0,null,0,0,0]
[{"$f":"ข้อมูลนักเรียน!B324","v":0},312,{"$f":"ข้อมูลนักเรียน!D324","v":0},null,null,null,null,null,null,null,null,null,null,null,null,null,null,null,null,null,null,null,null,null,null,null,null,null,null,null,null,null,null,null,null,null,null,null,null,null,0,null,null,null,null,null,"","","","","","","","","","","","","","","","","","","","","","","","","","","","","","","","",0,null,0,0,0]
[{"$f":"ข้อมูลนักเรียน!B325","v":0},313,{"$f":"ข้อมูลนักเรียน!D325","v":0},null,null,null,null,null,null,null,null,null,null,null,null,null,null,null,null,null,null,null,null,null,null,null,null,null,null,null,null,null,null,null,null,null,null,null,null,null,0,null,null,null,null,null,"","","","","","","","","","","","","","","","","","","","","","","","","","","","","","","","",0,null,0,0,0]
[{"$f":"ข้อมูลนักเรียน!B326","v":0},314,{"$f":"ข้อมูลนักเรียน!D326","v":0},null,null,null,null,null,null,null,null,null,null,null,null,null,null,null,null,null,null,null,null,null,null,null,null,null,null,null,null,null,null,null,null,null,null,null,null,null,0,null,null,null,null,null,"","","","","","","","","","","","","","","","","","","","","","","","","","","","","","","","",0,null,0,0,0]
[{"$f":"ข้อมูลนักเรียน!B327","v":0},315,{"$f":"ข้อมูลนักเรียน!D327","v":0},null,null,null,null,null,null,null,null,null,null,null,null,null,null,null,null,null,null,null,null,null,null,null,null,null,null,null,null,null,null,null,null,null,null,null,null,null,0,null,null,null,null,null,"","","","","","","","","","","","","","","","","","","","","","","","","","","","","","","","",0,null,0,0,0]
[{"$f":"ข้อมูลนักเรียน!B328","v":0},316,{"$f":"ข้อมูลนักเรียน!D328","v":0},null,null,null,null,null,null,null,null,null,null,null,null,null,null,null,null,null,null,null,null,null,null,null,null,null,null,null,null,null,null,null,null,null,null,null,null,null,0,null,null,null,null,null,"","","","","","","","","","","","","","","","","","","","","","","","","","","","","","","","",0,null,0,0,0]
[{"$f":"ข้อมูลนักเรียน!B329","v":0},317,{"$f":"ข้อมูลนักเรียน!D329","v":0},null,null,null,null,null,null,null,null,null,null,null,null,null,null,null,null,null,null,null,null,null,null,null,null,null,null,null,null,null,null,null,null,null,null,null,null,null,0,null,null,null,null,null,"","","","","","","","","","","","","","","","","","","","","","","","","","","","","","","","",0,null,0,0,0]
[{"$f":"ข้อมูลนักเรียน!B330","v":0},318,{"$f":"ข้อมูลนักเรียน!D330","v":0},null,null,null,null,null,null,null,null,null,null,null,null,null,null,null,null,null,null,null,null,null,null,null,null,null,null,null,null,null,null,null,null,null,null,null,null,null,0,null,null,null,null,null,"","","","","","","","","","","","","","","","","","","","","","","","","","","","","","","","",0,null,0,0,0]
[{"$f":"ข้อมูลนักเรียน!B331","v":0},319,{"$f":"ข้อมูลนักเรียน!D331","v":0},null,null,null,null,null,null,null,null,null,null,null,null,null,null,null,null,null,null,null,null,null,null,null,null,null,null,null,null,null,null,null,null,null,null,null,null,null,0,null,null,null,null,null,"","","","","","","","","","","","","","","","","","","","","","","","","","","","","","","","",0,null,0,0,0]
[{"$f":"ข้อมูลนักเรียน!B332","v":0},320,{"$f":"ข้อมูลนักเรียน!D332","v":0},null,null,null,null,null,null,null,null,null,null,null,null,null,null,null,null,null,null,null,null,null,null,null,null,null,null,null,null,null,null,null,null,null,null,null,null,null,0,null,null,null,null,null,"","","","","","","","","","","","","","","","","","","","","","","","","","","","","","","","",0,null,0,0,0]
[{"$f":"ข้อมูลนักเรียน!B333","v":0},321,{"$f":"ข้อมูลนักเรียน!D333","v":0},null,null,null,null,null,null,null,null,null,null,null,null,null,null,null,null,null,null,null,null,null,null,null,null,null,null,null,null,null,null,null,null,null,null,null,null,null,{"$f":"SUM(IF(G331=NumTh1,ScoreTh1),IF(H331=NumTh2,ScoreTh2),IF(I331=NumTh3,ScoreTh3),IF(J331=NumTh4,ScoreTh4),IF(K331=NumTh5,ScoreTh5),IF(L331=NumTh6,ScoreTh6),IF(M331=NumTh7,ScoreTh7),IF(N331=NumTh8,ScoreTh8),IF(O331=NumTh9,ScoreTh9),IF(P331=NumTh10,ScoreTh10),IF(Q331=NumTh11,ScoreTh11),IF(R331=NumTh12,ScoreTh12),IF(S331=NumTh13,ScoreTh13),IF(T331=NumTh14,ScoreTh14),IF(U331=NumTh15,ScoreTh15),IF(V331=NumTh16,ScoreTh16),IF(W331=NumTh17,ScoreTh17),IF(X331=NumTh18,ScoreTh18),IF(Y331=NumTh19,ScoreTh19),IF(Z331=NumTh20,ScoreTh20),IF(AA331=NumTh21,ScoreTh21),IF(AB331=NumTh22,ScoreTh22),IF(AC331=NumTh23,ScoreTh23),IF(AD331=NumTh24,ScoreTh24),IF(AE331=NumTh25,ScoreTh25),IF(AF331=NumTh26,ScoreTh26),IF(AG331=NumTh27,ScoreTh27),IF(AH331=NumTh28,ScoreTh28),IF(AI331=NumTh29,ScoreTh29),IF(AJ331=NumTh30,ScoreTh30),IF(AK331=NumTh31,ScoreTh31),IF(AL331=NumTh32,ScoreTh32),AM331,AN331)","v":0},null,null,null,null,null,{"$f":"IF(G331=\"\",\"\",IF(G331=NumTh1,\"✓\",\"X\"))","v":""},{"$f":"IF(H331=\"\",\"\",IF(H331=NumTh2,\"✓\",\"X\"))","v":""},{"$f":"IF(I331=\"\",\"\",IF(I331=NumTh3,\"✓\",\"X\"))","v":""},{"$f":"IF(J331=\"\",\"\",IF(J331=NumTh4,\"✓\",\"X\"))","v":""},{"$f":"IF(K331=\"\",\"\",IF(K331=NumTh5,\"✓\",\"X\"))","v":""},{"$f":"IF(L331=\"\",\"\",IF(L331=NumTh6,\"✓\",\"X\"))","v":""},{"$f":"IF(M331=\"\",\"\",IF(M331=NumTh7,\"✓\",\"X\"))","v":""},{"$f":"IF(N331=\"\",\"\",IF(N331=NumTh8,\"✓\",\"X\"))","v":""},{"$f":"IF(O331=\"\",\"\",IF(O331=NumTh9,\"✓\",\"X\"))","v":""},{"$f":"IF(P331=\"\",\"\",IF(P331=NumTh10,\"✓\",\"X\"))","v":""},{"$f":"IF(Q331=\"\",\"\",IF(Q331=NumTh11,\"✓\",\"X\"))","v":""},{"$f":"IF(R331=\"\",\"\",IF(R331=NumTh12,\"✓\",\"X\"))","v":""},{"$f":"IF(S331=\"\",\"\",IF(S331=NumTh13,\"✓\",\"X\"))","v":""},{"$f":"IF(T331=\"\",\"\",IF(T331=NumTh14,\"✓\",\"X\"))","v":""},{"$f":"IF(U331=\"\",\"\",IF(U331=NumTh15,\"✓\",\"X\"))","v":""},{"$f":"IF(V331=\"\",\"\",IF(V331=NumTh16,\"✓\",\"X\"))","v":""},{"$f":"IF(W331=\"\",\"\",IF(W331=NumTh17,\"✓\",\"X\"))","v":""},{"$f":"IF(X331=\"\",\"\",IF(X331=NumTh18,\"✓\",\"X\"))","v":""},{"$f":"IF(Y331=\"\",\"\",IF(Y331=NumTh19,\"✓\",\"X\"))","v":""},{"$f":"IF(Z331=\"\",\"\",IF(Z331=NumTh20,\"✓\",\"X\"))","v":""},{"$f":"IF(AA331=\"\",\"\",IF(AA331=NumTh21,\"✓\",\"X\"))","v":""},{"$f":"IF(AB331=\"\",\"\",IF(AB331=NumTh22,\"✓\",\"X\"))","v":""},{"$f":"IF(AC331=\"\",\"\",IF(AC331=NumTh23,\"✓\",\"X\"))","v":""},{"$f":"IF(AD331=\"\",\"\",IF(AD331=NumTh24,\"✓\",\"X\"))","v":""},{"$f":"IF(AE331=\"\",\"\",IF(AE331=NumTh25,\"✓\",\"X\"))","v":""},{"$f":"IF(AF331=\"\",\"\",IF(AF331=NumTh26,\"✓\",\"X\"))","v":""},{"$f":"IF(AG331=\"\",\"\",IF(AG331=NumTh27,\"✓\",\"X\"))","v":""},{"$f":"IF(AH331=\"\",\"\",IF(AH331=NumTh28,\"✓\",\"X\"))","v":""},{"$f":"IF(AI331=\"\",\"\",IF(AI331=NumTh29,\"✓\",\"X\"))","v":""},{"$f":"IF(AJ331=\"\",\"\",IF(AJ331=NumTh30,\"✓\",\"X\"))","v":""},{"$f":"IF(AK331=\"\",\"\",IF(AK331=NumTh31,\"✓\",\"X\"))","v":""},{"$f":"IF(AL331=\"\",\"\",IF(AL331=NumTh32,\"✓\",\"X\"))","v":""},{"$f":"COUNTIF(AU331:BZ331,\"✓\")","v":0},null,0,0,0]
[{"$f":"ข้อมูลนักเรียน!B334","v":0},322,{"$f":"ข้อมูลนักเรียน!D334","v":0},null,null,null,null,null,null,null,null,null,null,null,null,null,null,null,null,null,null,null,null,null,null,null,null,null,null,null,null,null,null,null,null,null,null,null,null,null,0,null,null,null,null,null,"","","","","","","","","","","","","","","","","","","","","","","","","","","","","","","","",0,null,{"$f":"AM332","v":0},{"$f":"AN332","v":0},{"$f":"SUM(CC332:CD332)","v":0}]
[{"$f":"ข้อมูลนักเรียน!B335","v":0},323,{"$f":"ข้อมูลนักเรียน!D335","v":0},null,null,null,null,null,null,null,null,null,null,null,null,null,null,null,null,null,null,null,null,null,null,null,null,null,null,null,null,null,null,null,null,null,null,null,null,null,0,null,null,null,null,null,"","","","","","","","","","","","","","","","","","","","","","","","","","","","","","","","",0,null,0,0,0]
[{"$f":"ข้อมูลนักเรียน!B336","v":0},324,{"$f":"ข้อมูลนักเรียน!D336","v":0},null,null,null,null,null,null,null,null,null,null,null,null,null,null,null,null,null,null,null,null,null,null,null,null,null,null,null,null,null,null,null,null,null,null,null,null,null,0,null,null,null,null,null,"","","","","","","","","","","","","","","","","","","","","","","","","","","","","","","","",0,null,0,0,0]
[{"$f":"ข้อมูลนักเรียน!B337","v":0},325,{"$f":"ข้อมูลนักเรียน!D337","v":0},null,null,null,null,null,null,null,null,null,null,null,null,null,null,null,null,null,null,null,null,null,null,null,null,null,null,null,null,null,null,null,null,null,null,null,null,null,0,null,null,null,null,null,"","","","","","","","","","","","","","","","","","","","","","","","","","","","","","","","",0,null,0,0,0]
[{"$f":"ข้อมูลนักเรียน!B338","v":0},326,{"$f":"ข้อมูลนักเรียน!D338","v":0},null,null,null,null,null,null,null,null,null,null,null,null,null,null,null,null,null,null,null,null,null,null,null,null,null,null,null,null,null,null,null,null,null,null,null,null,null,0,null,null,null,null,null,"","","","","","","","","","","","","","","","","","","","","","","","","","","","","","","","",0,null,0,0,0]
[{"$f":"ข้อมูลนักเรียน!B339","v":0},327,{"$f":"ข้อมูลนักเรียน!D339","v":0},null,null,null,null,null,null,null,null,null,null,null,null,null,null,null,null,null,null,null,null,null,null,null,null,null,null,null,null,null,null,null,null,null,null,null,null,null,0,null,null,null,null,null,"","","","","","","","","","","","","","","","","","","","","","","","","","","","","","","","",0,null,0,0,0]
[{"$f":"ข้อมูลนักเรียน!B340","v":0},328,{"$f":"ข้อมูลนักเรียน!D340","v":0},null,null,null,null,null,null,null,null,null,null,null,null,null,null,null,null,null,null,null,null,null,null,null,null,null,null,null,null,null,null,null,null,null,null,null,null,null,0,null,null,null,null,null,"","","","","","","","","","","","","","","","","","","","","","","","","","","","","","","","",0,null,0,0,0]
[{"$f":"ข้อมูลนักเรียน!B341","v":0},329,{"$f":"ข้อมูลนักเรียน!D341","v":0},null,null,null,null,null,null,null,null,null,null,null,null,null,null,null,null,null,null,null,null,null,null,null,null,null,null,null,null,null,null,null,null,null,null,null,null,null,0,null,null,null,null,null,"","","","","","","","","","","","","","","","","","","","","","","","","","","","","","","","",0,null,0,0,0]
[{"$f":"ข้อมูลนักเรียน!B342","v":0},330,{"$f":"ข้อมูลนักเรียน!D342","v":0},null,null,null,null,null,null,null,null,null,null,null,null,null,null,null,null,null,null,null,null,null,null,null,null,null,null,null,null,null,null,null,null,null,null,null,null,null,0,null,null,null,null,null,"","","","","","","","","","","","","","","","","","","","","","","","","","","","","","","","",0,null,0,0,0]
[{"$f":"ข้อมูลนักเรียน!B343","v":0},331,{"$f":"ข้อมูลนักเรียน!D343","v":0},null,null,null,null,null,null,null,null,null,null,null,null,null,null,null,null,null,null,null,null,null,null,null,null,null,null,null,null,null,null,null,null,null,null,null,null,null,0,null,null,null,null,null,"","","","","","","","","","","","","","","","","","","","","","","","","","","","","","","","",0,null,0,0,0]
[{"$f":"ข้อมูลนักเรียน!B344","v":0},332,{"$f":"ข้อมูลนักเรียน!D344","v":0},null,null,null,null,null,null,null,null,null,null,null,null,null,null,null,null,null,null,null,null,null,null,null,null,null,null,null,null,null,null,null,null,null,null,null,null,null,0,null,null,null,null,null,"","","","","","","","","","","","","","","","","","","","","","","","","","","","","","","","",0,null,0,0,0]
[{"$f":"ข้อมูลนักเรียน!B345","v":0},333,{"$f":"ข้อมูลนักเรียน!D345","v":0},null,null,null,null,null,null,null,null,null,null,null,null,null,null,null,null,null,null,null,null,null,null,null,null,null,null,null,null,null,null,null,null,null,null,null,null,null,0,null,null,null,null,null,"","","","","","","","","","","","","","","","","","","","","","","","","","","","","","","","",0,null,0,0,0]
[{"$f":"ข้อมูลนักเรียน!B346","v":0},334,{"$f":"ข้อมูลนักเรียน!D346","v":0},null,null,null,null,null,null,null,null,null,null,null,null,null,null,null,null,null,null,null,null,null,null,null,null,null,null,null,null,null,null,null,null,null,null,null,null,null,0,null,null,null,null,null,"","","","","","","","","","","","","","","","","","","","","","","","","","","","","","","","",0,null,0,0,0]
[{"$f":"ข้อมูลนักเรียน!B347","v":0},335,{"$f":"ข้อมูลนักเรียน!D347","v":0},null,null,null,null,null,null,null,null,null,null,null,null,null,null,null,null,null,null,null,null,null,null,null,null,null,null,null,null,null,null,null,null,null,null,null,null,null,0,null,null,null,null,null,"","","","","","","","","","","","","","","","","","","","","","","","","","","","","","","","",0,null,0,0,0]
[{"$f":"ข้อมูลนักเรียน!B348","v":0},336,{"$f":"ข้อมูลนักเรียน!D348","v":0},null,null,null,null,null,null,null,null,null,null,null,null,null,null,null,null,null,null,null,null,null,null,null,null,null,null,null,null,null,null,null,null,null,null,null,null,null,0,null,null,null,null,null,"","","","","","","","","","","","","","","","","","","","","","","","","","","","","","","","",0,null,0,0,0]
[{"$f":"ข้อมูลนักเรียน!B349","v":0},337,{"$f":"ข้อมูลนักเรียน!D349","v":0},null,null,null,null,null,null,null,null,null,null,null,null,null,null,null,null,null,null,null,null,null,null,null,null,null,null,null,null,null,null,null,null,null,null,null,null,null,0,null,null,null,null,null,"","","","","","","","","","","","","","","","","","","","","","","","","","","","","","","","",0,null,0,0,0]
[{"$f":"ข้อมูลนักเรียน!B350","v":0},338,{"$f":"ข้อมูลนักเรียน!D350","v":0},null,null,null,null,null,null,null,null,null,null,null,null,null,null,null,null,null,null,null,null,null,null,null,null,null,null,null,null,null,null,null,null,null,null,null,null,null,0,null,null,null,null,null,"","","","","","","","","","","","","","","","","","","","","","","","","","","","","","","","",0,null,0,0,0]
[{"$f":"ข้อมูลนักเรียน!B351","v":0},339,{"$f":"ข้อมูลนักเรียน!D351","v":0},null,null,null,null,null,null,null,null,null,null,null,null,null,null,null,null,null,null,null,null,null,null,null,null,null,null,null,null,null,null,null,null,null,null,null,null,null,0,null,null,null,null,null,"","","","","","","","","","","","","","","","","","","","","","","","","","","","","","","","",0,null,0,0,0]
[{"$f":"ข้อมูลนักเรียน!B352","v":0},340,{"$f":"ข้อมูลนักเรียน!D352","v":0},null,null,null,null,null,null,null,null,null,null,null,null,null,null,null,null,null,null,null,null,null,null,null,null,null,null,null,null,null,null,null,null,null,null,null,null,null,0,null,null,null,null,null,"","","","","","","","","","","","","","","","","","","","","","","","","","","","","","","","",0,null,0,0,0]
[{"$f":"ข้อมูลนักเรียน!B353","v":0},341,{"$f":"ข้อมูลนักเรียน!D353","v":0},null,null,null,null,null,null,null,null,null,null,null,null,null,null,null,null,null,null,null,null,null,null,null,null,null,null,null,null,null,null,null,null,null,null,null,null,null,0,null,null,null,null,null,"","","","","","","","","","","","","","","","","","","","","","","","","","","","","","","","",0,null,0,0,0]
[{"$f":"ข้อมูลนักเรียน!B354","v":0},342,{"$f":"ข้อมูลนักเรียน!D354","v":0},null,null,null,null,null,null,null,null,null,null,null,null,null,null,null,null,null,null,null,null,null,null,null,null,null,null,null,null,null,null,null,null,null,null,null,null,null,0,null,null,null,null,null,"","","","","","","","","","","","","","","","","","","","","","","","","","","","","","","","",0,null,0,0,0]
[{"$f":"ข้อมูลนักเรียน!B355","v":0},343,{"$f":"ข้อมูลนักเรียน!D355","v":0},null,null,null,null,null,null,null,null,null,null,null,null,null,null,null,null,null,null,null,null,null,null,null,null,null,null,null,null,null,null,null,null,null,null,null,null,null,0,null,null,null,null,null,"","","","","","","","","","","","","","","","","","","","","","","","","","","","","","","","",0,null,0,0,0]
[{"$f":"ข้อมูลนักเรียน!B356","v":0},344,{"$f":"ข้อมูลนักเรียน!D356","v":0},null,null,null,null,null,null,null,null,null,null,null,null,null,null,null,null,null,null,null,null,null,null,null,null,null,null,null,null,null,null,null,null,null,null,null,null,null,0,null,null,null,null,null,"","","","","","","","","","","","","","","","","","","","","","","","","","","","","","","","",0,null,0,0,0]
[{"$f":"ข้อมูลนักเรียน!B357","v":0},345,{"$f":"ข้อมูลนักเรียน!D357","v":0},null,null,null,null,null,null,null,null,null,null,null,null,null,null,null,null,null,null,null,null,null,null,null,null,null,null,null,null,null,null,null,null,null,null,null,null,null,0,null,null,null,null,null,"","","","","","","","","","","","","","","","","","","","","","","","","","","","","","","","",0,null,0,0,0]
[{"$f":"ข้อมูลนักเรียน!B358","v":0},346,{"$f":"ข้อมูลนักเรียน!D358","v":0},null,null,null,null,null,null,null,null,null,null,null,null,null,null,null,null,null,null,null,null,null,null,null,null,null,null,null,null,null,null,null,null,null,null,null,null,null,0,null,null,null,null,null,"","","","","","","","","","","","","","","","","","","","","","","","","","","","","","","","",0,null,0,0,0]
[{"$f":"ข้อมูลนักเรียน!B359","v":0},347,{"$f":"ข้อมูลนักเรียน!D359","v":0},null,null,null,null,null,null,null,null,null,null,null,null,null,null,null,null,null,null,null,null,null,null,null,null,null,null,null,null,null,null,null,null,null,null,null,null,null,0,null,null,null,null,null,"","","","","","","","","","","","","","","","","","","","","","","","","","","","","","","","",0,null,0,0,0]
[{"$f":"ข้อมูลนักเรียน!B360","v":0},348,{"$f":"ข้อมูลนักเรียน!D360","v":0},null,null,null,null,null,null,null,null,null,null,null,null,null,null,null,null,null,null,null,null,null,null,null,null,null,null,null,null,null,null,null,null,null,null,null,null,null,0,null,null,null,null,null,"","","","","","","","","","","","","","","","","","","","","","","","","","","","","","","","",0,null,0,0,0]
[{"$f":"ข้อมูลนักเรียน!B361","v":0},349,{"$f":"ข้อมูลนักเรียน!D361","v":0},null,null,null,null,null,null,null,null,null,null,null,null,null,null,null,null,null,null,null,null,null,null,null,null,null,null,null,null,null,null,null,null,null,null,null,null,null,0,null,null,null,null,null,"","","","","","","","","","","","","","","","","","","","","","","","","","","","","","","","",0,null,0,0,0]
[{"$f":"ข้อมูลนักเรียน!B362","v":0},350,{"$f":"ข้อมูลนักเรียน!D362","v":0},null,null,null,null,null,null,null,null,null,null,null,null,null,null,null,null,null,null,null,null,null,null,null,null,null,null,null,null,null,null,null,null,null,null,null,null,null,0,null,null,null,null,null,"","","","","","","","","","","","","","","","","","","","","","","","","","","","","","","","",0,null,0,0,0]

{"sheet":"วิทยาศาสตร์","index":4,"n_rows":360,"n_cols":81,"rows_kept":360,"cut":false,"hidden":false,"merged":[[354,2,354,5],[355,2,355,5],[356,2,356,5],[357,2,357,5],[358,2,358,5],[359,2,359,5],[348,2,348,5],[349,2,349,5],[350,2,350,5],[351,2,351,5],[352,2,352,5],[353,2,353,5],[342,2,342,5],[343,2,343,5],[344,2,344,5],[345,2,345,5],[346,2,346,5],[347,2,347,5],[336,2,336,5],[337,2,337,5],[338,2,338,5],[339,2,339,5],[340,2,340,5],[341,2,341,5],[330,2,330,5],[331,2,331,5],[332,2,332,5],[333,2,333,5],[334,2,334,5],[335,2,335,5],[324,2,324,5],[325,2,325,5],[326,2,326,5],[327,2,327,5],[328,2,328,5],[329,2,329,5],[318,2,318,5],[319,2,319,5],[320,2,320,5],[321,2,321,5],[322,2,322,5],[323,2,323,5],[312,2,312,5],[313,2,313,5],[314,2,314,5],[315,2,315,5],[316,2,316,5],[317,2,317,5],[306,2,306,5],[307,2,307,5],[308,2,308,5],[309,2,309,5],[310,2,310,5],[311,2,311,5],[300,2,300,5],[301,2,301,5],[302,2,302,5],[303,2,303,5],[304,2,304,5],[305,2,305,5],[294,2,294,5],[295,2,295,5],[296,2,296,5],[297,2,297,5],[298,2,298,5],[299,2,299,5],[288,2,288,5],[289,2,289,5],[290,2,290,5],[291,2,291,5],[292,2,292,5],[293,2,293,5],[282,2,282,5],[283,2,283,5],[284,2,284,5],[285,2,285,5],[286,2,286,5],[287,2,287,5],[276,2,276,5],[277,2,277,5],[278,2,278,5],[279,2,279,5],[280,2,280,5],[281,2,281,5],[270,2,270,5],[271,2,271,5],[272,2,272,5],[273,2,273,5],[274,2,274,5],[275,2,275,5],[264,2,264,5],[265,2,265,5],[266,2,266,5],[267,2,267,5],[268,2,268,5],[269,2,269,5],[258,2,258,5],[259,2,259,5],[260,2,260,5],[261,2,261,5],[262,2,262,5],[263,2,263,5],[252,2,252,5],[253,2,253,5],[254,2,254,5],[255,2,255,5],[256,2,256,5],[257,2,257,5],[246,2,246,5],[247,2,247,5],[248,2,248,5],[249,2,249,5],[250,2,250,5],[251,2,251,5],[240,2,240,5],[241,2,241,5],[242,2,242,5],[243,2,243,5],[244,2,244,5],[245,2,245,5],[234,2,234,5],[235,2,235,5],[236,2,236,5],[237,2,237,5],[238,2,238,5],[239,2,239,5],[228,2,228,5],[229,2,229,5],[230,2,230,5],[231,2,231,5],[232,2,232,5],[233,2,233,5],[222,2,222,5],[223,2,223,5],[224,2,224,5],[225,2,225,5],[226,2,226,5],[227,2,227,5],[216,2,216,5],[217,2,217,5],[218,2,218,5],[219,2,219,5],[220,2,220,5],[221,2,221,5],[210,2,210,5],[211,2,211,5],[212,2,212,5],[213,2,213,5],[214,2,214,5],[215,2,215,5],[204,2,204,5],[205,2,205,5],[206,2,206,5],[207,2,207,5],[208,2,208,5],[209,2,209,5],[198,2,198,5],[199,2,199,5],[200,2,200,5],[201,2,201,5],[202,2,202,5],[203,2,203,5],[192,2,192,5],[193,2,193,5],[194,2,194,5],[195,2,195,5],[196,2,196,5],[197,2,197,5],[186,2,186,5],[187,2,187,5],[188,2,188,5],[189,2,189,5],[190,2,190,5],[191,2,191,5],[180,2,180,5],[181,2,181,5],[182,2,182,5],[183,2,183,5],[184,2,184,5],[185,2,185,5],[174,2,174,5],[175,2,175,5],[176,2,176,5],[177,2,177,5],[178,2,178,5],[179,2,179,5],[168,2,168,5],[169,2,169,5],[170,2,170,5],[171,2,171,5],[172,2,172,5],[173,2,173,5],[162,2,162,5],[163,2,163,5],[164,2,164,5],[165,2,165,5],[166,2,166,5],[167,2,167,5],[156,2,156,5],[157,2,157,5],[158,2,158,5],[159,2,159,5],[160,2,160,5],[161,2,161,5],[150,2,150,5],[151,2,151,5],[152,2,152,5],[153,2,153,5],[154,2,154,5],[155,2,155,5],[144,2,144,5],[145,2,145,5],[146,2,146,5],[147,2,147,5],[148,2,148,5],[149,2,149,5],[138,2,138,5],[139,2,139,5],[140,2,140,5],[141,2,141,5],[142,2,142,5],[143,2,143,5],[132,2,132,5],[133,2,133,5],[134,2,134,5],[135,2,135,5],[136,2,136,5],[137,2,137,5],[126,2,126,5],[127,2,127,5],[128,2,128,5],[129,2,129,5],[130,2,130,5],[131,2,131,5],[120,2,120,5],[121,2,121,5],[122,2,122,5],[123,2,123,5],[124,2,124,5],[125,2,125,5],[114,2,114,5],[115,2,115,5],[116,2,116,5],[117,2,117,5],[118,2,118,5],[119,2,119,5],[108,2,108,5],[109,2,109,5],[110,2,110,5],[111,2,111,5],[112,2,112,5],[113,2,113,5],[102,2,102,5],[103,2,103,5],[104,2,104,5],[105,2,105,5],[106,2,106,5],[107,2,107,5],[96,2,96,5],[97,2,97,5],[98,2,98,5],[99,2,99,5],[100,2,100,5],[101,2,101,5],[90,2,90,5],[91,2,91,5],[92,2,92,5],[93,2,93,5],[94,2,94,5],[95,2,95,5],[84,2,84,5],[85,2,85,5],[86,2,86,5],[87,2,87,5],[88,2,88,5],[89,2,89,5],[78,2,78,5],[79,2,79,5],[80,2,80,5],[81,2,81,5],[82,2,82,5],[83,2,83,5],[72,2,72,5],[73,2,73,5],[74,2,74,5],[75,2,75,5],[76,2,76,5],[77,2,77,5],[66,2,66,5],[67,2,67,5],[68,2,68,5],[69,2,69,5],[70,2,70,5],[71,2,71,5],[60,2,60,5],[61,2,61,5],[62,2,62,5],[63,2,63,5],[64,2,64,5],[65,2,65,5],[54,2,54,5],[55,2,55,5],[56,2,56,5],[57,2,57,5],[58,2,58,5],[59,2,59,5],[48,2,48,5],[49,2,49,5],[50,2,50,5],[51,2,51,5],[52,2,52,5],[53,2,53,5],[42,2,42,5],[43,2,43,5],[44,2,44,5],[45,2,45,5],[46,2,46,5],[47,2,47,5],[36,2,36,5],[37,2,37,5],[38,2,38,5],[39,2,39,5],[40,2,40,5],[41,2,41,5],[30,2,30,5],[31,2,31,5],[32,2,32,5],[33,2,33,5],[34,2,34,5],[35,2,35,5],[24,2,24,5],[25,2,25,5],[26,2,26,5],[27,2,27,5],[28,2,28,5],[29,2,29,5],[1,6,2,26],[7,6,7,26],[18,2,18,5],[19,2,19,5],[20,2,20,5],[21,2,21,5],[22,2,22,5],[23,2,23,5],[12,2,12,5],[13,2,13,5],[14,2,14,5],[15,2,15,5],[16,2,16,5],[17,2,17,5],[7,72,7,80],[7,44,7,45],[9,2,9,5],[10,2,10,5],[11,2,11,5],[4,0,4,3],[4,40,4,42],[5,6,5,38],[6,0,6,3],[6,4,6,5],[4,6,4,26],[4,44,4,50]]}
[]
[null,null,null,null,null,null,"โปรแกรมตรวจข้อสอบวินิจฉัย  ชั้นประถมศึกษาปีที่ 6"]
[]
[]
["จำนวนนักเรียนที่เข้าสอบ",null,null,null,4,"คน","รายวิชาวิทยาศาสตร์",null,null,null,null,null,null,null,null,null,null,null,null,null,null,null,null,null,null,null,null,null,null,null,null,null,null,null,null,null,null,null,null,null,"สรุปการตอบข้อสอบรายข้อ",null,null,null,"การตอบข้อสอบแต่ละข้อของผู้สอบ"]
[]
["ค่าเฉลี่ยของผู้เข้าสอบเท่ากับ",null,null,null,{"$f":"IF($E$5=\"\",\"\",SUM(AM11:AM360)/E5)","v":0}]
[null,null,null,null,null,null,{"$f":"\"โรงเรียน\"&ข้อมูลนักเรียน!D4","v":"โรงเรียนพิมพ์ชื่อโรงเรียน"},null,null,null,null,null,null,null,null,null,null,null,null,null,null,null,null,null,null,null,null,null,null,null,null,null,null,null,null,null,null,null,null,null,"ตอนที่ 1",null,null,null,"ตอนที่ 1",null,null,null,null,null,null,null,null,null,null,null,null,null,null,null,null,null,null,null,null,null,null,null,null,null,null,null,"ข้อสอบตอนที่ 2"]
[]
["ห้อง","ลำดับที่","ชื่อ-สกุล",null,null,null,"ข้อ 1","ข้อ 2","ข้อ 3","ข้อ 4","ข้อ 5","ข้อ 6","ข้อ 7","ข้อ 8","ข้อ 9","ข้อ 10","ข้อ 11","ข้อ 12","ข้อ 13","ข้อ 14","ข้อ 15","ข้อ 16","ข้อ 17","ข้อ 18","ข้อ 19","ข้อ 20","ข้อ 21","ข้อ 22","ข้อ 23","ข้อ 24","ข้อ 25","ข้อ 26","ข้อ 27.1","ข้อ 27.2","ข้อ 27.3","ข้อ 28.1","ข้อ 28.2","ข้อ 28.3","คะแนน",null,"ข้อที่","จำนวนผู้ตอบถูก(คน)","คิดเป็น %",null,"ข้อ 1","ข้อ 2","ข้อ 3","ข้อ 4","ข้อ 5","ข้อ 6","ข้อ 7","ข้อ 8","ข้อ 9","ข้อ 10","ข้อ 11","ข้อ 12","ข้อ 13","ข้อ 14","ข้อ 15","ข้อ 16","ข้อ 17","ข้อ 18","ข้อ 19","ข้อ 20","ข้อ 21","ข้อ 22","ข้อ 23","ข้อ 24","ข้อ 25","ข้อ 26","จำนวนข้อที่ตอบถูก",null,"ข้อ 27.1","ข้อ 27.2","ข้อ 27.3","คะแนนข้อ 27","ข้อ 28.1","ข้อ 28.2","ข้อ 28.3","คะแนนข้อ 28","รวมคะแนนตอนที่ 2"]
[{"$f":"ข้อมูลนักเรียน!B13","v":"1"},1,{"$f":"ข้อมูลนักเรียน!D13","v":"นายก"},null,null,null,null,null,null,null,null,null,null,null,null,null,null,null,null,null,null,null,null,null,null,null,null,null,null,null,null,null,null,null,null,null,null,null,{"$f":"SUM(IF(G11=NumSci1,ScoreSci1),IF(H11=NumSci2,ScoreSci2),IF(I11=NumSci3,ScoreSci3),IF(J11=NumSci4,ScoreSci4),IF(K11=NumSci5,ScoreSci5),IF(L11=NumSci6,ScoreSci6),IF(M11=NumSci7,ScoreSci7),IF(N11=NumSci8,ScoreSci8),IF(O11=NumSci9,ScoreSci9),IF(P11=NumSci10,ScoreSci10),IF(Q11=NumSci11,ScoreSci11),IF(R11=NumSci12,ScoreSci12),IF(S11=NumSci13,ScoreSci13),IF(T11=NumSci14,ScoreSci14),IF(U11=NumSci15,ScoreSci15),IF(V11=NumSci16,ScoreSci16),IF(W11=NumSci17,ScoreSci17),IF(X11=NumSci18,ScoreSci18),IF(Y11=NumSci19,ScoreSci19),IF(Z11=NumSci20,ScoreSci20),IF(AA11=NumSci21,ScoreSci21),IF(AB11=NumSci22,ScoreSci22),IF(AC11=NumSci23,ScoreSci23),IF(AD11=NumSci24,ScoreSci24),,IF(AE11=NumSci25,ScoreSci25),IF(AF11=NumSci26,ScoreSci26),CC11)","v":0},null,"ข้อ 1",{"$f":"COUNTIF(AS11:AS360,\"✓\")","v":0},{"$f":"IF($E$5=\"\",\"\",(AP11/$E$5)*100)","v":0},null,{"$f":"IF(G11=\"\",\"\",IF(G11=NumSci1,\"✓\",\"X\"))","v":""},{"$f":"IF(H11=\"\",\"\",IF(H11=NumSci2,\"✓\",\"X\"))","v":""},{"$f":"IF(I11=\"\",\"\",IF(I11=NumSci3,\"✓\",\"X\"))","v":""},{"$f":"IF(J11=\"\",\"\",IF(J11=NumSci4,\"✓\",\"X\"))","v":""},{"$f":"IF(K11=\"\",\"\",IF(K11=NumSci5,\"✓\",\"X\"))","v":""},{"$f":"IF(L11=\"\",\"\",IF(L11=NumSci6,\"✓\",\"X\"))","v":""},{"$f":"IF(M11=\"\",\"\",IF(M11=NumSci7,\"✓\",\"X\"))","v":""},{"$f":"IF(N11=\"\",\"\",IF(N11=NumSci8,\"✓\",\"X\"))","v":""},{"$f":"IF(O11=\"\",\"\",IF(O11=NumSci9,\"✓\",\"X\"))","v":""},{"$f":"IF(P11=\"\",\"\",IF(P11=NumSci10,\"✓\",\"X\"))","v":""},{"$f":"IF(Q11=\"\",\"\",IF(Q11=NumSci11,\"✓\",\"X\"))","v":""},{"$f":"IF(R11=\"\",\"\",IF(R11=NumSci12,\"✓\",\"X\"))","v":""},{"$f":"IF(S11=\"\",\"\",IF(S11=NumSci13,\"✓\",\"X\"))","v":""},{"$f":"IF(T11=\"\",\"\",IF(T11=NumSci14,\"✓\",\"X\"))","v":""},{"$f":"IF(U11=\"\",\"\",IF(U11=NumSci15,\"✓\",\"X\"))","v":""},{"$f":"IF(V11=\"\",\"\",IF(V11=NumSci16,\"✓\",\"X\"))","v":""},{"$f":"IF(W11=\"\",\"\",IF(W11=NumSci17,\"✓\",\"X\"))","v":""},{"$f":"IF(X11=\"\",\"\",IF(X11=NumSci18,\"✓\",\"X\"))","v":""},{"$f":"IF(Y11=\"\",\"\",IF(Y11=NumSci19,\"✓\",\"X\"))","v":""},{"$f":"IF(Z11=\"\",\"\",IF(Z11=NumSci20,\"✓\",\"X\"))","v":""},{"$f":"IF(AA11=\"\",\"\",IF(AA11=NumSci21,\"✓\",\"X\"))","v":""},{"$f":"IF(AB11=\"\",\"\",IF(AB11=NumSci22,\"✓\",\"X\"))","v":""},{"$f":"IF(AC11=\"\",\"\",IF(AC11=NumSci23,\"✓\",\"X\"))","v":""},{"$f":"IF(AD11=\"\",\"\",IF(AD11=NumSci24,\"✓\",\"X\"))","v":""},{"$f":"IF(AE11=\"\",\"\",IF(AE11=NumSci25,\"✓\",\"X\"))","v":""},{"$f":"IF(AF11=\"\",\"\",IF(AF11=NumSci26,\"✓\",\"X\"))","v":""},{"$f":"COUNTIF(AS11:BR11,\"✓\")","v":0},null,{"$f":"IF(AG11=\"\",\"\",IF(AG11=NumSci271,\"✓\",\"X\"))","v":""},{"$f":"IF(AH11=\"\",\"\",IF(AH11=NumSci272,\"✓\",\"X\"))","v":""},{"$f":"IF(AI11=\"\",\"\",IF(AI11=NumSci273,\"✓\",\"X\"))","v":""},{"$f":"IF(COUNTIF(AG11,NumSci271)+COUNTIF(AH11,NumSci272)+COUNTIF(AI11,NumSci273)=3,4.5,IF(COUNTIF(AG11,NumSci271)+COUNTIF(AH11,NumSci272)+COUNTIF(AI11,NumSci273)=2,3,IF(COUNTIF(AG11,NumSci271)+COUNTIF(AH11,NumSci272)+COUNTIF(AI11,NumSci273)=1,0,0)))","v":0},{"$f":"IF(AJ11=\"\",\"\",IF(AJ11=NumSci281,\"✓\",\"X\"))","v":""},{"$f":"IF(AK11=\"\",\"\",IF(AK11=NumSci282,\"✓\",\"X\"))","v":""},{"$f":"IF(AL11=\"\",\"\",IF(AL11=NumSci283,\"✓\",\"X\"))","v":""},{"$f":"IF(COUNTIF(AJ11,NumSci281)+COUNTIF(AK11,NumSci282)+COUNTIF(AL11,NumSci283)=3,4.5,IF(COUNTIF(AJ11,NumSci281)+COUNTIF(AK11,NumSci282)+COUNTIF(AL11,NumSci283)=2,3,IF(COUNTIF(AJ11,NumSci281)+COUNTIF(AK11,NumSci282)+COUNTIF(AL11,NumSci283)=1,0,0)))","v":0},{"$f":"SUM(BX11,CB11)","v":0}]
[{"$f":"ข้อมูลนักเรียน!B14","v":"1"},2,{"$f":"ข้อมูลนักเรียน!D14","v":"นายข"},null,null,null,null,null,null,null,null,null,null,null,null,null,null,null,null,null,null,null,null,null,null,null,null,null,null,null,null,null,null,null,null,null,null,null,{"$f":"SUM(IF(G12=NumSci1,ScoreSci1),IF(H12=NumSci2,ScoreSci2),IF(I12=NumSci3,ScoreSci3),IF(J12=NumSci4,ScoreSci4),IF(K12=NumSci5,ScoreSci5),IF(L12=NumSci6,ScoreSci6),IF(M12=NumSci7,ScoreSci7),IF(N12=NumSci8,ScoreSci8),IF(O12=NumSci9,ScoreSci9),IF(P12=NumSci10,ScoreSci10),IF(Q12=NumSci11,ScoreSci11),IF(R12=NumSci12,ScoreSci12),IF(S12=NumSci13,ScoreSci13),IF(T12=NumSci14,ScoreSci14),IF(U12=NumSci15,ScoreSci15),IF(V12=NumSci16,ScoreSci16),IF(W12=NumSci17,ScoreSci17),IF(X12=NumSci18,ScoreSci18),IF(Y12=NumSci19,ScoreSci19),IF(Z12=NumSci20,ScoreSci20),IF(AA12=NumSci21,ScoreSci21),IF(AB12=NumSci22,ScoreSci22),IF(AC12=NumSci23,ScoreSci23),IF(AD12=NumSci24,ScoreSci24),,IF(AE12=NumSci25,ScoreSci25),IF(AF12=NumSci26,ScoreSci26),CC12)","v":0},null,"ข้อ 2",{"$f":"COUNTIF(AT11:AT360,\"✓\")","v":0},{"$f":"IF($E$5=\"\",\"\",(AP12/$E$5)*100)","v":0},null,{"$f":"IF(G12=\"\",\"\",IF(G12=NumSci1,\"✓\",\"X\"))","v":""},{"$f":"IF(H12=\"\",\"\",IF(H12=NumSci2,\"✓\",\"X\"))","v":""},"","","","","","","","","","","","","","","","","","","","","","","","",0,null,"","","",{"$f":"IF(COUNTIF(AG12,NumSci271)+COUNTIF(AH12,NumSci272)+COUNTIF(AI12,NumSci273)=3,4.5,IF(COUNTIF(AG12,NumSci271)+COUNTIF(AH12,NumSci272)+COUNTIF(AI12,NumSci273)=2,3,IF(COUNTIF(AG12,NumSci271)+COUNTIF(AH12,NumSci272)+COUNTIF(AI12,NumSci273)=1,0,0)))","v":0},"","","",0,{"$f":"SUM(BX12,CB12)","v":0}]
[{"$f":"ข้อมูลนักเรียน!B15","v":"1"},3,{"$f":"ข้อมูลนักเรียน!D15","v":"นายพ"},null,null,null,null,null,null,null,null,null,null,null,null,null,null,null,null,null,null,null,null,null,null,null,null,null,null,null,null,null,null,null,null,null,null,null,{"$f":"SUM(IF(G13=NumSci1,ScoreSci1),IF(H13=NumSci2,ScoreSci2),IF(I13=NumSci3,ScoreSci3),IF(J13=NumSci4,ScoreSci4),IF(K13=NumSci5,ScoreSci5),IF(L13=NumSci6,ScoreSci6),IF(M13=NumSci7,ScoreSci7),IF(N13=NumSci8,ScoreSci8),IF(O13=NumSci9,ScoreSci9),IF(P13=NumSci10,ScoreSci10),IF(Q13=NumSci11,ScoreSci11),IF(R13=NumSci12,ScoreSci12),IF(S13=NumSci13,ScoreSci13),IF(T13=NumSci14,ScoreSci14),IF(U13=NumSci15,ScoreSci15),IF(V13=NumSci16,ScoreSci16),IF(W13=NumSci17,ScoreSci17),IF(X13=NumSci18,ScoreSci18),IF(Y13=NumSci19,ScoreSci19),IF(Z13=NumSci20,ScoreSci20),IF(AA13=NumSci21,ScoreSci21),IF(AB13=NumSci22,ScoreSci22),IF(AC13=NumSci23,ScoreSci23),IF(AD13=NumSci24,ScoreSci24),,IF(AE13=NumSci25,ScoreSci25),IF(AF13=NumSci26,ScoreSci26),CC13)","v":0},null,"ข้อ 3",{"$f":"COUNTIF(AU11:AU360,\"✓\")","v":0},0,null,"","","","","","","","","","","","","","","","","","","","","","","","","","",0,null,"","","",0,"","","",0,0]
[{"$f":"ข้อมูลนักเรียน!B16","v":"1"},4,{"$f":"ข้อมูลนักเรียน!D16","v":"นายขเร"},null,null,null,null,null,null,null,null,null,null,null,null,null,null,null,null,null,null,null,null,null,null,null,null,null,null,null,null,null,null,null,null,null,null,null,0,null,"ข้อ 4",{"$f":"COUNTIF(AV11:AV360,\"✓\")","v":0},0,null,"","","","","","","","","","","","","","","","","","","","","","","","","","",0,null,"","","",0,"","","",0,0]
[{"$f":"ข้อมูลนักเรียน!B17","v":0},5,{"$f":"ข้อมูลนักเรียน!D17","v":"นางสาว"},null,null,null,null,null,null,null,null,null,null,null,null,null,null,null,null,null,null,null,null,null,null,null,null,null,null,null,null,null,null,null,null,null,null,null,0,null,"ข้อ 5",{"$f":"COUNTIF(AW11:AW360,\"✓\")","v":0},0,null,"","","","","","","","","","","","","","","","","","","","","","","","","","",0,null,"","","",0,"","","",0,0]
[{"$f":"ข้อมูลนักเรียน!B18","v":0},6,{"$f":"ข้อมูลนักเรียน!D18","v":0},null,null,null,null,null,null,null,null,null,null,null,null,null,null,null,null,null,null,null,null,null,null,null,null,null,null,null,null,null,null,null,null,null,null,null,0,null,"ข้อ 6",{"$f":"COUNTIF(AX11:AX360,\"✓\")","v":0},0,null,"","","","","","","","","","","","","","","","","","","","","","","","","","",0,null,"","","",0,"","","",0,0]
[{"$f":"ข้อมูลนักเรียน!B19","v":0},7,{"$f":"ข้อมูลนักเรียน!D19","v":0},null,null,null,null,null,null,null,null,null,null,null,null,null,null,null,null,null,null,null,null,null,null,null,null,null,null,null,null,null,null,null,null,null,null,null,0,null,"ข้อ 7",{"$f":"COUNTIF(AY11:AY360,\"✓\")","v":0},0,null,"","","","","","","","","","","","","","","","","","","","","","","","","","",0,null,"","","",0,"","","",0,0]
[{"$f":"ข้อมูลนักเรียน!B20","v":0},8,{"$f":"ข้อมูลนักเรียน!D20","v":0},null,null,null,null,null,null,null,null,null,null,null,null,null,null,null,null,null,null,null,null,null,null,null,null,null,null,null,null,null,null,null,null,null,null,null,0,null,"ข้อ 8",{"$f":"COUNTIF(AZ11:AZ360,\"✓\")","v":0},0,null,"","","","","","","","","","","","","","","","","","","","","","","","","","",0,null,"","","",0,"","","",0,0]
[{"$f":"ข้อมูลนักเรียน!B21","v":0},9,{"$f":"ข้อมูลนักเรียน!D21","v":0},null,null,null,null,null,null,null,null,null,null,null,null,null,null,null,null,null,null,null,null,null,null,null,null,null,null,null,null,null,null,null,null,null,null,null,0,null,"ข้อ 9",{"$f":"COUNTIF(BA11:BA360,\"✓\")","v":0},0,null,"","","","","","","","","","","","","","","","","","","","","","","","","","",0,null,"","","",0,"","","",0,0]
[{"$f":"ข้อมูลนักเรียน!B22","v":0},10,{"$f":"ข้อมูลนักเรียน!D22","v":0},null,null,null,null,null,null,null,null,null,null,null,null,null,null,null,null,null,null,null,null,null,null,null,null,null,null,null,null,null,null,null,null,null,null,null,0,null,"ข้อ 10",{"$f":"COUNTIF(BB11:BB360,\"✓\")","v":0},0,null,"","","","","","","","","","","","","","","","","","","","","","","","","","",0,null,"","","",0,"","","",0,0]
[{"$f":"ข้อมูลนักเรียน!B23","v":0},11,{"$f":"ข้อมูลนักเรียน!D23","v":0},null,null,null,null,null,null,null,null,null,null,null,null,null,null,null,null,null,null,null,null,null,null,null,null,null,null,null,null,null,null,null,null,null,null,null,0,null,"ข้อ 11",{"$f":"COUNTIF(BC11:BC360,\"✓\")","v":0},0,null,"","","","","","","","","","","","","","","","","","","","","","","","","","",0,null,"","","",0,"","","",0,0]
[{"$f":"ข้อมูลนักเรียน!B24","v":0},12,{"$f":"ข้อมูลนักเรียน!D24","v":0},null,null,null,null,null,null,null,null,null,null,null,null,null,null,null,null,null,null,null,null,null,null,null,null,null,null,null,null,null,null,null,null,null,null,null,0,null,"ข้อ 12",{"$f":"COUNTIF(BD11:BD360,\"✓\")","v":0},0,null,"","","","","","","","","","","","","","","","","","","","","","","","","","",0,null,"","","",0,"","","",0,0]
[{"$f":"ข้อมูลนักเรียน!B25","v":0},13,{"$f":"ข้อมูลนักเรียน!D25","v":0},null,null,null,null,null,null,null,null,null,null,null,null,null,null,null,null,null,null,null,null,null,null,null,null,null,null,null,null,null,null,null,null,null,null,null,0,null,"ข้อ 13",{"$f":"COUNTIF(BE11:BE360,\"✓\")","v":0},0,null,"","","","","","","","","","","","","","","","","","","","","","","","","","",0,null,"","","",0,"","","",0,0]
[{"$f":"ข้อมูลนักเรียน!B26","v":0},14,{"$f":"ข้อมูลนักเรียน!D26","v":0},null,null,null,null,null,null,null,null,null,null,null,null,null,null,null,null,null,null,null,null,null,null,null,null,null,null,null,null,null,null,null,null,null,null,null,0,null,"ข้อ 14",{"$f":"COUNTIF(BF11:BF360,\"✓\")","v":0},0,null,"","","","","","","","","","","","","","","","","","","","","","","","","","",0,null,"","","",0,"","","",0,0]
[{"$f":"ข้อมูลนักเรียน!B27","v":0},15,{"$f":"ข้อมูลนักเรียน!D27","v":0},null,null,null,null,null,null,null,null,null,null,null,null,null,null,null,null,null,null,null,null,null,null,null,null,null,null,null,null,null,null,null,null,null,null,null,0,null,"ข้อ 15",{"$f":"COUNTIF(BG11:BG360,\"✓\")","v":0},0,null,"","","","","","","","","","","","","","","","","","","","","","","","","","",0,null,"","","",0,"","","",0,0]
[{"$f":"ข้อมูลนักเรียน!B28","v":0},16,{"$f":"ข้อมูลนักเรียน!D28","v":0},null,null,null,null,null,null,null,null,null,null,null,null,null,null,null,null,null,null,null,null,null,null,null,null,null,null,null,null,null,null,null,null,null,null,null,0,null,"ข้อ 16",{"$f":"COUNTIF(BH11:BH360,\"✓\")","v":0},0,null,"","","","","","","","","","","","","","","","","","","","","","","","","","",0,null,"","","",0,"","","",0,0]
[{"$f":"ข้อมูลนักเรียน!B29","v":0},17,{"$f":"ข้อมูลนักเรียน!D29","v":0},null,null,null,null,null,null,null,null,null,null,null,null,null,null,null,null,null,null,null,null,null,null,null,null,null,null,null,null,null,null,null,null,null,null,null,0,null,"ข้อ 17",{"$f":"COUNTIF(BI11:BI360,\"✓\")","v":0},0,null,"","","","","","","","","","","","","","","","","","","","","","","","","","",0,null,"","","",0,"","","",0,0]
[{"$f":"ข้อมูลนักเรียน!B30","v":0},18,{"$f":"ข้อมูลนักเรียน!D30","v":0},null,null,null,null,null,null,null,null,null,null,null,null,null,null,null,null,null,null,null,null,null,null,null,null,null,null,null,null,null,null,null,null,null,null,null,0,null,"ข้อ 18",{"$f":"COUNTIF(BJ11:BJ360,\"✓\")","v":0},0,null,"","","","","","","","","","","","","","","","","","","","","","","","","","",0,null,"","","",0,"","","",0,0]
[{"$f":"ข้อมูลนักเรียน!B31","v":0},19,{"$f":"ข้อมูลนักเรียน!D31","v":0},null,null,null,null,null,null,null,null,null,null,null,null,null,null,null,null,null,null,null,null,null,null,null,null,null,null,null,null,null,null,null,null,null,null,null,0,null,"ข้อ 19",{"$f":"COUNTIF(BK11:BK360,\"✓\")","v":0},0,null,"","","","","","","","","","","","","","","","","","","","","","","","","","",0,null,"","","",0,"","","",0,0]
[{"$f":"ข้อมูลนักเรียน!B32","v":0},20,{"$f":"ข้อมูลนักเรียน!D32","v":0},null,null,null,null,null,null,null,null,null,null,null,null,null,null,null,null,null,null,null,null,null,null,null,null,null,null,null,null,null,null,null,null,null,null,null,0,null,"ข้อ 20",{"$f":"COUNTIF(BL11:BL360,\"✓\")","v":0},0,null,"","","","","","","","","","","","","","","","","","","","","","","","","","",0,null,"","","",0,"","","",0,0]
[{"$f":"ข้อมูลนักเรียน!B33","v":0},21,{"$f":"ข้อมูลนักเรียน!D33","v":0},null,null,null,null,null,null,null,null,null,null,null,null,null,null,null,null,null,null,null,null,null,null,null,null,null,null,null,null,null,null,null,null,null,null,null,0,null,"ข้อ 21",{"$f":"COUNTIF(BM11:BM360,\"✓\")","v":0},0,null,"","","","","","","","","","","","","","","","","","","","","","","","","","",0,null,"","","",0,"","","",0,0]
[{"$f":"ข้อมูลนักเรียน!B34","v":0},22,{"$f":"ข้อมูลนักเรียน!D34","v":0},null,null,null,null,null,null,null,null,null,null,null,null,null,null,null,null,null,null,null,null,null,null,null,null,null,null,null,null,null,null,null,null,null,null,null,0,null,"ข้อ 22",{"$f":"COUNTIF(BN11:BN360,\"✓\")","v":0},0,null,"","","","","","","","","","","","","","","","","","","","","","","","","","",0,null,"","","",0,"","","",0,0]
[{"$f":"ข้อมูลนักเรียน!B35","v":0},23,{"$f":"ข้อมูลนักเรียน!D35","v":0},null,null,null,null,null,null,null,null,null,null,null,null,null,null,null,null,null,null,null,null,null,null,null,null,null,null,null,null,null,null,null,null,null,null,null,0,null,"ข้อ 23",{"$f":"COUNTIF(BO11:BO360,\"✓\")","v":0},0,null,"","","","","","","","","","","","","","","","","","","","","","","","","","",0,null,"","","",0,"","","",0,0]
[{"$f":"ข้อมูลนักเรียน!B36","v":0},24,{"$f":"ข้อมูลนักเรียน!D36","v":0},null,null,null,null,null,null,null,null,null,null,null,null,null,null,null,null,null,null,null,null,null,null,null,null,null,null,null,null,null,null,null,null,null,null,null,0,null,"ข้อ 24",{"$f":"COUNTIF(BP11:BP360,\"✓\")","v":0},0,null,"","","","","","","","","","","","","","","","","","","","","","","","","","",0,null,"","","",0,"","","",0,0]
[{"$f":"ข้อมูลนักเรียน!B37","v":0},25,{"$f":"ข้อมูลนักเรียน!D37","v":0},null,null,null,null,null,null,null,null,null,null,null,null,null,null,null,null,null,null,null,null,null,null,null,null,null,null,null,null,null,null,null,null,null,null,null,0,null,"ข้อ 25",{"$f":"COUNTIF(BQ11:BQ360,\"✓\")","v":0},0,null,"","","","","","","","","","","","","","","","","","","","","","","","","","",0,null,"","","",0,"","","",0,0]
[{"$f":"ข้อมูลนักเรียน!B38","v":0},26,{"$f":"ข้อมูลนักเรียน!D38","v":0},null,null,null,null,null,null,null,null,null,null,null,null,null,null,null,null,null,null,null,null,null,null,null,null,null,null,null,null,null,null,null,null,null,null,null,0,null,"ข้อ 26",{"$f":"COUNTIF(BR11:BR360,\"✓\")","v":0},0,null,"","","","","","","","","","","","","","","","","","","","","","","","","","",0,null,"","","",0,"","","",0,0]
[{"$f":"ข้อมูลนักเรียน!B39","v":0},27,{"$f":"ข้อมูลนักเรียน!D39","v":0},null,null,null,null,null,null,null,null,null,null,null,null,null,null,null,null,null,null,null,null,null,null,null,null,null,null,null,null,null,null,null,null,null,null,null,0,null,null,null,null,null,"","","","","","","","","","","","","","","","","","","","","","","","","","",0,null,"","","",0,"","","",0,0]
[{"$f":"ข้อมูลนักเรียน!B40","v":0},28,{"$f":"ข้อมูลนักเรียน!D40","v":0},null,null,null,null,null,null,null,null,null,null,null,null,null,null,null,null,null,null,null,null,null,null,null,null,null,null,null,null,null,null,null,null,null,null,null,0,null,"ตอนที่ 2",null,null,null,"","","","","","","","","","","","","","","","","","","","","","","","","","",0,null,"","","",0,"","","",0,0]
[{"$f":"ข้อมูลนักเรียน!B41","v":0},29,{"$f":"ข้อมูลนักเรียน!D41","v":0},null,null,null,null,null,null,null,null,null,null,null,null,null,null,null,null,null,null,null,null,null,null,null,null,null,null,null,null,null,null,null,null,null,null,null,0,null,"ข้อที่","คะแนนเฉลี่ย","คิดเป็น %",null,"","","","","","","","","","","","","","","","","","","","","","","","","","",0,null,"","","",0,"","","",0,0]
[{"$f":"ข้อมูลนักเรียน!B42","v":0},30,{"$f":"ข้อมูลนักเรียน!D42","v":0},null,null,null,null,null,null,null,null,null,null,null,null,null,null,null,null,null,null,null,null,null,null,null,null,null,null,null,null,null,null,null,null,null,null,null,0,null,"ข้อ 27",{"$f":"(SUM(BX11:BX360)/$E$5)","v":0},{"$f":"IF($E$5=\"\",\"\",(AP40/4.5)*100)","v":0},null,"","","","","","","","","","","","","","","","","","","","","","","","","","",0,null,"","","",0,"","","",0,0]
[{"$f":"ข้อมูลนักเรียน!B43","v":0},31,{"$f":"ข้อมูลนักเรียน!D43","v":0},null,null,null,null,null,null,null,null,null,null,null,null,null,null,null,null,null,null,null,null,null,null,null,null,null,null,null,null,null,null,null,null,null,null,null,0,null,"ข้อ 28",{"$f":"(SUM(CB11:CB360)/$E$5)","v":0},{"$f":"IF($E$5=\"\",\"\",(AP41/4.5)*100)","v":0},null,"","","","","","","","","","","","","","","","","","","","","","","","","","",0,null,"","","",0,"","","",0,0]
[{"$f":"ข้อมูลนักเรียน!B44","v":0},32,{"$f":"ข้อมูลนักเรียน!D44","v":0},null,null,null,null,null,null,null,null,null,null,null,null,null,null,null,null,null,null,null,null,null,null,null,null,null,null,null,null,null,null,null,null,null,null,null,0,null,null,null,null,null,"","","","","","","","","","","","","","","","","","","","","","","","","","",0,null,"","","",0,"","","",0,0]
[{"$f":"ข้อมูลนักเรียน!B45","v":0},33,{"$f":"ข้อมูลนักเรียน!D45","v":0},null,null,null,null,null,null,null,null,null,null,null,null,null,null,null,null,null,null,null,null,null,null,null,null,null,null,null,null,null,null,null,null,null,null,null,0,null,null,null,null,null,"","","","","","","","","","","","","","","","","","","","","","","","","","",0,null,"","","",0,"","","",0,0]
[{"$f":"ข้อมูลนักเรียน!B46","v":0},34,{"$f":"ข้อมูลนักเรียน!D46","v":0},null,null,null,null,null,null,null,null,null,null,null,null,null,null,null,null,null,null,null,null,null,null,null,null,null,null,null,null,null,null,null,null,null,null,null,0,null,null,null,null,null,"","","","","","","","","","","","","","","","","","","","","","","","","","",0,null,"","","",0,"","","",0,0]
[{"$f":"ข้อมูลนักเรียน!B47","v":0},35,{"$f":"ข้อมูลนักเรียน!D47","v":0},null,null,null,null,null,null,null,null,null,null,null,null,null,null,null,null,null,null,null,null,null,null,null,null,null,null,null,null,null,null,null,null,null,null,null,0,null,null,null,null,null,"","","","","","","","","","","","","","","","","","","","","","","","","","",0,null,"","","",0,"","","",0,0]
[{"$f":"ข้อมูลนักเรียน!B48","v":0},36,{"$f":"ข้อมูลนักเรียน!D48","v":0},null,null,null,null,null,null,null,null,null,null,null,null,null,null,null,null,null,null,null,null,null,null,null,null,null,null,null,null,null,null,null,null,null,null,null,0,null,null,null,null,null,"","","","","","","","","","","","","","","","","","","","","","","","","","",0,null,"","","",0,"","","",0,0]
[{"$f":"ข้อมูลนักเรียน!B49","v":0},37,{"$f":"ข้อมูลนักเรียน!D49","v":0},null,null,null,null,null,null,null,null,null,null,null,null,null,null,null,null,null,null,null,null,null,null,null,null,null,null,null,null,null,null,null,null,null,null,null,0,null,null,null,null,null,"","","","","","","","","","","","","","","","","","","","","","","","","","",0,null,"","","",0,"","","",0,0]
[{"$f":"ข้อมูลนักเรียน!B50","v":0},38,{"$f":"ข้อมูลนักเรียน!D50","v":0},null,null,null,null,null,null,null,null,null,null,null,null,null,null,null,null,null,null,null,null,null,null,null,null,null,null,null,null,null,null,null,null,null,null,null,0,null,null,null,null,null,"","","","","","","","","","","","","","","","","","","","","","","","","","",0,null,"","","",0,"","","",0,0]
[{"$f":"ข้อมูลนักเรียน!B51","v":0},39,{"$f":"ข้อมูลนักเรียน!D51","v":0},null,null,null,null,null,null,null,null,null,null,null,null,null,null,null,null,null,null,null,null,null,null,null,null,null,null,null,null,null,null,null,null,null,null,null,0,null,null,null,null,null,"","","","","","","","","","","","","","","","","","","","","","","","","","",0,null,"","","",0,"","","",0,0]
[{"$f":"ข้อมูลนักเรียน!B52","v":0},40,{"$f":"ข้อมูลนักเรียน!D52","v":0},null,null,null,null,null,null,null,null,null,null,null,null,null,null,null,null,null,null,null,null,null,null,null,null,null,null,null,null,null,null,null,null,null,null,null,0,null,null,null,null,null,"","","","","","","","","","","","","","","","","","","","","","","","","","",0,null,"","","",0,"","","",0,0]
[{"$f":"ข้อมูลนักเรียน!B53","v":0},41,{"$f":"ข้อมูลนักเรียน!D53","v":0},null,null,null,null,null,null,null,null,null,null,null,null,null,null,null,null,null,null,null,null,null,null,null,null,null,null,null,null,null,null,null,null,null,null,null,0,null,null,null,null,null,"","","","","","","","","","","","","","","","","","","","","","","","","","",0,null,"","","",0,"","","",0,0]
[{"$f":"ข้อมูลนักเรียน!B54","v":0},42,{"$f":"ข้อมูลนักเรียน!D54","v":0},null,null,null,null,null,null,null,null,null,null,null,null,null,null,null,null,null,null,null,null,null,null,null,null,null,null,null,null,null,null,null,null,null,null,null,0,null,null,null,null,null,"","","","","","","","","","","","","","","","","","","","","","","","","","",0,null,"","","",0,"","","",0,0]
[{"$f":"ข้อมูลนักเรียน!B55","v":0},43,{"$f":"ข้อมูลนักเรียน!D55","v":0},null,null,null,null,null,null,null,null,null,null,null,null,null,null,null,null,null,null,null,null,null,null,null,null,null,null,null,null,null,null,null,null,null,null,null,0,null,null,null,null,null,"","","","","","","","","","","","","","","","","","","","","","","","","","",0,null,"","","",0,"","","",0,0]
[{"$f":"ข้อมูลนักเรียน!B56","v":0},44,{"$f":"ข้อมูลนักเรียน!D56","v":0},null,null,null,null,null,null,null,null,null,null,null,null,null,null,null,null,null,null,null,null,null,null,null,null,null,null,null,null,null,null,null,null,null,null,null,0,null,null,null,null,null,"","","","","","","","","","","","","","","","","","","","","","","","","","",0,null,"","","",0,"","","",0,0]
[{"$f":"ข้อมูลนักเรียน!B57","v":0},45,{"$f":"ข้อมูลนักเรียน!D57","v":0},null,null,null,null,null,null,null,null,null,null,null,null,null,null,null,null,null,null,null,null,null,null,null,null,null,null,null,null,null,null,null,null,null,null,null,0,null,null,null,null,null,"","","","","","","","","","","","","","","","","","","","","","","","","","",0,null,"","","",0,"","","",0,0]
[{"$f":"ข้อมูลนักเรียน!B58","v":0},46,{"$f":"ข้อมูลนักเรียน!D58","v":0},null,null,null,null,null,null,null,null,null,null,null,null,null,null,null,null,null,null,null,null,null,null,null,null,null,null,null,null,null,null,null,null,null,null,null,0,null,null,null,null,null,"","","","","","","","","","","","","","","","","","","","","","","","","","",0,null,"","","",0,"","","",0,0]
[{"$f":"ข้อมูลนักเรียน!B59","v":0},47,{"$f":"ข้อมูลนักเรียน!D59","v":0},null,null,null,null,null,null,null,null,null,null,null,null,null,null,null,null,null,null,null,null,null,null,null,null,null,null,null,null,null,null,null,null,null,null,null,0,null,null,null,null,null,"","","","","","","","","","","","","","","","","","","","","","","","","","",0,null,"","","",0,"","","",0,0]
[{"$f":"ข้อมูลนักเรียน!B60","v":0},48,{"$f":"ข้อมูลนักเรียน!D60","v":0},null,null,null,null,null,null,null,null,null,null,null,null,null,null,null,null,null,null,null,null,null,null,null,null,null,null,null,null,null,null,null,null,null,null,null,0,null,null,null,null,null,"","","","","","","","","","","","","","","","","","","","","","","","","","",0,null,"","","",0,"","","",0,0]
[{"$f":"ข้อมูลนักเรียน!B61","v":0},49,{"$f":"ข้อมูลนักเรียน!D61","v":0},null,null,null,null,null,null,null,null,null,null,null,null,null,null,null,null,null,null,null,null,null,null,null,null,null,null,null,null,null,null,null,null,null,null,null,0,null,null,null,null,null,"","","","","","","","","","","","","","","","","","","","","","","","","","",0,null,"","","",0,"","","",0,0]
[{"$f":"ข้อมูลนักเรียน!B62","v":0},50,{"$f":"ข้อมูลนักเรียน!D62","v":0},null,null,null,null,null,null,null,null,null,null,null,null,null,null,null,null,null,null,null,null,null,null,null,null,null,null,null,null,null,null,null,null,null,null,null,0,null,null,null,null,null,"","","","","","","","","","","","","","","","","","","","","","","","","","",0,null,"","","",0,"","","",0,0]
[{"$f":"ข้อมูลนักเรียน!B63","v":0},51,{"$f":"ข้อมูลนักเรียน!D63","v":0},null,null,null,null,null,null,null,null,null,null,null,null,null,null,null,null,null,null,null,null,null,null,null,null,null,null,null,null,null,null,null,null,null,null,null,0,null,null,null,null,null,"","","","","","","","","","","","","","","","","","","","","","","","","","",0,null,"","","",0,"","","",0,0]
[{"$f":"ข้อมูลนักเรียน!B64","v":0},52,{"$f":"ข้อมูลนักเรียน!D64","v":0},null,null,null,null,null,null,null,null,null,null,null,null,null,null,null,null,null,null,null,null,null,null,null,null,null,null,null,null,null,null,null,null,null,null,null,0,null,null,null,null,null,"","","","","","","","","","","","","","","","","","","","","","","","","","",0,null,"","","",0,"","","",0,0]
[{"$f":"ข้อมูลนักเรียน!B65","v":0},53,{"$f":"ข้อมูลนักเรียน!D65","v":0},null,null,null,null,null,null,null,null,null,null,null,null,null,null,null,null,null,null,null,null,null,null,null,null,null,null,null,null,null,null,null,null,null,null,null,0,null,null,null,null,null,"","","","","","","","","","","","","","","","","","","","","","","","","","",0,null,"","","",0,"","","",0,0]
[{"$f":"ข้อมูลนักเรียน!B66","v":0},54,{"$f":"ข้อมูลนักเรียน!D66","v":0},null,null,null,null,null,null,null,null,null,null,null,null,null,null,null,null,null,null,null,null,null,null,null,null,null,null,null,null,null,null,null,null,null,null,null,0,null,null,null,null,null,"","","","","","","","","","","","","","","","","","","","","","","","","","",0,null,"","","",0,"","","",0,0]
[{"$f":"ข้อมูลนักเรียน!B67","v":0},55,{"$f":"ข้อมูลนักเรียน!D67","v":0},null,null,null,null,null,null,null,null,null,null,null,null,null,null,null,null,null,null,null,null,null,null,null,null,null,null,null,null,null,null,null,null,null,null,null,0,null,null,null,null,null,"","","","","","","","","","","","","","","","","","","","","","","","","","",0,null,"","","",0,"","","",0,0]
[{"$f":"ข้อมูลนักเรียน!B68","v":0},56,{"$f":"ข้อมูลนักเรียน!D68","v":0},null,null,null,null,null,null,null,null,null,null,null,null,null,null,null,null,null,null,null,null,null,null,null,null,null,null,null,null,null,null,null,null,null,null,null,0,null,null,null,null,null,"","","","","","","","","","","","","","","","","","","","","","","","","","",0,null,"","","",0,"","","",0,0]
[{"$f":"ข้อมูลนักเรียน!B69","v":0},57,{"$f":"ข้อมูลนักเรียน!D69","v":0},null,null,null,null,null,null,null,null,null,null,null,null,null,null,null,null,null,null,null,null,null,null,null,null,null,null,null,null,null,null,null,null,null,null,null,0,null,null,null,null,null,"","","","","","","","","","","","","","","","","","","","","","","","","","",0,null,"","","",0,"","","",0,0]
[{"$f":"ข้อมูลนักเรียน!B70","v":0},58,{"$f":"ข้อมูลนักเรียน!D70","v":0},null,null,null,null,null,null,null,null,null,null,null,null,null,null,null,null,null,null,null,null,null,null,null,null,null,null,null,null,null,null,null,null,null,null,null,0,null,null,null,null,null,"","","","","","","","","","","","","","","","","","","","","","","","","","",0,null,"","","",0,"","","",0,0]
[{"$f":"ข้อมูลนักเรียน!B71","v":0},59,{"$f":"ข้อมูลนักเรียน!D71","v":0},null,null,null,null,null,null,null,null,null,null,null,null,null,null,null,null,null,null,null,null,null,null,null,null,null,null,null,null,null,null,null,null,null,null,null,0,null,null,null,null,null,"","","","","","","","","","","","","","","","","","","","","","","","","","",0,null,"","","",0,"","","",0,0]
[{"$f":"ข้อมูลนักเรียน!B72","v":0},60,{"$f":"ข้อมูลนักเรียน!D72","v":0},null,null,null,null,null,null,null,null,null,null,null,null,null,null,null,null,null,null,null,null,null,null,null,null,null,null,null,null,null,null,null,null,null,null,null,0,null,null,null,null,null,"","","","","","","","","","","","","","","","","","","","","","","","","","",0,null,"","","",0,"","","",0,0]
[{"$f":"ข้อมูลนักเรียน!B73","v":0},61,{"$f":"ข้อมูลนักเรียน!D73","v":0},null,null,null,null,null,null,null,null,null,null,null,null,null,null,null,null,null,null,null,null,null,null,null,null,null,null,null,null,null,null,null,null,null,null,null,0,null,null,null,null,null,"","","","","","","","","","","","","","","","","","","","","","","","","","",0,null,"","","",0,"","","",0,0]
[{"$f":"ข้อมูลนักเรียน!B74","v":0},62,{"$f":"ข้อมูลนักเรียน!D74","v":0},null,null,null,null,null,null,null,null,null,null,null,null,null,null,null,null,null,null,null,null,null,null,null,null,null,null,null,null,null,null,null,null,null,null,null,0,null,null,null,null,null,"","","","","","","","","","","","","","","","","","","","","","","","","","",0,null,"","","",0,"","","",0,0]
[{"$f":"ข้อมูลนักเรียน!B75","v":0},63,{"$f":"ข้อมูลนักเรียน!D75","v":0},null,null,null,null,null,null,null,null,null,null,null,null,null,null,null,null,null,null,null,null,null,null,null,null,null,null,null,null,null,null,null,null,null,null,null,0,null,null,null,null,null,"","","","","","","","","","","","","","","","","","","","","","","","","","",0,null,"","","",0,"","","",0,0]
[{"$f":"ข้อมูลนักเรียน!B76","v":0},64,{"$f":"ข้อมูลนักเรียน!D76","v":0},null,null,null,null,null,null,null,null,null,null,null,null,null,null,null,null,null,null,null,null,null,null,null,null,null,null,null,null,null,null,null,null,null,null,null,0,null,null,null,null,null,"","","","","","","","","","","","","","","","","","","","","","","","","","",0,null,"","","",0,"","","",0,0]
[{"$f":"ข้อมูลนักเรียน!B77","v":0},65,{"$f":"ข้อมูลนักเรียน!D77","v":0},null,null,null,null,null,null,null,null,null,null,null,null,null,null,null,null,null,null,null,null,null,null,null,null,null,null,null,null,null,null,null,null,null,null,null,{"$f":"SUM(IF(G75=NumSci1,ScoreSci1),IF(H75=NumSci2,ScoreSci2),IF(I75=NumSci3,ScoreSci3),IF(J75=NumSci4,ScoreSci4),IF(K75=NumSci5,ScoreSci5),IF(L75=NumSci6,ScoreSci6),IF(M75=NumSci7,ScoreSci7),IF(N75=NumSci8,ScoreSci8),IF(O75=NumSci9,ScoreSci9),IF(P75=NumSci10,ScoreSci10),IF(Q75=NumSci11,ScoreSci11),IF(R75=NumSci12,ScoreSci12),IF(S75=NumSci13,ScoreSci13),IF(T75=NumSci14,ScoreSci14),IF(U75=NumSci15,ScoreSci15),IF(V75=NumSci16,ScoreSci16),IF(W75=NumSci17,ScoreSci17),IF(X75=NumSci18,ScoreSci18),IF(Y75=NumSci19,ScoreSci19),IF(Z75=NumSci20,ScoreSci20),IF(AA75=NumSci21,ScoreSci21),IF(AB75=NumSci22,ScoreSci22),IF(AC75=NumSci23,ScoreSci23),IF(AD75=NumSci24,ScoreSci24),,IF(AE75=NumSci25,ScoreSci25),IF(AF75=NumSci26,ScoreSci26),CC75)","v":0},null,null,null,null,null,{"$f":"IF(G75=\"\",\"\",IF(G75=NumSci1,\"✓\",\"X\"))","v":""},{"$f":"IF(H75=\"\",\"\",IF(H75=NumSci2,\"✓\",\"X\"))","v":""},{"$f":"IF(I75=\"\",\"\",IF(I75=NumSci3,\"✓\",\"X\"))","v":""},{"$f":"IF(J75=\"\",\"\",IF(J75=NumSci4,\"✓\",\"X\"))","v":""},{"$f":"IF(K75=\"\",\"\",IF(K75=NumSci5,\"✓\",\"X\"))","v":""},{"$f":"IF(L75=\"\",\"\",IF(L75=NumSci6,\"✓\",\"X\"))","v":""},{"$f":"IF(M75=\"\",\"\",IF(M75=NumSci7,\"✓\",\"X\"))","v":""},{"$f":"IF(N75=\"\",\"\",IF(N75=NumSci8,\"✓\",\"X\"))","v":""},{"$f":"IF(O75=\"\",\"\",IF(O75=NumSci9,\"✓\",\"X\"))","v":""},{"$f":"IF(P75=\"\",\"\",IF(P75=NumSci10,\"✓\",\"X\"))","v":""},{"$f":"IF(Q75=\"\",\"\",IF(Q75=NumSci11,\"✓\",\"X\"))","v":""},{"$f":"IF(R75=\"\",\"\",IF(R75=NumSci12,\"✓\",\"X\"))","v":""},{"$f":"IF(S75=\"\",\"\",IF(S75=NumSci13,\"✓\",\"X\"))","v":""},{"$f":"IF(T75=\"\",\"\",IF(T75=NumSci14,\"✓\",\"X\"))","v":""},{"$f":"IF(U75=\"\",\"\",IF(U75=NumSci15,\"✓\",\"X\"))","v":""},{"$f":"IF(V75=\"\",\"\",IF(V75=NumSci16,\"✓\",\"X\"))","v":""},{"$f":"IF(W75=\"\",\"\",IF(W75=NumSci17,\"✓\",\"X\"))","v":""},{"$f":"IF(X75=\"\",\"\",IF(X75=NumSci18,\"✓\",\"X\"))","v":""},{"$f":"IF(Y75=\"\",\"\",IF(Y75=NumSci19,\"✓\",\"X\"))","v":""},{"$f":"IF(Z75=\"\",\"\",IF(Z75=NumSci20,\"✓\",\"X\"))","v":""},{"$f":"IF(AA75=\"\",\"\",IF(AA75=NumSci21,\"✓\",\"X\"))","v":""},{"$f":"IF(AB75=\"\",\"\",IF(AB75=NumSci22,\"✓\",\"X\"))","v":""},{"$f":"IF(AC75=\"\",\"\",IF(AC75=NumSci23,\"✓\",\"X\"))","v":""},{"$f":"IF(AD75=\"\",\"\",IF(AD75=NumSci24,\"✓\",\"X\"))","v":""},{"$f":"IF(AE75=\"\",\"\",IF(AE75=NumSci25,\"✓\",\"X\"))","v":""},{"$f":"IF(AF75=\"\",\"\",IF(AF75=NumSci26,\"✓\",\"X\"))","v":""},{"$f":"COUNTIF(AS75:BR75,\"✓\")","v":0},null,{"$f":"IF(AG75=\"\",\"\",IF(AG75=NumSci271,\"✓\",\"X\"))","v":""},{"$f":"IF(AH75=\"\",\"\",IF(AH75=NumSci272,\"✓\",\"X\"))","v":""},{"$f":"IF(AI75=\"\",\"\",IF(AI75=NumSci273,\"✓\",\"X\"))","v":""},{"$f":"IF(COUNTIF(AG75,NumSci271)+COUNTIF(AH75,NumSci272)+COUNTIF(AI75,NumSci273)=3,4.5,IF(COUNTIF(AG75,NumSci271)+COUNTIF(AH75,NumSci272)+COUNTIF(AI75,NumSci273)=2,3,IF(COUNTIF(AG75,NumSci271)+COUNTIF(AH75,NumSci272)+COUNTIF(AI75,NumSci273)=1,0,0)))","v":0},{"$f":"IF(AJ75=\"\",\"\",IF(AJ75=NumSci281,\"✓\",\"X\"))","v":""},{"$f":"IF(AK75=\"\",\"\",IF(AK75=NumSci282,\"✓\",\"X\"))","v":""},{"$f":"IF(AL75=\"\",\"\",IF(AL75=NumSci283,\"✓\",\"X\"))","v":""},{"$f":"IF(COUNTIF(AJ75,NumSci281)+COUNTIF(AK75,NumSci282)+COUNTIF(AL75,NumSci283)=3,4.5,IF(COUNTIF(AJ75,NumSci281)+COUNTIF(AK75,NumSci282)+COUNTIF(AL75,NumSci283)=2,3,IF(COUNTIF(AJ75,NumSci281)+COUNTIF(AK75,NumSci282)+COUNTIF(AL75,NumSci283)=1,0,0)))","v":0},0]
[{"$f":"ข้อมูลนักเรียน!B78","v":0},66,{"$f":"ข้อมูลนักเรียน!D78","v":0},null,null,null,null,null,null,null,null,null,null,null,null,null,null,null,null,null,null,null,null,null,null,null,null,null,null,null,null,null,null,null,null,null,null,null,0,null,null,null,null,null,"","","","","","","","","","","","","","","","","","","","","","","","","","",0,null,"","","",0,"","","",0,{"$f":"SUM(BX76,CB76)","v":0}]
[{"$f":"ข้อมูลนักเรียน!B79","v":0},67,{"$f":"ข้อมูลนักเรียน!D79","v":0},null,null,null,null,null,null,null,null,null,null,null,null,null,null,null,null,null,null,null,null,null,null,null,null,null,null,null,null,null,null,null,null,null,null,null,0,null,null,null,null,null,"","","","","","","","","","","","","","","","","","","","","","","","","","",0,null,"","","",0,"","","",0,0]
[{"$f":"ข้อมูลนักเรียน!B80","v":0},68,{"$f":"ข้อมูลนักเรียน!D80","v":0},null,null,null,null,null,null,null,null,null,null,null,null,null,null,null,null,null,null,null,null,null,null,null,null,null,null,null,null,null,null,null,null,null,null,null,0,null,null,null,null,null,"","","","","","","","","","","","","","","","","","","","","","","","","","",0,null,"","","",0,"","","",0,0]
[{"$f":"ข้อมูลนักเรียน!B81","v":0},69,{"$f":"ข้อมูลนักเรียน!D81","v":0},null,null,null,null,null,null,null,null,null,null,null,null,null,null,null,null,null,null,null,null,null,null,null,null,null,null,null,null,null,null,null,null,null,null,null,0,null,null,null,null,null,"","","","","","","","","","","","","","","","","","","","","","","","","","",0,null,"","","",0,"","","",0,0]
[{"$f":"ข้อมูลนักเรียน!B82","v":0},70,{"$f":"ข้อมูลนักเรียน!D82","v":0},null,null,null,null,null,null,null,null,null,null,null,null,null,null,null,null,null,null,null,null,null,null,null,null,null,null,null,null,null,null,null,null,null,null,null,0,null,null,null,null,null,"","","","","","","","","","","","","","","","","","","","","","","","","","",0,null,"","","",0,"","","",0,0]
[{"$f":"ข้อมูลนักเรียน!B83","v":0},71,{"$f":"ข้อมูลนักเรียน!D83","v":0},null,null,null,null,null,null,null,null,null,null,null,null,null,null,null,null,null,null,null,null,null,null,null,null,null,null,null,null,null,null,null,null,null,null,null,0,null,null,null,null,null,"","","","","","","","","","","","","","","","","","","","","","","","","","",0,null,"","","",0,"","","",0,0]
[{"$f":"ข้อมูลนักเรียน!B84","v":0},72,{"$f":"ข้อมูลนักเรียน!D84","v":0},null,null,null,null,null,null,null,null,null,null,null,null,null,null,null,null,null,null,null,null,null,null,null,null,null,null,null,null,null,null,null,null,null,null,null,0,null,null,null,null,null,"","","","","","","","","","","","","","","","","","","","","","","","","","",0,null,"","","",0,"","","",0,0]
[{"$f":"ข้อมูลนักเรียน!B85","v":0},73,{"$f":"ข้อมูลนักเรียน!D85","v":0},null,null,null,null,null,null,null,null,null,null,null,null,null,null,null,null,null,null,null,null,null,null,null,null,null,null,null,null,null,null,null,null,null,null,null,0,null,null,null,null,null,"","","","","","","","","","","","","","","","","","","","","","","","","","",0,null,"","","",0,"","","",0,0]
[{"$f":"ข้อมูลนักเรียน!B86","v":0},74,{"$f":"ข้อมูลนักเรียน!D86","v":0},null,null,null,null,null,null,null,null,null,null,null,null,null,null,null,null,null,null,null,null,null,null,null,null,null,null,null,null,null,null,null,null,null,null,null,0,null,null,null,null,null,"","","","","","","","","","","","","","","","","","","","","","","","","","",0,null,"","","",0,"","","",0,0]
[{"$f":"ข้อมูลนักเรียน!B87","v":0},75,{"$f":"ข้อมูลนักเรียน!D87","v":0},null,null,null,null,null,null,null,null,null,null,null,null,null,null,null,null,null,null,null,null,null,null,null,null,null,null,null,null,null,null,null,null,null,null,null,0,null,null,null,null,null,"","","","","","","","","","","","","","","","","","","","","","","","","","",0,null,"","","",0,"","","",0,0]
[{"$f":"ข้อมูลนักเรียน!B88","v":0},76,{"$f":"ข้อมูลนักเรียน!D88","v":0},null,null,null,null,null,null,null,null,null,null,null,null,null,null,null,null,null,null,null,null,null,null,null,null,null,null,null,null,null,null,null,null,null,null,null,0,null,null,null,null,null,"","","","","","","","","","","","","","","","","","","","","","","","","","",0,null,"","","",0,"","","",0,0]
[{"$f":"ข้อมูลนักเรียน!B89","v":0},77,{"$f":"ข้อมูลนักเรียน!D89","v":0},null,null,null,null,null,null,null,null,null,null,null,null,null,null,null,null,null,null,null,null,null,null,null,null,null,null,null,null,null,null,null,null,null,null,null,0,null,null,null,null,null,"","","","","","","","","","","","","","","","","","","","","","","","","","",0,null,"","","",0,"","","",0,0]
[{"$f":"ข้อมูลนักเรียน!B90","v":0},78,{"$f":"ข้อมูลนักเรียน!D90","v":0},null,null,null,null,null,null,null,null,null,null,null,null,null,null,null,null,null,null,null,null,null,null,null,null,null,null,null,null,null,null,null,null,null,null,null,0,null,null,null,null,null,"","","","","","","","","","","","","","","","","","","","","","","","","","",0,null,"","","",0,"","","",0,0]
[{"$f":"ข้อมูลนักเรียน!B91","v":0},79,{"$f":"ข้อมูลนักเรียน!D91","v":0},null,null,null,null,null,null,null,null,null,null,null,null,null,null,null,null,null,null,null,null,null,null,null,null,null,null,null,null,null,null,null,null,null,null,null,0,null,null,null,null,null,"","","","","","","","","","","","","","","","","","","","","","","","","","",0,null,"","","",0,"","","",0,0]
[{"$f":"ข้อมูลนักเรียน!B92","v":0},80,{"$f":"ข้อมูลนักเรียน!D92","v":0},null,null,null,null,null,null,null,null,null,null,null,null,null,null,null,null,null,null,null,null,null,null,null,null,null,null,null,null,null,null,null,null,null,null,null,0,null,null,null,null,null,"","","","","","","","","","","","","","","","","","","","","","","","","","",0,null,"","","",0,"","","",0,0]
[{"$f":"ข้อมูลนักเรียน!B93","v":0},81,{"$f":"ข้อมูลนักเรียน!D93","v":0},null,null,null,null,null,null,null,null,null,null,null,null,null,null,null,null,null,null,null,null,null,null,null,null,null,null,null,null,null,null,null,null,null,null,null,0,null,null,null,null,null,"","","","","","","","","","","","","","","","","","","","","","","","","","",0,null,"","","",0,"","","",0,0]
[{"$f":"ข้อมูลนักเรียน!B94","v":0},82,{"$f":"ข้อมูลนักเรียน!D94","v":0},null,null,null,null,null,null,null,null,null,null,null,null,null,null,null,null,null,null,null,null,null,null,null,null,null,null,null,null,null,null,null,null,null,null,null,0,null,null,null,null,null,"","","","","","","","","","","","","","","","","","","","","","","","","","",0,null,"","","",0,"","","",0,0]
[{"$f":"ข้อมูลนักเรียน!B95","v":0},83,{"$f":"ข้อมูลนักเรียน!D95","v":0},null,null,null,null,null,null,null,null,null,null,null,null,null,null,null,null,null,null,null,null,null,null,null,null,null,null,null,null,null,null,null,null,null,null,null,0,null,null,null,null,null,"","","","","","","","","","","","","","","","","","","","","","","","","","",0,null,"","","",0,"","","",0,0]
[{"$f":"ข้อมูลนักเรียน!B96","v":0},84,{"$f":"ข้อมูลนักเรียน!D96","v":0},null,null,null,null,null,null,null,null,null,null,null,null,null,null,null,null,null,null,null,null,null,null,null,null,null,null,null,null,null,null,null,null,null,null,null,0,null,null,null,null,null,"","","","","","","","","","","","","","","","","","","","","","","","","","",0,null,"","","",0,"","","",0,0]
[{"$f":"ข้อมูลนักเรียน!B97","v":0},85,{"$f":"ข้อมูลนักเรียน!D97","v":0},null,null,null,null,null,null,null,null,null,null,null,null,null,null,null,null,null,null,null,null,null,null,null,null,null,null,null,null,null,null,null,null,null,null,null,0,null,null,null,null,null,"","","","","","","","","","","","","","","","","","","","","","","","","","",0,null,"","","",0,"","","",0,0]
[{"$f":"ข้อมูลนักเรียน!B98","v":0},86,{"$f":"ข้อมูลนักเรียน!D98","v":0},null,null,null,null,null,null,null,null,null,null,null,null,null,null,null,null,null,null,null,null,null,null,null,null,null,null,null,null,null,null,null,null,null,null,null,0,null,null,null,null,null,"","","","","","","","","","","","","","","","","","","","","","","","","","",0,null,"","","",0,"","","",0,0]
[{"$f":"ข้อมูลนักเรียน!B99","v":0},87,{"$f":"ข้อมูลนักเรียน!D99","v":0},null,null,null,null,null,null,null,null,null,null,null,null,null,null,null,null,null,null,null,null,null,null,null,null,null,null,null,null,null,null,null,null,null,null,null,0,null,null,null,null,null,"","","","","","","","","","","","","","","","","","","","","","","","","","",0,null,"","","",0,"","","",0,0]
[{"$f":"ข้อมูลนักเรียน!B100","v":0},88,{"$f":"ข้อมูลนักเรียน!D100","v":0},null,null,null,null,null,null,null,null,null,null,null,null,null,null,null,null,null,null,null,null,null,null,null,null,null,null,null,null,null,null,null,null,null,null,null,0,null,null,null,null,null,"","","","","","","","","","","","","","","","","","","","","","","","","","",0,null,"","","",0,"","","",0,0]
[{"$f":"ข้อมูลนักเรียน!B101","v":0},89,{"$f":"ข้อมูลนักเรียน!D101","v":0},null,null,null,null,null,null,null,null,null,null,null,null,null,null,null,null,null,null,null,null,null,null,null,null,null,null,null,null,null,null,null,null,null,null,null,0,null,null,null,null,null,"","","","","","","","","","","","","","","","","","","","","","","","","","",0,null,"","","",0,"","","",0,0]
[{"$f":"ข้อมูลนักเรียน!B102","v":0},90,{"$f":"ข้อมูลนักเรียน!D102","v":0},null,null,null,null,null,null,null,null,null,null,null,null,null,null,null,null,null,null,null,null,null,null,null,null,null,null,null,null,null,null,null,null,null,null,null,0,null,null,null,null,null,"","","","","","","","","","","","","","","","","","","","","","","","","","",0,null,"","","",0,"","","",0,0]
[{"$f":"ข้อมูลนักเรียน!B103","v":0},91,{"$f":"ข้อมูลนักเรียน!D103","v":0},null,null,null,null,null,null,null,null,null,null,null,null,null,null,null,null,null,null,null,null,null,null,null,null,null,null,null,null,null,null,null,null,null,null,null,0,null,null,null,null,null,"","","","","","","","","","","","","","","","","","","","","","","","","","",0,null,"","","",0,"","","",0,0]
[{"$f":"ข้อมูลนักเรียน!B104","v":0},92,{"$f":"ข้อมูลนักเรียน!D104","v":0},null,null,null,null,null,null,null,null,null,null,null,null,null,null,null,null,null,null,null,null,null,null,null,null,null,null,null,null,null,null,null,null,null,null,null,0,null,null,null,null,null,"","","","","","","","","","","","","","","","","","","","","","","","","","",0,null,"","","",0,"","","",0,0]
[{"$f":"ข้อมูลนักเรียน!B105","v":0},93,{"$f":"ข้อมูลนักเรียน!D105","v":0},null,null,null,null,null,null,null,null,null,null,null,null,null,null,null,null,null,null,null,null,null,null,null,null,null,null,null,null,null,null,null,null,null,null,null,0,null,null,null,null,null,"","","","","","","","","","","","","","","","","","","","","","","","","","",0,null,"","","",0,"","","",0,0]
[{"$f":"ข้อมูลนักเรียน!B106","v":0},94,{"$f":"ข้อมูลนักเรียน!D106","v":0},null,null,null,null,null,null,null,null,null,null,null,null,null,null,null,null,null,null,null,null,null,null,null,null,null,null,null,null,null,null,null,null,null,null,null,0,null,null,null,null,null,"","","","","","","","","","","","","","","","","","","","","","","","","","",0,null,"","","",0,"","","",0,0]
[{"$f":"ข้อมูลนักเรียน!B107","v":0},95,{"$f":"ข้อมูลนักเรียน!D107","v":0},null,null,null,null,null,null,null,null,null,null,null,null,null,null,null,null,null,null,null,null,null,null,null,null,null,null,null,null,null,null,null,null,null,null,null,0,null,null,null,null,null,"","","","","","","","","","","","","","","","","","","","","","","","","","",0,null,"","","",0,"","","",0,0]
[{"$f":"ข้อมูลนักเรียน!B108","v":0},96,{"$f":"ข้อมูลนักเรียน!D108","v":0},null,null,null,null,null,null,null,null,null,null,null,null,null,null,null,null,null,null,null,null,null,null,null,null,null,null,null,null,null,null,null,null,null,null,null,0,null,null,null,null,null,"","","","","","","","","","","","","","","","","","","","","","","","","","",0,null,"","","",0,"","","",0,0]
[{"$f":"ข้อมูลนักเรียน!B109","v":0},97,{"$f":"ข้อมูลนักเรียน!D109","v":0},null,null,null,null,null,null,null,null,null,null,null,null,null,null,null,null,null,null,null,null,null,null,null,null,null,null,null,null,null,null,null,null,null,null,null,0,null,null,null,null,null,"","","","","","","","","","","","","","","","","","","","","","","","","","",0,null,"","","",0,"","","",0,0]
[{"$f":"ข้อมูลนักเรียน!B110","v":0},98,{"$f":"ข้อมูลนักเรียน!D110","v":0},null,null,null,null,null,null,null,null,null,null,null,null,null,null,null,null,null,null,null,null,null,null,null,null,null,null,null,null,null,null,null,null,null,null,null,0,null,null,null,null,null,"","","","","","","","","","","","","","","","","","","","","","","","","","",0,null,"","","",0,"","","",0,0]
[{"$f":"ข้อมูลนักเรียน!B111","v":0},99,{"$f":"ข้อมูลนักเรียน!D111","v":0},null,null,null,null,null,null,null,null,null,null,null,null,null,null,null,null,null,null,null,null,null,null,null,null,null,null,null,null,null,null,null,null,null,null,null,0,null,null,null,null,null,"","","","","","","","","","","","","","","","","","","","","","","","","","",0,null,"","","",0,"","","",0,0]
[{"$f":"ข้อมูลนักเรียน!B112","v":0},100,{"$f":"ข้อมูลนักเรียน!D112","v":0},null,null,null,null,null,null,null,null,null,null,null,null,null,null,null,null,null,null,null,null,null,null,null,null,null,null,null,null,null,null,null,null,null,null,null,0,null,null,null,null,null,"","","","","","","","","","","","","","","","","","","","","","","","","","",0,null,"","","",0,"","","",0,0]
[{"$f":"ข้อมูลนักเรียน!B113","v":0},101,{"$f":"ข้อมูลนักเรียน!D113","v":0},null,null,null,null,null,null,null,null,null,null,null,null,null,null,null,null,null,null,null,null,null,null,null,null,null,null,null,null,null,null,null,null,null,null,null,0,null,null,null,null,null,"","","","","","","","","","","","","","","","","","","","","","","","","","",0,null,"","","",0,"","","",0,0]
[{"$f":"ข้อมูลนักเรียน!B114","v":0},102,{"$f":"ข้อมูลนักเรียน!D114","v":0},null,null,null,null,null,null,null,null,null,null,null,null,null,null,null,null,null,null,null,null,null,null,null,null,null,null,null,null,null,null,null,null,null,null,null,0,null,null,null,null,null,"","","","","","","","","","","","","","","","","","","","","","","","","","",0,null,"","","",0,"","","",0,0]
[{"$f":"ข้อมูลนักเรียน!B115","v":0},103,{"$f":"ข้อมูลนักเรียน!D115","v":0},null,null,null,null,null,null,null,null,null,null,null,null,null,null,null,null,null,null,null,null,null,null,null,null,null,null,null,null,null,null,null,null,null,null,null,0,null,null,null,null,null,"","","","","","","","","","","","","","","","","","","","","","","","","","",0,null,"","","",0,"","","",0,0]
[{"$f":"ข้อมูลนักเรียน!B116","v":0},104,{"$f":"ข้อมูลนักเรียน!D116","v":0},null,null,null,null,null,null,null,null,null,null,null,null,null,null,null,null,null,null,null,null,null,null,null,null,null,null,null,null,null,null,null,null,null,null,null,0,null,null,null,null,null,"","","","","","","","","","","","","","","","","","","","","","","","","","",0,null,"","","",0,"","","",0,0]
[{"$f":"ข้อมูลนักเรียน!B117","v":0},105,{"$f":"ข้อมูลนักเรียน!D117","v":0},null,null,null,null,null,null,null,null,null,null,null,null,null,null,null,null,null,null,null,null,null,null,null,null,null,null,null,null,null,null,null,null,null,null,null,0,null,null,null,null,null,"","","","","","","","","","","","","","","","","","","","","","","","","","",0,null,"","","",0,"","","",0,0]
[{"$f":"ข้อมูลนักเรียน!B118","v":0},106,{"$f":"ข้อมูลนักเรียน!D118","v":0},null,null,null,null,null,null,null,null,null,null,null,null,null,null,null,null,null,null,null,null,null,null,null,null,null,null,null,null,null,null,null,null,null,null,null,0,null,null,null,null,null,"","","","","","","","","","","","","","","","","","","","","","","","","","",0,null,"","","",0,"","","",0,0]
[{"$f":"ข้อมูลนักเรียน!B119","v":0},107,{"$f":"ข้อมูลนักเรียน!D119","v":0},null,null,null,null,null,null,null,null,null,null,null,null,null,null,null,null,null,null,null,null,null,null,null,null,null,null,null,null,null,null,null,null,null,null,null,0,null,null,null,null,null,"","","","","","","","","","","","","","","","","","","","","","","","","","",0,null,"","","",0,"","","",0,0]
[{"$f":"ข้อมูลนักเรียน!B120","v":0},108,{"$f":"ข้อมูลนักเรียน!D120","v":0},null,null,null,null,null,null,null,null,null,null,null,null,null,null,null,null,null,null,null,null,null,null,null,null,null,null,null,null,null,null,null,null,null,null,null,0,null,null,null,null,null,"","","","","","","","","","","","","","","","","","","","","","","","","","",0,null,"","","",0,"","","",0,0]
[{"$f":"ข้อมูลนักเรียน!B121","v":0},109,{"$f":"ข้อมูลนักเรียน!D121","v":0},null,null,null,null,null,null,null,null,null,null,null,null,null,null,null,null,null,null,null,null,null,null,null,null,null,null,null,null,null,null,null,null,null,null,null,0,null,null,null,null,null,"","","","","","","","","","","","","","","","","","","","","","","","","","",0,null,"","","",0,"","","",0,0]
[{"$f":"ข้อมูลนักเรียน!B122","v":0},110,{"$f":"ข้อมูลนักเรียน!D122","v":0},null,null,null,null,null,null,null,null,null,null,null,null,null,null,null,null,null,null,null,null,null,null,null,null,null,null,null,null,null,null,null,null,null,null,null,0,null,null,null,null,null,"","","","","","","","","","","","","","","","","","","","","","","","","","",0,null,"","","",0,"","","",0,0]
[{"$f":"ข้อมูลนักเรียน!B123","v":0},111,{"$f":"ข้อมูลนักเรียน!D123","v":0},null,null,null,null,null,null,null,null,null,null,null,null,null,null,null,null,null,null,null,null,null,null,null,null,null,null,null,null,null,null,null,null,null,null,null,0,null,null,null,null,null,"","","","","","","","","","","","","","","","","","","","","","","","","","",0,null,"","","",0,"","","",0,0]
[{"$f":"ข้อมูลนักเรียน!B124","v":0},112,{"$f":"ข้อมูลนักเรียน!D124","v":0},null,null,null,null,null,null,null,null,null,null,null,null,null,null,null,null,null,null,null,null,null,null,null,null,null,null,null,null,null,null,null,null,null,null,null,0,null,null,null,null,null,"","","","","","","","","","","","","","","","","","","","","","","","","","",0,null,"","","",0,"","","",0,0]
[{"$f":"ข้อมูลนักเรียน!B125","v":0},113,{"$f":"ข้อมูลนักเรียน!D125","v":0},null,null,null,null,null,null,null,null,null,null,null,null,null,null,null,null,null,null,null,null,null,null,null,null,null,null,null,null,null,null,null,null,null,null,null,0,null,null,null,null,null,"","","","","","","","","","","","","","","","","","","","","","","","","","",0,null,"","","",0,"","","",0,0]
[{"$f":"ข้อมูลนักเรียน!B126","v":0},114,{"$f":"ข้อมูลนักเรียน!D126","v":0},null,null,null,null,null,null,null,null,null,null,null,null,null,null,null,null,null,null,null,null,null,null,null,null,null,null,null,null,null,null,null,null,null,null,null,0,null,null,null,null,null,"","","","","","","","","","","","","","","","","","","","","","","","","","",0,null,"","","",0,"","","",0,0]
[{"$f":"ข้อมูลนักเรียน!B127","v":0},115,{"$f":"ข้อมูลนักเรียน!D127","v":0},null,null,null,null,null,null,null,null,null,null,null,null,null,null,null,null,null,null,null,null,null,null,null,null,null,null,null,null,null,null,null,null,null,null,null,0,null,null,null,null,null,"","","","","","","","","","","","","","","","","","","","","","","","","","",0,null,"","","",0,"","","",0,0]
[{"$f":"ข้อมูลนักเรียน!B128","v":0},116,{"$f":"ข้อมูลนักเรียน!D128","v":0},null,null,null,null,null,null,null,null,null,null,null,null,null,null,null,null,null,null,null,null,null,null,null,null,null,null,null,null,null,null,null,null,null,null,null,0,null,null,null,null,null,"","","","","","","","","","","","","","","","","","","","","","","","","","",0,null,"","","",0,"","","",0,0]
[{"$f":"ข้อมูลนักเรียน!B129","v":0},117,{"$f":"ข้อมูลนักเรียน!D129","v":0},null,null,null,null,null,null,null,null,null,null,null,null,null,null,null,null,null,null,null,null,null,null,null,null,null,null,null,null,null,null,null,null,null,null,null,0,null,null,null,null,null,"","","","","","","","","","","","","","","","","","","","","","","","","","",0,null,"","","",0,"","","",0,0]
[{"$f":"ข้อมูลนักเรียน!B130","v":0},118,{"$f":"ข้อมูลนักเรียน!D130","v":0},null,null,null,null,null,null,null,null,null,null,null,null,null,null,null,null,null,null,null,null,null,null,null,null,null,null,null,null,null,null,null,null,null,null,null,0,null,null,null,null,null,"","","","","","","","","","","","","","","","","","","","","","","","","","",0,null,"","","",0,"","","",0,0]
[{"$f":"ข้อมูลนักเรียน!B131","v":0},119,{"$f":"ข้อมูลนักเรียน!D131","v":0},null,null,null,null,null,null,null,null,null,null,null,null,null,null,null,null,null,null,null,null,null,null,null,null,null,null,null,null,null,null,null,null,null,null,null,0,null,null,null,null,null,"","","","","","","","","","","","","","","","","","","","","","","","","","",0,null,"","","",0,"","","",0,0]
[{"$f":"ข้อมูลนักเรียน!B132","v":0},120,{"$f":"ข้อมูลนักเรียน!D132","v":0},null,null,null,null,null,null,null,null,null,null,null,null,null,null,null,null,null,null,null,null,null,null,null,null,null,null,null,null,null,null,null,null,null,null,null,0,null,null,null,null,null,"","","","","","","","","","","","","","","","","","","","","","","","","","",0,null,"","","",0,"","","",0,0]
[{"$f":"ข้อมูลนักเรียน!B133","v":0},121,{"$f":"ข้อมูลนักเรียน!D133","v":0},null,null,null,null,null,null,null,null,null,null,null,null,null,null,null,null,null,null,null,null,null,null,null,null,null,null,null,null,null,null,null,null,null,null,null,0,null,null,null,null,null,"","","","","","","","","","","","","","","","","","","","","","","","","","",0,null,"","","",0,"","","",0,0]
[{"$f":"ข้อมูลนักเรียน!B134","v":0},122,{"$f":"ข้อมูลนักเรียน!D134","v":0},null,null,null,null,null,null,null,null,null,null,null,null,null,null,null,null,null,null,null,null,null,null,null,null,null,null,null,null,null,null,null,null,null,null,null,0,null,null,null,null,null,"","","","","","","","","","","","","","","","","","","","","","","","","","",0,null,"","","",0,"","","",0,0]
[{"$f":"ข้อมูลนักเรียน!B135","v":0},123,{"$f":"ข้อมูลนักเรียน!D135","v":0},null,null,null,null,null,null,null,null,null,null,null,null,null,null,null,null,null,null,null,null,null,null,null,null,null,null,null,null,null,null,null,null,null,null,null,0,null,null,null,null,null,"","","","","","","","","","","","","","","","","","","","","","","","","","",0,null,"","","",0,"","","",0,0]
[{"$f":"ข้อมูลนักเรียน!B136","v":0},124,{"$f":"ข้อมูลนักเรียน!D136","v":0},null,null,null,null,null,null,null,null,null,null,null,null,null,null,null,null,null,null,null,null,null,null,null,null,null,null,null,null,null,null,null,null,null,null,null,0,null,null,null,null,null,"","","","","","","","","","","","","","","","","","","","","","","","","","",0,null,"","","",0,"","","",0,0]
[{"$f":"ข้อมูลนักเรียน!B137","v":0},125,{"$f":"ข้อมูลนักเรียน!D137","v":0},null,null,null,null,null,null,null,null,null,null,null,null,null,null,null,null,null,null,null,null,null,null,null,null,null,null,null,null,null,null,null,null,null,null,null,0,null,null,null,null,null,"","","","","","","","","","","","","","","","","","","","","","","","","","",0,null,"","","",0,"","","",0,0]
[{"$f":"ข้อมูลนักเรียน!B138","v":0},126,{"$f":"ข้อมูลนักเรียน!D138","v":0},null,null,null,null,null,null,null,null,null,null,null,null,null,null,null,null,null,null,null,null,null,null,null,null,null,null,null,null,null,null,null,null,null,null,null,0,null,null,null,null,null,"","","","","","","","","","","","","","","","","","","","","","","","","","",0,null,"","","",0,"","","",0,0]
[{"$f":"ข้อมูลนักเรียน!B139","v":0},127,{"$f":"ข้อมูลนักเรียน!D139","v":0},null,null,null,null,null,null,null,null,null,null,null,null,null,null,null,null,null,null,null,null,null,null,null,null,null,null,null,null,null,null,null,null,null,null,null,0,null,null,null,null,null,"","","","","","","","","","","","","","","","","","","","","","","","","","",0,null,"","","",0,"","","",0,0]
[{"$f":"ข้อมูลนักเรียน!B140","v":0},128,{"$f":"ข้อมูลนักเรียน!D140","v":0},null,null,null,null,null,null,null,null,null,null,null,null,null,null,null,null,null,null,null,null,null,null,null,null,null,null,null,null,null,null,null,null,null,null,null,0,null,null,null,null,null,"","","","","","","","","","","","","","","","","","","","","","","","","","",0,null,"","","",0,"","","",0,0]
[{"$f":"ข้อมูลนักเรียน!B141","v":0},129,{"$f":"ข้อมูลนักเรียน!D141","v":0},null,null,null,null,null,null,null,null,null,null,null,null,null,null,null,null,null,null,null,null,null,null,null,null,null,null,null,null,null,null,null,null,null,null,null,{"$f":"SUM(IF(G139=NumSci1,ScoreSci1),IF(H139=NumSci2,ScoreSci2),IF(I139=NumSci3,ScoreSci3),IF(J139=NumSci4,ScoreSci4),IF(K139=NumSci5,ScoreSci5),IF(L139=NumSci6,ScoreSci6),IF(M139=NumSci7,ScoreSci7),IF(N139=NumSci8,ScoreSci8),IF(O139=NumSci9,ScoreSci9),IF(P139=NumSci10,ScoreSci10),IF(Q139=NumSci11,ScoreSci11),IF(R139=NumSci12,ScoreSci12),IF(S139=NumSci13,ScoreSci13),IF(T139=NumSci14,ScoreSci14),IF(U139=NumSci15,ScoreSci15),IF(V139=NumSci16,ScoreSci16),IF(W139=NumSci17,ScoreSci17),IF(X139=NumSci18,ScoreSci18),IF(Y139=NumSci19,ScoreSci19),IF(Z139=NumSci20,ScoreSci20),IF(AA139=NumSci21,ScoreSci21),IF(AB139=NumSci22,ScoreSci22),IF(AC139=NumSci23,ScoreSci23),IF(AD139=NumSci24,ScoreSci24),,IF(AE139=NumSci25,ScoreSci25),IF(AF139=NumSci26,ScoreSci26),CC139)","v":0},null,null,null,null,null,{"$f":"IF(G139=\"\",\"\",IF(G139=NumSci1,\"✓\",\"X\"))","v":""},{"$f":"IF(H139=\"\",\"\",IF(H139=NumSci2,\"✓\",\"X\"))","v":""},{"$f":"IF(I139=\"\",\"\",IF(I139=NumSci3,\"✓\",\"X\"))","v":""},{"$f":"IF(J139=\"\",\"\",IF(J139=NumSci4,\"✓\",\"X\"))","v":""},{"$f":"IF(K139=\"\",\"\",IF(K139=NumSci5,\"✓\",\"X\"))","v":""},{"$f":"IF(L139=\"\",\"\",IF(L139=NumSci6,\"✓\",\"X\"))","v":""},{"$f":"IF(M139=\"\",\"\",IF(M139=NumSci7,\"✓\",\"X\"))","v":""},{"$f":"IF(N139=\"\",\"\",IF(N139=NumSci8,\"✓\",\"X\"))","v":""},{"$f":"IF(O139=\"\",\"\",IF(O139=NumSci9,\"✓\",\"X\"))","v":""},{"$f":"IF(P139=\"\",\"\",IF(P139=NumSci10,\"✓\",\"X\"))","v":""},{"$f":"IF(Q139=\"\",\"\",IF(Q139=NumSci11,\"✓\",\"X\"))","v":""},{"$f":"IF(R139=\"\",\"\",IF(R139=NumSci12,\"✓\",\"X\"))","v":""},{"$f":"IF(S139=\"\",\"\",IF(S139=NumSci13,\"✓\",\"X\"))","v":""},{"$f":"IF(T139=\"\",\"\",IF(T139=NumSci14,\"✓\",\"X\"))","v":""},{"$f":"IF(U139=\"\",\"\",IF(U139=NumSci15,\"✓\",\"X\"))","v":""},{"$f":"IF(V139=\"\",\"\",IF(V139=NumSci16,\"✓\",\"X\"))","v":""},{"$f":"IF(W139=\"\",\"\",IF(W139=NumSci17,\"✓\",\"X\"))","v":""},{"$f":"IF(X139=\"\",\"\",IF(X139=NumSci18,\"✓\",\"X\"))","v":""},{"$f":"IF(Y139=\"\",\"\",IF(Y139=NumSci19,\"✓\",\"X\"))","v":""},{"$f":"IF(Z139=\"\",\"\",IF(Z139=NumSci20,\"✓\",\"X\"))","v":""},{"$f":"IF(AA139=\"\",\"\",IF(AA139=NumSci21,\"✓\",\"X\"))","v":""},{"$f":"IF(AB139=\"\",\"\",IF(AB139=NumSci22,\"✓\",\"X\"))","v":""},{"$f":"IF(AC139=\"\",\"\",IF(AC139=NumSci23,\"✓\",\"X\"))","v":""},{"$f":"IF(AD139=\"\",\"\",IF(AD139=NumSci24,\"✓\",\"X\"))","v":""},{"$f":"IF(AE139=\"\",\"\",IF(AE139=NumSci25,\"✓\",\"X\"))","v":""},{"$f":"IF(AF139=\"\",\"\",IF(AF139=NumSci26,\"✓\",\"X\"))","v":""},{"$f":"COUNTIF(AS139:BR139,\"✓\")","v":0},null,{"$f":"IF(AG139=\"\",\"\",IF(AG139=NumSci271,\"✓\",\"X\"))","v":""},{"$f":"IF(AH139=\"\",\"\",IF(AH139=NumSci272,\"✓\",\"X\"))","v":""},{"$f":"IF(AI139=\"\",\"\",IF(AI139=NumSci273,\"✓\",\"X\"))","v":""},{"$f":"IF(COUNTIF(AG139,NumSci271)+COUNTIF(AH139,NumSci272)+COUNTIF(AI139,NumSci273)=3,4.5,IF(COUNTIF(AG139,NumSci271)+COUNTIF(AH139,NumSci272)+COUNTIF(AI139,NumSci273)=2,3,IF(COUNTIF(AG139,NumSci271)+COUNTIF(AH139,NumSci272)+COUNTIF(AI139,NumSci273)=1,0,0)))","v":0},{"$f":"IF(AJ139=\"\",\"\",IF(AJ139=NumSci281,\"✓\",\"X\"))","v":""},{"$f":"IF(AK139=\"\",\"\",IF(AK139=NumSci282,\"✓\",\"X\"))","v":""},{"$f":"IF(AL139=\"\",\"\",IF(AL139=NumSci283,\"✓\",\"X\"))","v":""},{"$f":"IF(COUNTIF(AJ139,NumSci281)+COUNTIF(AK139,NumSci282)+COUNTIF(AL139,NumSci283)=3,4.5,IF(COUNTIF(AJ139,NumSci281)+COUNTIF(AK139,NumSci282)+COUNTIF(AL139,NumSci283)=2,3,IF(COUNTIF(AJ139,NumSci281)+COUNTIF(AK139,NumSci282)+COUNTIF(AL139,NumSci283)=1,0,0)))","v":0},0]
[{"$f":"ข้อมูลนักเรียน!B142","v":0},130,{"$f":"ข้อมูลนักเรียน!D142","v":0},null,null,null,null,null,null,null,null,null,null,null,null,null,null,null,null,null,null,null,null,null,null,null,null,null,null,null,null,null,null,null,null,null,null,null,0,null,null,null,null,null,"","","","","","","","","","","","","","","","","","","","","","","","","","",0,null,"","","",0,"","","",0,{"$f":"SUM(BX140,CB140)","v":0}]
[{"$f":"ข้อมูลนักเรียน!B143","v":0},131,{"$f":"ข้อมูลนักเรียน!D143","v":0},null,null,null,null,null,null,null,null,null,null,null,null,null,null,null,null,null,null,null,null,null,null,null,null,null,null,null,null,null,null,null,null,null,null,null,0,null,null,null,null,null,"","","","","","","","","","","","","","","","","","","","","","","","","","",0,null,"","","",0,"","","",0,0]
[{"$f":"ข้อมูลนักเรียน!B144","v":0},132,{"$f":"ข้อมูลนักเรียน!D144","v":0},null,null,null,null,null,null,null,null,null,null,null,null,null,null,null,null,null,null,null,null,null,null,null,null,null,null,null,null,null,null,null,null,null,null,null,0,null,null,null,null,null,"","","","","","","","","","","","","","","","","","","","","","","","","","",0,null,"","","",0,"","","",0,0]
[{"$f":"ข้อมูลนักเรียน!B145","v":0},133,{"$f":"ข้อมูลนักเรียน!D145","v":0},null,null,null,null,null,null,null,null,null,null,null,null,null,null,null,null,null,null,null,null,null,null,null,null,null,null,null,null,null,null,null,null,null,null,null,0,null,null,null,null,null,"","","","","","","","","","","","","","","","","","","","","","","","","","",0,null,"","","",0,"","","",0,0]
[{"$f":"ข้อมูลนักเรียน!B146","v":0},134,{"$f":"ข้อมูลนักเรียน!D146","v":0},null,null,null,null,null,null,null,null,null,null,null,null,null,null,null,null,null,null,null,null,null,null,null,null,null,null,null,null,null,null,null,null,null,null,null,0,null,null,null,null,null,"","","","","","","","","","","","","","","","","","","","","","","","","","",0,null,"","","",0,"","","",0,0]
[{"$f":"ข้อมูลนักเรียน!B147","v":0},135,{"$f":"ข้อมูลนักเรียน!D147","v":0},null,null,null,null,null,null,null,null,null,null,null,null,null,null,null,null,null,null,null,null,null,null,null,null,null,null,null,null,null,null,null,null,null,null,null,0,null,null,null,null,null,"","","","","","","","","","","","","","","","","","","","","","","","","","",0,null,"","","",0,"","","",0,0]
[{"$f":"ข้อมูลนักเรียน!B148","v":0},136,{"$f":"ข้อมูลนักเรียน!D148","v":0},null,null,null,null,null,null,null,null,null,null,null,null,null,null,null,null,null,null,null,null,null,null,null,null,null,null,null,null,null,null,null,null,null,null,null,0,null,null,null,null,null,"","","","","","","","","","","","","","","","","","","","","","","","","","",0,null,"","","",0,"","","",0,0]
[{"$f":"ข้อมูลนักเรียน!B149","v":0},137,{"$f":"ข้อมูลนักเรียน!D149","v":0},null,null,null,null,null,null,null,null,null,null,null,null,null,null,null,null,null,null,null,null,null,null,null,null,null,null,null,null,null,null,null,null,null,null,null,0,null,null,null,null,null,"","","","","","","","","","","","","","","","","","","","","","","","","","",0,null,"","","",0,"","","",0,0]
[{"$f":"ข้อมูลนักเรียน!B150","v":0},138,{"$f":"ข้อมูลนักเรียน!D150","v":0},null,null,null,null,null,null,null,null,null,null,null,null,null,null,null,null,null,null,null,null,null,null,null,null,null,null,null,null,null,null,null,null,null,null,null,0,null,null,null,null,null,"","","","","","","","","","","","","","","","","","","","","","","","","","",0,null,"","","",0,"","","",0,0]
[{"$f":"ข้อมูลนักเรียน!B151","v":0},139,{"$f":"ข้อมูลนักเรียน!D151","v":0},null,null,null,null,null,null,null,null,null,null,null,null,null,null,null,null,null,null,null,null,null,null,null,null,null,null,null,null,null,null,null,null,null,null,null,0,null,null,null,null,null,"","","","","","","","","","","","","","","","","","","","","","","","","","",0,null,"","","",0,"","","",0,0]
[{"$f":"ข้อมูลนักเรียน!B152","v":0},140,{"$f":"ข้อมูลนักเรียน!D152","v":0},null,null,null,null,null,null,null,null,null,null,null,null,null,null,null,null,null,null,null,null,null,null,null,null,null,null,null,null,null,null,null,null,null,null,null,0,null,null,null,null,null,"","","","","","","","","","","","","","","","","","","","","","","","","","",0,null,"","","",0,"","","",0,0]
[{"$f":"ข้อมูลนักเรียน!B153","v":0},141,{"$f":"ข้อมูลนักเรียน!D153","v":0},null,null,null,null,null,null,null,null,null,null,null,null,null,null,null,null,null,null,null,null,null,null,null,null,null,null,null,null,null,null,null,null,null,null,null,0,null,null,null,null,null,"","","","","","","","","","","","","","","","","","","","","","","","","","",0,null,"","","",0,"","","",0,0]
[{"$f":"ข้อมูลนักเรียน!B154","v":0},142,{"$f":"ข้อมูลนักเรียน!D154","v":0},null,null,null,null,null,null,null,null,null,null,null,null,null,null,null,null,null,null,null,null,null,null,null,null,null,null,null,null,null,null,null,null,null,null,null,0,null,null,null,null,null,"","","","","","","","","","","","","","","","","","","","","","","","","","",0,null,"","","",0,"","","",0,0]
[{"$f":"ข้อมูลนักเรียน!B155","v":0},143,{"$f":"ข้อมูลนักเรียน!D155","v":0},null,null,null,null,null,null,null,null,null,null,null,null,null,null,null,null,null,null,null,null,null,null,null,null,null,null,null,null,null,null,null,null,null,null,null,0,null,null,null,null,null,"","","","","","","","","","","","","","","","","","","","","","","","","","",0,null,"","","",0,"","","",0,0]
[{"$f":"ข้อมูลนักเรียน!B156","v":0},144,{"$f":"ข้อมูลนักเรียน!D156","v":0},null,null,null,null,null,null,null,null,null,null,null,null,null,null,null,null,null,null,null,null,null,null,null,null,null,null,null,null,null,null,null,null,null,null,null,0,null,null,null,null,null,"","","","","","","","","","","","","","","","","","","","","","","","","","",0,null,"","","",0,"","","",0,0]
[{"$f":"ข้อมูลนักเรียน!B157","v":0},145,{"$f":"ข้อมูลนักเรียน!D157","v":0},null,null,null,null,null,null,null,null,null,null,null,null,null,null,null,null,null,null,null,null,null,null,null,null,null,null,null,null,null,null,null,null,null,null,null,0,null,null,null,null,null,"","","","","","","","","","","","","","","","","","","","","","","","","","",0,null,"","","",0,"","","",0,0]
[{"$f":"ข้อมูลนักเรียน!B158","v":0},146,{"$f":"ข้อมูลนักเรียน!D158","v":0},null,null,null,null,null,null,null,null,null,null,null,null,null,null,null,null,null,null,null,null,null,null,null,null,null,null,null,null,null,null,null,null,null,null,null,0,null,null,null,null,null,"","","","","","","","","","","","","","","","","","","","","","","","","","",0,null,"","","",0,"","","",0,0]
[{"$f":"ข้อมูลนักเรียน!B159","v":0},147,{"$f":"ข้อมูลนักเรียน!D159","v":0},null,null,null,null,null,null,null,null,null,null,null,null,null,null,null,null,null,null,null,null,null,null,null,null,null,null,null,null,null,null,null,null,null,null,null,0,null,null,null,null,null,"","","","","","","","","","","","","","","","","","","","","","","","","","",0,null,"","","",0,"","","",0,0]
[{"$f":"ข้อมูลนักเรียน!B160","v":0},148,{"$f":"ข้อมูลนักเรียน!D160","v":0},null,null,null,null,null,null,null,null,null,null,null,null,null,null,null,null,null,null,null,null,null,null,null,null,null,null,null,null,null,null,null,null,null,null,null,0,null,null,null,null,null,"","","","","","","","","","","","","","","","","","","","","","","","","","",0,null,"","","",0,"","","",0,0]
[{"$f":"ข้อมูลนักเรียน!B161","v":0},149,{"$f":"ข้อมูลนักเรียน!D161","v":0},null,null,null,null,null,null,null,null,null,null,null,null,null,null,null,null,null,null,null,null,null,null,null,null,null,null,null,null,null,null,null,null,null,null,null,0,null,null,null,null,null,"","","","","","","","","","","","","","","","","","","","","","","","","","",0,null,"","","",0,"","","",0,0]
[{"$f":"ข้อมูลนักเรียน!B162","v":0},150,{"$f":"ข้อมูลนักเรียน!D162","v":0},null,null,null,null,null,null,null,null,null,null,null,null,null,null,null,null,null,null,null,null,null,null,null,null,null,null,null,null,null,null,null,null,null,null,null,0,null,null,null,null,null,"","","","","","","","","","","","","","","","","","","","","","","","","","",0,null,"","","",0,"","","",0,0]
[{"$f":"ข้อมูลนักเรียน!B163","v":0},151,{"$f":"ข้อมูลนักเรียน!D163","v":0},null,null,null,null,null,null,null,null,null,null,null,null,null,null,null,null,null,null,null,null,null,null,null,null,null,null,null,null,null,null,null,null,null,null,null,0,null,null,null,null,null,"","","","","","","","","","","","","","","","","","","","","","","","","","",0,null,"","","",0,"","","",0,0]
[{"$f":"ข้อมูลนักเรียน!B164","v":0},152,{"$f":"ข้อมูลนักเรียน!D164","v":0},null,null,null,null,null,null,null,null,null,null,null,null,null,null,null,null,null,null,null,null,null,null,null,null,null,null,null,null,null,null,null,null,null,null,null,0,null,null,null,null,null,"","","","","","","","","","","","","","","","","","","","","","","","","","",0,null,"","","",0,"","","",0,0]
[{"$f":"ข้อมูลนักเรียน!B165","v":0},153,{"$f":"ข้อมูลนักเรียน!D165","v":0},null,null,null,null,null,null,null,null,null,null,null,null,null,null,null,null,null,null,null,null,null,null,null,null,null,null,null,null,null,null,null,null,null,null,null,0,null,null,null,null,null,"","","","","","","","","","","","","","","","","","","","","","","","","","",0,null,"","","",0,"","","",0,0]
[{"$f":"ข้อมูลนักเรียน!B166","v":0},154,{"$f":"ข้อมูลนักเรียน!D166","v":0},null,null,null,null,null,null,null,null,null,null,null,null,null,null,null,null,null,null,null,null,null,null,null,null,null,null,null,null,null,null,null,null,null,null,null,0,null,null,null,null,null,"","","","","","","","","","","","","","","","","","","","","","","","","","",0,null,"","","",0,"","","",0,0]
[{"$f":"ข้อมูลนักเรียน!B167","v":0},155,{"$f":"ข้อมูลนักเรียน!D167","v":0},null,null,null,null,null,null,null,null,null,null,null,null,null,null,null,null,null,null,null,null,null,null,null,null,null,null,null,null,null,null,null,null,null,null,null,0,null,null,null,null,null,"","","","","","","","","","","","","","","","","","","","","","","","","","",0,null,"","","",0,"","","",0,0]
[{"$f":"ข้อมูลนักเรียน!B168","v":0},156,{"$f":"ข้อมูลนักเรียน!D168","v":0},null,null,null,null,null,null,null,null,null,null,null,null,null,null,null,null,null,null,null,null,null,null,null,null,null,null,null,null,null,null,null,null,null,null,null,0,null,null,null,null,null,"","","","","","","","","","","","","","","","","","","","","","","","","","",0,null,"","","",0,"","","",0,0]
[{"$f":"ข้อมูลนักเรียน!B169","v":0},157,{"$f":"ข้อมูลนักเรียน!D169","v":0},null,null,null,null,null,null,null,null,null,null,null,null,null,null,null,null,null,null,null,null,null,null,null,null,null,null,null,null,null,null,null,null,null,null,null,0,null,null,null,null,null,"","","","","","","","","","","","","","","","","","","","","","","","","","",0,null,"","","",0,"","","",0,0]
[{"$f":"ข้อมูลนักเรียน!B170","v":0},158,{"$f":"ข้อมูลนักเรียน!D170","v":0},null,null,null,null,null,null,null,null,null,null,null,null,null,null,null,null,null,null,null,null,null,null,null,null,null,null,null,null,null,null,null,null,null,null,null,0,null,null,null,null,null,"","","","","","","","","","","","","","","","","","","","","","","","","","",0,null,"","","",0,"","","",0,0]
[{"$f":"ข้อมูลนักเรียน!B171","v":0},159,{"$f":"ข้อมูลนักเรียน!D171","v":0},null,null,null,null,null,null,null,null,null,null,null,null,null,null,null,null,null,null,null,null,null,null,null,null,null,null,null,null,null,null,null,null,null,null,null,0,null,null,null,null,null,"","","","","","","","","","","","","","","","","","","","","","","","","","",0,null,"","","",0,"","","",0,0]
[{"$f":"ข้อมูลนักเรียน!B172","v":0},160,{"$f":"ข้อมูลนักเรียน!D172","v":0},null,null,null,null,null,null,null,null,null,null,null,null,null,null,null,null,null,null,null,null,null,null,null,null,null,null,null,null,null,null,null,null,null,null,null,0,null,null,null,null,null,"","","","","","","","","","","","","","","","","","","","","","","","","","",0,null,"","","",0,"","","",0,0]
[{"$f":"ข้อมูลนักเรียน!B173","v":0},161,{"$f":"ข้อมูลนักเรียน!D173","v":0},null,null,null,null,null,null,null,null,null,null,null,null,null,null,null,null,null,null,null,null,null,null,null,null,null,null,null,null,null,null,null,null,null,null,null,0,null,null,null,null,null,"","","","","","","","","","","","","","","","","","","","","","","","","","",0,null,"","","",0,"","","",0,0]
[{"$f":"ข้อมูลนักเรียน!B174","v":0},162,{"$f":"ข้อมูลนักเรียน!D174","v":0},null,null,null,null,null,null,null,null,null,null,null,null,null,null,null,null,null,null,null,null,null,null,null,null,null,null,null,null,null,null,null,null,null,null,null,0,null,null,null,null,null,"","","","","","","","","","","","","","","","","","","","","","","","","","",0,null,"","","",0,"","","",0,0]
[{"$f":"ข้อมูลนักเรียน!B175","v":0},163,{"$f":"ข้อมูลนักเรียน!D175","v":0},null,null,null,null,null,null,null,null,null,null,null,null,null,null,null,null,null,null,null,null,null,null,null,null,null,null,null,null,null,null,null,null,null,null,null,0,null,null,null,null,null,"","","","","","","","","","","","","","","","","","","","","","","","","","",0,null,"","","",0,"","","",0,0]
[{"$f":"ข้อมูลนักเรียน!B176","v":0},164,{"$f":"ข้อมูลนักเรียน!D176","v":0},null,null,null,null,null,null,null,null,null,null,null,null,null,null,null,null,null,null,null,null,null,null,null,null,null,null,null,null,null,null,null,null,null,null,null,0,null,null,null,null,null,"","","","","","","","","","","","","","","","","","","","","","","","","","",0,null,"","","",0,"","","",0,0]
[{"$f":"ข้อมูลนักเรียน!B177","v":0},165,{"$f":"ข้อมูลนักเรียน!D177","v":0},null,null,null,null,null,null,null,null,null,null,null,null,null,null,null,null,null,null,null,null,null,null,null,null,null,null,null,null,null,null,null,null,null,null,null,0,null,null,null,null,null,"","","","","","","","","","","","","","","","","","","","","","","","","","",0,null,"","","",0,"","","",0,0]
[{"$f":"ข้อมูลนักเรียน!B178","v":0},166,{"$f":"ข้อมูลนักเรียน!D178","v":0},null,null,null,null,null,null,null,null,null,null,null,null,null,null,null,null,null,null,null,null,null,null,null,null,null,null,null,null,null,null,null,null,null,null,null,0,null,null,null,null,null,"","","","","","","","","","","","","","","","","","","","","","","","","","",0,null,"","","",0,"","","",0,0]
[{"$f":"ข้อมูลนักเรียน!B179","v":0},167,{"$f":"ข้อมูลนักเรียน!D179","v":0},null,null,null,null,null,null,null,null,null,null,null,null,null,null,null,null,null,null,null,null,null,null,null,null,null,null,null,null,null,null,null,null,null,null,null,0,null,null,null,null,null,"","","","","","","","","","","","","","","","","","","","","","","","","","",0,null,"","","",0,"","","",0,0]
[{"$f":"ข้อมูลนักเรียน!B180","v":0},168,{"$f":"ข้อมูลนักเรียน!D180","v":0},null,null,null,null,null,null,null,null,null,null,null,null,null,null,null,null,null,null,null,null,null,null,null,null,null,null,null,null,null,null,null,null,null,null,null,0,null,null,null,null,null,"","","","","","","","","","","","","","","","","","","","","","","","","","",0,null,"","","",0,"","","",0,0]
[{"$f":"ข้อมูลนักเรียน!B181","v":0},169,{"$f":"ข้อมูลนักเรียน!D181","v":0},null,null,null,null,null,null,null,null,null,null,null,null,null,null,null,null,null,null,null,null,null,null,null,null,null,null,null,null,null,null,null,null,null,null,null,0,null,null,null,null,null,"","","","","","","","","","","","","","","","","","","","","","","","","","",0,null,"","","",0,"","","",0,0]
[{"$f":"ข้อมูลนักเรียน!B182","v":0},170,{"$f":"ข้อมูลนักเรียน!D182","v":0},null,null,null,null,null,null,null,null,null,null,null,null,null,null,null,null,null,null,null,null,null,null,null,null,null,null,null,null,null,null,null,null,null,null,null,0,null,null,null,null,null,"","","","","","","","","","","","","","","","","","","","","","","","","","",0,null,"","","",0,"","","",0,0]
[{"$f":"ข้อมูลนักเรียน!B183","v":0},171,{"$f":"ข้อมูลนักเรียน!D183","v":0},null,null,null,null,null,null,null,null,null,null,null,null,null,null,null,null,null,null,null,null,null,null,null,null,null,null,null,null,null,null,null,null,null,null,null,0,null,null,null,null,null,"","","","","","","","","","","","","","","","","","","","","","","","","","",0,null,"","","",0,"","","",0,0]
[{"$f":"ข้อมูลนักเรียน!B184","v":0},172,{"$f":"ข้อมูลนักเรียน!D184","v":0},null,null,null,null,null,null,null,null,null,null,null,null,null,null,null,null,null,null,null,null,null,null,null,null,null,null,null,null,null,null,null,null,null,null,null,0,null,null,null,null,null,"","","","","","","","","","","","","","","","","","","","","","","","","","",0,null,"","","",0,"","","",0,0]
[{"$f":"ข้อมูลนักเรียน!B185","v":0},173,{"$f":"ข้อมูลนักเรียน!D185","v":0},null,null,null,null,null,null,null,null,null,null,null,null,null,null,null,null,null,null,null,null,null,null,null,null,null,null,null,null,null,null,null,null,null,null,null,0,null,null,null,null,null,"","","","","","","","","","","","","","","","","","","","","","","","","","",0,null,"","","",0,"","","",0,0]
[{"$f":"ข้อมูลนักเรียน!B186","v":0},174,{"$f":"ข้อมูลนักเรียน!D186","v":0},null,null,null,null,null,null,null,null,null,null,null,null,null,null,null,null,null,null,null,null,null,null,null,null,null,null,null,null,null,null,null,null,null,null,null,0,null,null,null,null,null,"","","","","","","","","","","","","","","","","","","","","","","","","","",0,null,"","","",0,"","","",0,0]
[{"$f":"ข้อมูลนักเรียน!B187","v":0},175,{"$f":"ข้อมูลนักเรียน!D187","v":0},null,null,null,null,null,null,null,null,null,null,null,null,null,null,null,null,null,null,null,null,null,null,null,null,null,null,null,null,null,null,null,null,null,null,null,0,null,null,null,null,null,"","","","","","","","","","","","","","","","","","","","","","","","","","",0,null,"","","",0,"","","",0,0]
[{"$f":"ข้อมูลนักเรียน!B188","v":0},176,{"$f":"ข้อมูลนักเรียน!D188","v":0},null,null,null,null,null,null,null,null,null,null,null,null,null,null,null,null,null,null,null,null,null,null,null,null,null,null,null,null,null,null,null,null,null,null,null,0,null,null,null,null,null,"","","","","","","","","","","","","","","","","","","","","","","","","","",0,null,"","","",0,"","","",0,0]
[{"$f":"ข้อมูลนักเรียน!B189","v":0},177,{"$f":"ข้อมูลนักเรียน!D189","v":0},null,null,null,null,null,null,null,null,null,null,null,null,null,null,null,null,null,null,null,null,null,null,null,null,null,null,null,null,null,null,null,null,null,null,null,0,null,null,null,null,null,"","","","","","","","","","","","","","","","","","","","","","","","","","",0,null,"","","",0,"","","",0,0]
[{"$f":"ข้อมูลนักเรียน!B190","v":0},178,{"$f":"ข้อมูลนักเรียน!D190","v":0},null,null,null,null,null,null,null,null,null,null,null,null,null,null,null,null,null,null,null,null,null,null,null,null,null,null,null,null,null,null,null,null,null,null,null,0,null,null,null,null,null,"","","","","","","","","","","","","","","","","","","","","","","","","","",0,null,"","","",0,"","","",0,0]
[{"$f":"ข้อมูลนักเรียน!B191","v":0},179,{"$f":"ข้อมูลนักเรียน!D191","v":0},null,null,null,null,null,null,null,null,null,null,null,null,null,null,null,null,null,null,null,null,null,null,null,null,null,null,null,null,null,null,null,null,null,null,null,0,null,null,null,null,null,"","","","","","","","","","","","","","","","","","","","","","","","","","",0,null,"","","",0,"","","",0,0]
[{"$f":"ข้อมูลนักเรียน!B192","v":0},180,{"$f":"ข้อมูลนักเรียน!D192","v":0},null,null,null,null,null,null,null,null,null,null,null,null,null,null,null,null,null,null,null,null,null,null,null,null,null,null,null,null,null,null,null,null,null,null,null,0,null,null,null,null,null,"","","","","","","","","","","","","","","","","","","","","","","","","","",0,null,"","","",0,"","","",0,0]
[{"$f":"ข้อมูลนักเรียน!B193","v":0},181,{"$f":"ข้อมูลนักเรียน!D193","v":0},null,null,null,null,null,null,null,null,null,null,null,null,null,null,null,null,null,null,null,null,null,null,null,null,null,null,null,null,null,null,null,null,null,null,null,0,null,null,null,null,null,"","","","","","","","","","","","","","","","","","","","","","","","","","",0,null,"","","",0,"","","",0,0]
[{"$f":"ข้อมูลนักเรียน!B194","v":0},182,{"$f":"ข้อมูลนักเรียน!D194","v":0},null,null,null,null,null,null,null,null,null,null,null,null,null,null,null,null,null,null,null,null,null,null,null,null,null,null,null,null,null,null,null,null,null,null,null,0,null,null,null,null,null,"","","","","","","","","","","","","","","","","","","","","","","","","","",0,null,"","","",0,"","","",0,0]
[{"$f":"ข้อมูลนักเรียน!B195","v":0},183,{"$f":"ข้อมูลนักเรียน!D195","v":0},null,null,null,null,null,null,null,null,null,null,null,null,null,null,null,null,null,null,null,null,null,null,null,null,null,null,null,null,null,null,null,null,null,null,null,0,null,null,null,null,null,"","","","","","","","","","","","","","","","","","","","","","","","","","",0,null,"","","",0,"","","",0,0]
[{"$f":"ข้อมูลนักเรียน!B196","v":0},184,{"$f":"ข้อมูลนักเรียน!D196","v":0},null,null,null,null,null,null,null,null,null,null,null,null,null,null,null,null,null,null,null,null,null,null,null,null,null,null,null,null,null,null,null,null,null,null,null,0,null,null,null,null,null,"","","","","","","","","","","","","","","","","","","","","","","","","","",0,null,"","","",0,"","","",0,0]
[{"$f":"ข้อมูลนักเรียน!B197","v":0},185,{"$f":"ข้อมูลนักเรียน!D197","v":0},null,null,null,null,null,null,null,null,null,null,null,null,null,null,null,null,null,null,null,null,null,null,null,null,null,null,null,null,null,null,null,null,null,null,null,0,null,null,null,null,null,"","","","","","","","","","","","","","","","","","","","","","","","","","",0,null,"","","",0,"","","",0,0]
[{"$f":"ข้อมูลนักเรียน!B198","v":0},186,{"$f":"ข้อมูลนักเรียน!D198","v":0},null,null,null,null,null,null,null,null,null,null,null,null,null,null,null,null,null,null,null,null,null,null,null,null,null,null,null,null,null,null,null,null,null,null,null,0,null,null,null,null,null,"","","","","","","","","","","","","","","","","","","","","","","","","","",0,null,"","","",0,"","","",0,0]
[{"$f":"ข้อมูลนักเรียน!B199","v":0},187,{"$f":"ข้อมูลนักเรียน!D199","v":0},null,null,null,null,null,null,null,null,null,null,null,null,null,null,null,null,null,null,null,null,null,null,null,null,null,null,null,null,null,null,null,null,null,null,null,0,null,null,null,null,null,"","","","","","","","","","","","","","","","","","","","","","","","","","",0,null,"","","",0,"","","",0,0]
[{"$f":"ข้อมูลนักเรียน!B200","v":0},188,{"$f":"ข้อมูลนักเรียน!D200","v":0},null,null,null,null,null,null,null,null,null,null,null,null,null,null,null,null,null,null,null,null,null,null,null,null,null,null,null,null,null,null,null,null,null,null,null,0,null,null,null,null,null,"","","","","","","","","","","","","","","","","","","","","","","","","","",0,null,"","","",0,"","","",0,0]
[{"$f":"ข้อมูลนักเรียน!B201","v":0},189,{"$f":"ข้อมูลนักเรียน!D201","v":0},null,null,null,null,null,null,null,null,null,null,null,null,null,null,null,null,null,null,null,null,null,null,null,null,null,null,null,null,null,null,null,null,null,null,null,0,null,null,null,null,null,"","","","","","","","","","","","","","","","","","","","","","","","","","",0,null,"","","",0,"","","",0,0]
[{"$f":"ข้อมูลนักเรียน!B202","v":0},190,{"$f":"ข้อมูลนักเรียน!D202","v":0},null,null,null,null,null,null,null,null,null,null,null,null,null,null,null,null,null,null,null,null,null,null,null,null,null,null,null,null,null,null,null,null,null,null,null,0,null,null,null,null,null,"","","","","","","","","","","","","","","","","","","","","","","","","","",0,null,"","","",0,"","","",0,0]
[{"$f":"ข้อมูลนักเรียน!B203","v":0},191,{"$f":"ข้อมูลนักเรียน!D203","v":0},null,null,null,null,null,null,null,null,null,null,null,null,null,null,null,null,null,null,null,null,null,null,null,null,null,null,null,null,null,null,null,null,null,null,null,0,null,null,null,null,null,"","","","","","","","","","","","","","","","","","","","","","","","","","",0,null,"","","",0,"","","",0,0]
[{"$f":"ข้อมูลนักเรียน!B204","v":0},192,{"$f":"ข้อมูลนักเรียน!D204","v":0},null,null,null,null,null,null,null,null,null,null,null,null,null,null,null,null,null,null,null,null,null,null,null,null,null,null,null,null,null,null,null,null,null,null,null,0,null,null,null,null,null,"","","","","","","","","","","","","","","","","","","","","","","","","","",0,null,"","","",0,"","","",0,0]
[{"$f":"ข้อมูลนักเรียน!B205","v":0},193,{"$f":"ข้อมูลนักเรียน!D205","v":0},null,null,null,null,null,null,null,null,null,null,null,null,null,null,null,null,null,null,null,null,null,null,null,null,null,null,null,null,null,null,null,null,null,null,null,{"$f":"SUM(IF(G203=NumSci1,ScoreSci1),IF(H203=NumSci2,ScoreSci2),IF(I203=NumSci3,ScoreSci3),IF(J203=NumSci4,ScoreSci4),IF(K203=NumSci5,ScoreSci5),IF(L203=NumSci6,ScoreSci6),IF(M203=NumSci7,ScoreSci7),IF(N203=NumSci8,ScoreSci8),IF(O203=NumSci9,ScoreSci9),IF(P203=NumSci10,ScoreSci10),IF(Q203=NumSci11,ScoreSci11),IF(R203=NumSci12,ScoreSci12),IF(S203=NumSci13,ScoreSci13),IF(T203=NumSci14,ScoreSci14),IF(U203=NumSci15,ScoreSci15),IF(V203=NumSci16,ScoreSci16),IF(W203=NumSci17,ScoreSci17),IF(X203=NumSci18,ScoreSci18),IF(Y203=NumSci19,ScoreSci19),IF(Z203=NumSci20,ScoreSci20),IF(AA203=NumSci21,ScoreSci21),IF(AB203=NumSci22,ScoreSci22),IF(AC203=NumSci23,ScoreSci23),IF(AD203=NumSci24,ScoreSci24),,IF(AE203=NumSci25,ScoreSci25),IF(AF203=NumSci26,ScoreSci26),CC203)","v":0},null,null,null,null,null,{"$f":"IF(G203=\"\",\"\",IF(G203=NumSci1,\"✓\",\"X\"))","v":""},{"$f":"IF(H203=\"\",\"\",IF(H203=NumSci2,\"✓\",\"X\"))","v":""},{"$f":"IF(I203=\"\",\"\",IF(I203=NumSci3,\"✓\",\"X\"))","v":""},{"$f":"IF(J203=\"\",\"\",IF(J203=NumSci4,\"✓\",\"X\"))","v":""},{"$f":"IF(K203=\"\",\"\",IF(K203=NumSci5,\"✓\",\"X\"))","v":""},{"$f":"IF(L203=\"\",\"\",IF(L203=NumSci6,\"✓\",\"X\"))","v":""},{"$f":"IF(M203=\"\",\"\",IF(M203=NumSci7,\"✓\",\"X\"))","v":""},{"$f":"IF(N203=\"\",\"\",IF(N203=NumSci8,\"✓\",\"X\"))","v":""},{"$f":"IF(O203=\"\",\"\",IF(O203=NumSci9,\"✓\",\"X\"))","v":""},{"$f":"IF(P203=\"\",\"\",IF(P203=NumSci10,\"✓\",\"X\"))","v":""},{"$f":"IF(Q203=\"\",\"\",IF(Q203=NumSci11,\"✓\",\"X\"))","v":""},{"$f":"IF(R203=\"\",\"\",IF(R203=NumSci12,\"✓\",\"X\"))","v":""},{"$f":"IF(S203=\"\",\"\",IF(S203=NumSci13,\"✓\",\"X\"))","v":""},{"$f":"IF(T203=\"\",\"\",IF(T203=NumSci14,\"✓\",\"X\"))","v":""},{"$f":"IF(U203=\"\",\"\",IF(U203=NumSci15,\"✓\",\"X\"))","v":""},{"$f":"IF(V203=\"\",\"\",IF(V203=NumSci16,\"✓\",\"X\"))","v":""},{"$f":"IF(W203=\"\",\"\",IF(W203=NumSci17,\"✓\",\"X\"))","v":""},{"$f":"IF(X203=\"\",\"\",IF(X203=NumSci18,\"✓\",\"X\"))","v":""},{"$f":"IF(Y203=\"\",\"\",IF(Y203=NumSci19,\"✓\",\"X\"))","v":""},{"$f":"IF(Z203=\"\",\"\",IF(Z203=NumSci20,\"✓\",\"X\"))","v":""},{"$f":"IF(AA203=\"\",\"\",IF(AA203=NumSci21,\"✓\",\"X\"))","v":""},{"$f":"IF(AB203=\"\",\"\",IF(AB203=NumSci22,\"✓\",\"X\"))","v":""},{"$f":"IF(AC203=\"\",\"\",IF(AC203=NumSci23,\"✓\",\"X\"))","v":""},{"$f":"IF(AD203=\"\",\"\",IF(AD203=NumSci24,\"✓\",\"X\"))","v":""},{"$f":"IF(AE203=\"\",\"\",IF(AE203=NumSci25,\"✓\",\"X\"))","v":""},{"$f":"IF(AF203=\"\",\"\",IF(AF203=NumSci26,\"✓\",\"X\"))","v":""},{"$f":"COUNTIF(AS203:BR203,\"✓\")","v":0},null,{"$f":"IF(AG203=\"\",\"\",IF(AG203=NumSci271,\"✓\",\"X\"))","v":""},{"$f":"IF(AH203=\"\",\"\",IF(AH203=NumSci272,\"✓\",\"X\"))","v":""},{"$f":"IF(AI203=\"\",\"\",IF(AI203=NumSci273,\"✓\",\"X\"))","v":""},{"$f":"IF(COUNTIF(AG203,NumSci271)+COUNTIF(AH203,NumSci272)+COUNTIF(AI203,NumSci273)=3,4.5,IF(COUNTIF(AG203,NumSci271)+COUNTIF(AH203,NumSci272)+COUNTIF(AI203,NumSci273)=2,3,IF(COUNTIF(AG203,NumSci271)+COUNTIF(AH203,NumSci272)+COUNTIF(AI203,NumSci273)=1,0,0)))","v":0},{"$f":"IF(AJ203=\"\",\"\",IF(AJ203=NumSci281,\"✓\",\"X\"))","v":""},{"$f":"IF(AK203=\"\",\"\",IF(AK203=NumSci282,\"✓\",\"X\"))","v":""},{"$f":"IF(AL203=\"\",\"\",IF(AL203=NumSci283,\"✓\",\"X\"))","v":""},{"$f":"IF(COUNTIF(AJ203,NumSci281)+COUNTIF(AK203,NumSci282)+COUNTIF(AL203,NumSci283)=3,4.5,IF(COUNTIF(AJ203,NumSci281)+COUNTIF(AK203,NumSci282)+COUNTIF(AL203,NumSci283)=2,3,IF(COUNTIF(AJ203,NumSci281)+COUNTIF(AK203,NumSci282)+COUNTIF(AL203,NumSci283)=1,0,0)))","v":0},0]
[{"$f":"ข้อมูลนักเรียน!B206","v":0},194,{"$f":"ข้อมูลนักเรียน!D206","v":0},null,null,null,null,null,null,null,null,null,null,null,null,null,null,null,null,null,null,null,null,null,null,null,null,null,null,null,null,null,null,null,null,null,null,null,0,null,null,null,null,null,"","","","","","","","","","","","","","","","","","","","","","","","","","",0,null,"","","",0,"","","",0,{"$f":"SUM(BX204,CB204)","v":0}]
[{"$f":"ข้อมูลนักเรียน!B207","v":0},195,{"$f":"ข้อมูลนักเรียน!D207","v":0},null,null,null,null,null,null,null,null,null,null,null,null,null,null,null,null,null,null,null,null,null,null,null,null,null,null,null,null,null,null,null,null,null,null,null,0,null,null,null,null,null,"","","","","","","","","","","","","","","","","","","","","","","","","","",0,null,"","","",0,"","","",0,0]
[{"$f":"ข้อมูลนักเรียน!B208","v":0},196,{"$f":"ข้อมูลนักเรียน!D208","v":0},null,null,null,null,null,null,null,null,null,null,null,null,null,null,null,null,null,null,null,null,null,null,null,null,null,null,null,null,null,null,null,null,null,null,null,0,null,null,null,null,null,"","","","","","","","","","","","","","","","","","","","","","","","","","",0,null,"","","",0,"","","",0,0]
[{"$f":"ข้อมูลนักเรียน!B209","v":0},197,{"$f":"ข้อมูลนักเรียน!D209","v":0},null,null,null,null,null,null,null,null,null,null,null,null,null,null,null,null,null,null,null,null,null,null,null,null,null,null,null,null,null,null,null,null,null,null,null,0,null,null,null,null,null,"","","","","","","","","","","","","","","","","","","","","","","","","","",0,null,"","","",0,"","","",0,0]
[{"$f":"ข้อมูลนักเรียน!B210","v":0},198,{"$f":"ข้อมูลนักเรียน!D210","v":0},null,null,null,null,null,null,null,null,null,null,null,null,null,null,null,null,null,null,null,null,null,null,null,null,null,null,null,null,null,null,null,null,null,null,null,0,null,null,null,null,null,"","","","","","","","","","","","","","","","","","","","","","","","","","",0,null,"","","",0,"","","",0,0]
[{"$f":"ข้อมูลนักเรียน!B211","v":0},199,{"$f":"ข้อมูลนักเรียน!D211","v":0},null,null,null,null,null,null,null,null,null,null,null,null,null,null,null,null,null,null,null,null,null,null,null,null,null,null,null,null,null,null,null,null,null,null,null,0,null,null,null,null,null,"","","","","","","","","","","","","","","","","","","","","","","","","","",0,null,"","","",0,"","","",0,0]
[{"$f":"ข้อมูลนักเรียน!B212","v":0},200,{"$f":"ข้อมูลนักเรียน!D212","v":0},null,null,null,null,null,null,null,null,null,null,null,null,null,null,null,null,null,null,null,null,null,null,null,null,null,null,null,null,null,null,null,null,null,null,null,0,null,null,null,null,null,"","","","","","","","","","","","","","","","","","","","","","","","","","",0,null,"","","",0,"","","",0,0]
[{"$f":"ข้อมูลนักเรียน!B213","v":0},201,{"$f":"ข้อมูลนักเรียน!D213","v":0},null,null,null,null,null,null,null,null,null,null,null,null,null,null,null,null,null,null,null,null,null,null,null,null,null,null,null,null,null,null,null,null,null,null,null,0,null,null,null,null,null,"","","","","","","","","","","","","","","","","","","","","","","","","","",0,null,"","","",0,"","","",0,0]
[{"$f":"ข้อมูลนักเรียน!B214","v":0},202,{"$f":"ข้อมูลนักเรียน!D214","v":0},null,null,null,null,null,null,null,null,null,null,null,null,null,null,null,null,null,null,null,null,null,null,null,null,null,null,null,null,null,null,null,null,null,null,null,0,null,null,null,null,null,"","","","","","","","","","","","","","","","","","","","","","","","","","",0,null,"","","",0,"","","",0,0]
[{"$f":"ข้อมูลนักเรียน!B215","v":0},203,{"$f":"ข้อมูลนักเรียน!D215","v":0},null,null,null,null,null,null,null,null,null,null,null,null,null,null,null,null,null,null,null,null,null,null,null,null,null,null,null,null,null,null,null,null,null,null,null,0,null,null,null,null,null,"","","","","","","","","","","","","","","","","","","","","","","","","","",0,null,"","","",0,"","","",0,0]
[{"$f":"ข้อมูลนักเรียน!B216","v":0},204,{"$f":"ข้อมูลนักเรียน!D216","v":0},null,null,null,null,null,null,null,null,null,null,null,null,null,null,null,null,null,null,null,null,null,null,null,null,null,null,null,null,null,null,null,null,null,null,null,0,null,null,null,null,null,"","","","","","","","","","","","","","","","","","","","","","","","","","",0,null,"","","",0,"","","",0,0]
[{"$f":"ข้อมูลนักเรียน!B217","v":0},205,{"$f":"ข้อมูลนักเรียน!D217","v":0},null,null,null,null,null,null,null,null,null,null,null,null,null,null,null,null,null,null,null,null,null,null,null,null,null,null,null,null,null,null,null,null,null,null,null,0,null,null,null,null,null,"","","","","","","","","","","","","","","","","","","","","","","","","","",0,null,"","","",0,"","","",0,0]
[{"$f":"ข้อมูลนักเรียน!B218","v":0},206,{"$f":"ข้อมูลนักเรียน!D218","v":0},null,null,null,null,null,null,null,null,null,null,null,null,null,null,null,null,null,null,null,null,null,null,null,null,null,null,null,null,null,null,null,null,null,null,null,0,null,null,null,null,null,"","","","","","","","","","","","","","","","","","","","","","","","","","",0,null,"","","",0,"","","",0,0]
[{"$f":"ข้อมูลนักเรียน!B219","v":0},207,{"$f":"ข้อมูลนักเรียน!D219","v":0},null,null,null,null,null,null,null,null,null,null,null,null,null,null,null,null,null,null,null,null,null,null,null,null,null,null,null,null,null,null,null,null,null,null,null,0,null,null,null,null,null,"","","","","","","","","","","","","","","","","","","","","","","","","","",0,null,"","","",0,"","","",0,0]
[{"$f":"ข้อมูลนักเรียน!B220","v":0},208,{"$f":"ข้อมูลนักเรียน!D220","v":0},null,null,null,null,null,null,null,null,null,null,null,null,null,null,null,null,null,null,null,null,null,null,null,null,null,null,null,null,null,null,null,null,null,null,null,0,null,null,null,null,null,"","","","","","","","","","","","","","","","","","","","","","","","","","",0,null,"","","",0,"","","",0,0]
[{"$f":"ข้อมูลนักเรียน!B221","v":0},209,{"$f":"ข้อมูลนักเรียน!D221","v":0},null,null,null,null,null,null,null,null,null,null,null,null,null,null,null,null,null,null,null,null,null,null,null,null,null,null,null,null,null,null,null,null,null,null,null,0,null,null,null,null,null,"","","","","","","","","","","","","","","","","","","","","","","","","","",0,null,"","","",0,"","","",0,0]
[{"$f":"ข้อมูลนักเรียน!B222","v":0},210,{"$f":"ข้อมูลนักเรียน!D222","v":0},null,null,null,null,null,null,null,null,null,null,null,null,null,null,null,null,null,null,null,null,null,null,null,null,null,null,null,null,null,null,null,null,null,null,null,0,null,null,null,null,null,"","","","","","","","","","","","","","","","","","","","","","","","","","",0,null,"","","",0,"","","",0,0]
[{"$f":"ข้อมูลนักเรียน!B223","v":0},211,{"$f":"ข้อมูลนักเรียน!D223","v":0},null,null,null,null,null,null,null,null,null,null,null,null,null,null,null,null,null,null,null,null,null,null,null,null,null,null,null,null,null,null,null,null,null,null,null,0,null,null,null,null,null,"","","","","","","","","","","","","","","","","","","","","","","","","","",0,null,"","","",0,"","","",0,0]
[{"$f":"ข้อมูลนักเรียน!B224","v":0},212,{"$f":"ข้อมูลนักเรียน!D224","v":0},null,null,null,null,null,null,null,null,null,null,null,null,null,null,null,null,null,null,null,null,null,null,null,null,null,null,null,null,null,null,null,null,null,null,null,0,null,null,null,null,null,"","","","","","","","","","","","","","","","","","","","","","","","","","",0,null,"","","",0,"","","",0,0]
[{"$f":"ข้อมูลนักเรียน!B225","v":0},213,{"$f":"ข้อมูลนักเรียน!D225","v":0},null,null,null,null,null,null,null,null,null,null,null,null,null,null,null,null,null,null,null,null,null,null,null,null,null,null,null,null,null,null,null,null,null,null,null,0,null,null,null,null,null,"","","","","","","","","","","","","","","","","","","","","","","","","","",0,null,"","","",0,"","","",0,0]
[{"$f":"ข้อมูลนักเรียน!B226","v":0},214,{"$f":"ข้อมูลนักเรียน!D226","v":0},null,null,null,null,null,null,null,null,null,null,null,null,null,null,null,null,null,null,null,null,null,null,null,null,null,null,null,null,null,null,null,null,null,null,null,0,null,null,null,null,null,"","","","","","","","","","","","","","","","","","","","","","","","","","",0,null,"","","",0,"","","",0,0]
[{"$f":"ข้อมูลนักเรียน!B227","v":0},215,{"$f":"ข้อมูลนักเรียน!D227","v":0},null,null,null,null,null,null,null,null,null,null,null,null,null,null,null,null,null,null,null,null,null,null,null,null,null,null,null,null,null,null,null,null,null,null,null,0,null,null,null,null,null,"","","","","","","","","","","","","","","","","","","","","","","","","","",0,null,"","","",0,"","","",0,0]
[{"$f":"ข้อมูลนักเรียน!B228","v":0},216,{"$f":"ข้อมูลนักเรียน!D228","v":0},null,null,null,null,null,null,null,null,null,null,null,null,null,null,null,null,null,null,null,null,null,null,null,null,null,null,null,null,null,null,null,null,null,null,null,0,null,null,null,null,null,"","","","","","","","","","","","","","","","","","","","","","","","","","",0,null,"","","",0,"","","",0,0]
[{"$f":"ข้อมูลนักเรียน!B229","v":0},217,{"$f":"ข้อมูลนักเรียน!D229","v":0},null,null,null,null,null,null,null,null,null,null,null,null,null,null,null,null,null,null,null,null,null,null,null,null,null,null,null,null,null,null,null,null,null,null,null,0,null,null,null,null,null,"","","","","","","","","","","","","","","","","","","","","","","","","","",0,null,"","","",0,"","","",0,0]
[{"$f":"ข้อมูลนักเรียน!B230","v":0},218,{"$f":"ข้อมูลนักเรียน!D230","v":0},null,null,null,null,null,null,null,null,null,null,null,null,null,null,null,null,null,null,null,null,null,null,null,null,null,null,null,null,null,null,null,null,null,null,null,0,null,null,null,null,null,"","","","","","","","","","","","","","","","","","","","","","","","","","",0,null,"","","",0,"","","",0,0]
[{"$f":"ข้อมูลนักเรียน!B231","v":0},219,{"$f":"ข้อมูลนักเรียน!D231","v":0},null,null,null,null,null,null,null,null,null,null,null,null,null,null,null,null,null,null,null,null,null,null,null,null,null,null,null,null,null,null,null,null,null,null,null,0,null,null,null,null,null,"","","","","","","","","","","","","","","","","","","","","","","","","","",0,null,"","","",0,"","","",0,0]
[{"$f":"ข้อมูลนักเรียน!B232","v":0},220,{"$f":"ข้อมูลนักเรียน!D232","v":0},null,null,null,null,null,null,null,null,null,null,null,null,null,null,null,null,null,null,null,null,null,null,null,null,null,null,null,null,null,null,null,null,null,null,null,0,null,null,null,null,null,"","","","","","","","","","","","","","","","","","","","","","","","","","",0,null,"","","",0,"","","",0,0]
[{"$f":"ข้อมูลนักเรียน!B233","v":0},221,{"$f":"ข้อมูลนักเรียน!D233","v":0},null,null,null,null,null,null,null,null,null,null,null,null,null,null,null,null,null,null,null,null,null,null,null,null,null,null,null,null,null,null,null,null,null,null,null,0,null,null,null,null,null,"","","","","","","","","","","","","","","","","","","","","","","","","","",0,null,"","","",0,"","","",0,0]
[{"$f":"ข้อมูลนักเรียน!B234","v":0},222,{"$f":"ข้อมูลนักเรียน!D234","v":0},null,null,null,null,null,null,null,null,null,null,null,null,null,null,null,null,null,null,null,null,null,null,null,null,null,null,null,null,null,null,null,null,null,null,null,0,null,null,null,null,null,"","","","","","","","","","","","","","","","","","","","","","","","","","",0,null,"","","",0,"","","",0,0]
[{"$f":"ข้อมูลนักเรียน!B235","v":0},223,{"$f":"ข้อมูลนักเรียน!D235","v":0},null,null,null,null,null,null,null,null,null,null,null,null,null,null,null,null,null,null,null,null,null,null,null,null,null,null,null,null,null,null,null,null,null,null,null,0,null,null,null,null,null,"","","","","","","","","","","","","","","","","","","","","","","","","","",0,null,"","","",0,"","","",0,0]
[{"$f":"ข้อมูลนักเรียน!B236","v":0},224,{"$f":"ข้อมูลนักเรียน!D236","v":0},null,null,null,null,null,null,null,null,null,null,null,null,null,null,null,null,null,null,null,null,null,null,null,null,null,null,null,null,null,null,null,null,null,null,null,0,null,null,null,null,null,"","","","","","","","","","","","","","","","","","","","","","","","","","",0,null,"","","",0,"","","",0,0]
[{"$f":"ข้อมูลนักเรียน!B237","v":0},225,{"$f":"ข้อมูลนักเรียน!D237","v":0},null,null,null,null,null,null,null,null,null,null,null,null,null,null,null,null,null,null,null,null,null,null,null,null,null,null,null,null,null,null,null,null,null,null,null,0,null,null,null,null,null,"","","","","","","","","","","","","","","","","","","","","","","","","","",0,null,"","","",0,"","","",0,0]
[{"$f":"ข้อมูลนักเรียน!B238","v":0},226,{"$f":"ข้อมูลนักเรียน!D238","v":0},null,null,null,null,null,null,null,null,null,null,null,null,null,null,null,null,null,null,null,null,null,null,null,null,null,null,null,null,null,null,null,null,null,null,null,0,null,null,null,null,null,"","","","","","","","","","","","","","","","","","","","","","","","","","",0,null,"","","",0,"","","",0,0]
[{"$f":"ข้อมูลนักเรียน!B239","v":0},227,{"$f":"ข้อมูลนักเรียน!D239","v":0},null,null,null,null,null,null,null,null,null,null,null,null,null,null,null,null,null,null,null,null,null,null,null,null,null,null,null,null,null,null,null,null,null,null,null,0,null,null,null,null,null,"","","","","","","","","","","","","","","","","","","","","","","","","","",0,null,"","","",0,"","","",0,0]
[{"$f":"ข้อมูลนักเรียน!B240","v":0},228,{"$f":"ข้อมูลนักเรียน!D240","v":0},null,null,null,null,null,null,null,null,null,null,null,null,null,null,null,null,null,null,null,null,null,null,null,null,null,null,null,null,null,null,null,null,null,null,null,0,null,null,null,null,null,"","","","","","","","","","","","","","","","","","","","","","","","","","",0,null,"","","",0,"","","",0,0]
[{"$f":"ข้อมูลนักเรียน!B241","v":0},229,{"$f":"ข้อมูลนักเรียน!D241","v":0},null,null,null,null,null,null,null,null,null,null,null,null,null,null,null,null,null,null,null,null,null,null,null,null,null,null,null,null,null,null,null,null,null,null,null,0,null,null,null,null,null,"","","","","","","","","","","","","","","","","","","","","","","","","","",0,null,"","","",0,"","","",0,0]
[{"$f":"ข้อมูลนักเรียน!B242","v":0},230,{"$f":"ข้อมูลนักเรียน!D242","v":0},null,null,null,null,null,null,null,null,null,null,null,null,null,null,null,null,null,null,null,null,null,null,null,null,null,null,null,null,null,null,null,null,null,null,null,0,null,null,null,null,null,"","","","","","","","","","","","","","","","","","","","","","","","","","",0,null,"","","",0,"","","",0,0]
[{"$f":"ข้อมูลนักเรียน!B243","v":0},231,{"$f":"ข้อมูลนักเรียน!D243","v":0},null,null,null,null,null,null,null,null,null,null,null,null,null,null,null,null,null,null,null,null,null,null,null,null,null,null,null,null,null,null,null,null,null,null,null,0,null,null,null,null,null,"","","","","","","","","","","","","","","","","","","","","","","","","","",0,null,"","","",0,"","","",0,0]
[{"$f":"ข้อมูลนักเรียน!B244","v":0},232,{"$f":"ข้อมูลนักเรียน!D244","v":0},null,null,null,null,null,null,null,null,null,null,null,null,null,null,null,null,null,null,null,null,null,null,null,null,null,null,null,null,null,null,null,null,null,null,null,0,null,null,null,null,null,"","","","","","","","","","","","","","","","","","","","","","","","","","",0,null,"","","",0,"","","",0,0]
[{"$f":"ข้อมูลนักเรียน!B245","v":0},233,{"$f":"ข้อมูลนักเรียน!D245","v":0},null,null,null,null,null,null,null,null,null,null,null,null,null,null,null,null,null,null,null,null,null,null,null,null,null,null,null,null,null,null,null,null,null,null,null,0,null,null,null,null,null,"","","","","","","","","","","","","","","","","","","","","","","","","","",0,null,"","","",0,"","","",0,0]
[{"$f":"ข้อมูลนักเรียน!B246","v":0},234,{"$f":"ข้อมูลนักเรียน!D246","v":0},null,null,null,null,null,null,null,null,null,null,null,null,null,null,null,null,null,null,null,null,null,null,null,null,null,null,null,null,null,null,null,null,null,null,null,0,null,null,null,null,null,"","","","","","","","","","","","","","","","","","","","","","","","","","",0,null,"","","",0,"","","",0,0]
[{"$f":"ข้อมูลนักเรียน!B247","v":0},235,{"$f":"ข้อมูลนักเรียน!D247","v":0},null,null,null,null,null,null,null,null,null,null,null,null,null,null,null,null,null,null,null,null,null,null,null,null,null,null,null,null,null,null,null,null,null,null,null,0,null,null,null,null,null,"","","","","","","","","","","","","","","","","","","","","","","","","","",0,null,"","","",0,"","","",0,0]
[{"$f":"ข้อมูลนักเรียน!B248","v":0},236,{"$f":"ข้อมูลนักเรียน!D248","v":0},null,null,null,null,null,null,null,null,null,null,null,null,null,null,null,null,null,null,null,null,null,null,null,null,null,null,null,null,null,null,null,null,null,null,null,0,null,null,null,null,null,"","","","","","","","","","","","","","","","","","","","","","","","","","",0,null,"","","",0,"","","",0,0]
[{"$f":"ข้อมูลนักเรียน!B249","v":0},237,{"$f":"ข้อมูลนักเรียน!D249","v":0},null,null,null,null,null,null,null,null,null,null,null,null,null,null,null,null,null,null,null,null,null,null,null,null,null,null,null,null,null,null,null,null,null,null,null,0,null,null,null,null,null,"","","","","","","","","","","","","","","","","","","","","","","","","","",0,null,"","","",0,"","","",0,0]
[{"$f":"ข้อมูลนักเรียน!B250","v":0},238,{"$f":"ข้อมูลนักเรียน!D250","v":0},null,null,null,null,null,null,null,null,null,null,null,null,null,null,null,null,null,null,null,null,null,null,null,null,null,null,null,null,null,null,null,null,null,null,null,0,null,null,null,null,null,"","","","","","","","","","","","","","","","","","","","","","","","","","",0,null,"","","",0,"","","",0,0]
[{"$f":"ข้อมูลนักเรียน!B251","v":0},239,{"$f":"ข้อมูลนักเรียน!D251","v":0},null,null,null,null,null,null,null,null,null,null,null,null,null,null,null,null,null,null,null,null,null,null,null,null,null,null,null,null,null,null,null,null,null,null,null,0,null,null,null,null,null,"","","","","","","","","","","","","","","","","","","","","","","","","","",0,null,"","","",0,"","","",0,0]
[{"$f":"ข้อมูลนักเรียน!B252","v":0},240,{"$f":"ข้อมูลนักเรียน!D252","v":0},null,null,null,null,null,null,null,null,null,null,null,null,null,null,null,null,null,null,null,null,null,null,null,null,null,null,null,null,null,null,null,null,null,null,null,0,null,null,null,null,null,"","","","","","","","","","","","","","","","","","","","","","","","","","",0,null,"","","",0,"","","",0,0]
[{"$f":"ข้อมูลนักเรียน!B253","v":0},241,{"$f":"ข้อมูลนักเรียน!D253","v":0},null,null,null,null,null,null,null,null,null,null,null,null,null,null,null,null,null,null,null,null,null,null,null,null,null,null,null,null,null,null,null,null,null,null,null,0,null,null,null,null,null,"","","","","","","","","","","","","","","","","","","","","","","","","","",0,null,"","","",0,"","","",0,0]
[{"$f":"ข้อมูลนักเรียน!B254","v":0},242,{"$f":"ข้อมูลนักเรียน!D254","v":0},null,null,null,null,null,null,null,null,null,null,null,null,null,null,null,null,null,null,null,null,null,null,null,null,null,null,null,null,null,null,null,null,null,null,null,0,null,null,null,null,null,"","","","","","","","","","","","","","","","","","","","","","","","","","",0,null,"","","",0,"","","",0,0]
[{"$f":"ข้อมูลนักเรียน!B255","v":0},243,{"$f":"ข้อมูลนักเรียน!D255","v":0},null,null,null,null,null,null,null,null,null,null,null,null,null,null,null,null,null,null,null,null,null,null,null,null,null,null,null,null,null,null,null,null,null,null,null,0,null,null,null,null,null,"","","","","","","","","","","","","","","","","","","","","","","","","","",0,null,"","","",0,"","","",0,0]
[{"$f":"ข้อมูลนักเรียน!B256","v":0},244,{"$f":"ข้อมูลนักเรียน!D256","v":0},null,null,null,null,null,null,null,null,null,null,null,null,null,null,null,null,null,null,null,null,null,null,null,null,null,null,null,null,null,null,null,null,null,null,null,0,null,null,null,null,null,"","","","","","","","","","","","","","","","","","","","","","","","","","",0,null,"","","",0,"","","",0,0]
[{"$f":"ข้อมูลนักเรียน!B257","v":0},245,{"$f":"ข้อมูลนักเรียน!D257","v":0},null,null,null,null,null,null,null,null,null,null,null,null,null,null,null,null,null,null,null,null,null,null,null,null,null,null,null,null,null,null,null,null,null,null,null,0,null,null,null,null,null,"","","","","","","","","","","","","","","","","","","","","","","","","","",0,null,"","","",0,"","","",0,0]
[{"$f":"ข้อมูลนักเรียน!B258","v":0},246,{"$f":"ข้อมูลนักเรียน!D258","v":0},null,null,null,null,null,null,null,null,null,null,null,null,null,null,null,null,null,null,null,null,null,null,null,null,null,null,null,null,null,null,null,null,null,null,null,0,null,null,null,null,null,"","","","","","","","","","","","","","","","","","","","","","","","","","",0,null,"","","",0,"","","",0,0]
[{"$f":"ข้อมูลนักเรียน!B259","v":0},247,{"$f":"ข้อมูลนักเรียน!D259","v":0},null,null,null,null,null,null,null,null,null,null,null,null,null,null,null,null,null,null,null,null,null,null,null,null,null,null,null,null,null,null,null,null,null,null,null,0,null,null,null,null,null,"","","","","","","","","","","","","","","","","","","","","","","","","","",0,null,"","","",0,"","","",0,0]
[{"$f":"ข้อมูลนักเรียน!B260","v":0},248,{"$f":"ข้อมูลนักเรียน!D260","v":0},null,null,null,null,null,null,null,null,null,null,null,null,null,null,null,null,null,null,null,null,null,null,null,null,null,null,null,null,null,null,null,null,null,null,null,0,null,null,null,null,null,"","","","","","","","","","","","","","","","","","","","","","","","","","",0,null,"","","",0,"","","",0,0]
[{"$f":"ข้อมูลนักเรียน!B261","v":0},249,{"$f":"ข้อมูลนักเรียน!D261","v":0},null,null,null,null,null,null,null,null,null,null,null,null,null,null,null,null,null,null,null,null,null,null,null,null,null,null,null,null,null,null,null,null,null,null,null,0,null,null,null,null,null,"","","","","","","","","","","","","","","","","","","","","","","","","","",0,null,"","","",0,"","","",0,0]
[{"$f":"ข้อมูลนักเรียน!B262","v":0},250,{"$f":"ข้อมูลนักเรียน!D262","v":0},null,null,null,null,null,null,null,null,null,null,null,null,null,null,null,null,null,null,null,null,null,null,null,null,null,null,null,null,null,null,null,null,null,null,null,0,null,null,null,null,null,"","","","","","","","","","","","","","","","","","","","","","","","","","",0,null,"","","",0,"","","",0,0]
[{"$f":"ข้อมูลนักเรียน!B263","v":0},251,{"$f":"ข้อมูลนักเรียน!D263","v":0},null,null,null,null,null,null,null,null,null,null,null,null,null,null,null,null,null,null,null,null,null,null,null,null,null,null,null,null,null,null,null,null,null,null,null,0,null,null,null,null,null,"","","","","","","","","","","","","","","","","","","","","","","","","","",0,null,"","","",0,"","","",0,0]
[{"$f":"ข้อมูลนักเรียน!B264","v":0},252,{"$f":"ข้อมูลนักเรียน!D264","v":0},null,null,null,null,null,null,null,null,null,null,null,null,null,null,null,null,null,null,null,null,null,null,null,null,null,null,null,null,null,null,null,null,null,null,null,0,null,null,null,null,null,"","","","","","","","","","","","","","","","","","","","","","","","","","",0,null,"","","",0,"","","",0,0]
[{"$f":"ข้อมูลนักเรียน!B265","v":0},253,{"$f":"ข้อมูลนักเรียน!D265","v":0},null,null,null,null,null,null,null,null,null,null,null,null,null,null,null,null,null,null,null,null,null,null,null,null,null,null,null,null,null,null,null,null,null,null,null,0,null,null,null,null,null,"","","","","","","","","","","","","","","","","","","","","","","","","","",0,null,"","","",0,"","","",0,0]
[{"$f":"ข้อมูลนักเรียน!B266","v":0},254,{"$f":"ข้อมูลนักเรียน!D266","v":0},null,null,null,null,null,null,null,null,null,null,null,null,null,null,null,null,null,null,null,null,null,null,null,null,null,null,null,null,null,null,null,null,null,null,null,0,null,null,null,null,null,"","","","","","","","","","","","","","","","","","","","","","","","","","",0,null,"","","",0,"","","",0,0]
[{"$f":"ข้อมูลนักเรียน!B267","v":0},255,{"$f":"ข้อมูลนักเรียน!D267","v":0},null,null,null,null,null,null,null,null,null,null,null,null,null,null,null,null,null,null,null,null,null,null,null,null,null,null,null,null,null,null,null,null,null,null,null,0,null,null,null,null,null,"","","","","","","","","","","","","","","","","","","","","","","","","","",0,null,"","","",0,"","","",0,0]
[{"$f":"ข้อมูลนักเรียน!B268","v":0},256,{"$f":"ข้อมูลนักเรียน!D268","v":0},null,null,null,null,null,null,null,null,null,null,null,null,null,null,null,null,null,null,null,null,null,null,null,null,null,null,null,null,null,null,null,null,null,null,null,0,null,null,null,null,null,"","","","","","","","","","","","","","","","","","","","","","","","","","",0,null,"","","",0,"","","",0,0]
[{"$f":"ข้อมูลนักเรียน!B269","v":0},257,{"$f":"ข้อมูลนักเรียน!D269","v":0},null,null,null,null,null,null,null,null,null,null,null,null,null,null,null,null,null,null,null,null,null,null,null,null,null,null,null,null,null,null,null,null,null,null,null,{"$f":"SUM(IF(G267=NumSci1,ScoreSci1),IF(H267=NumSci2,ScoreSci2),IF(I267=NumSci3,ScoreSci3),IF(J267=NumSci4,ScoreSci4),IF(K267=NumSci5,ScoreSci5),IF(L267=NumSci6,ScoreSci6),IF(M267=NumSci7,ScoreSci7),IF(N267=NumSci8,ScoreSci8),IF(O267=NumSci9,ScoreSci9),IF(P267=NumSci10,ScoreSci10),IF(Q267=NumSci11,ScoreSci11),IF(R267=NumSci12,ScoreSci12),IF(S267=NumSci13,ScoreSci13),IF(T267=NumSci14,ScoreSci14),IF(U267=NumSci15,ScoreSci15),IF(V267=NumSci16,ScoreSci16),IF(W267=NumSci17,ScoreSci17),IF(X267=NumSci18,ScoreSci18),IF(Y267=NumSci19,ScoreSci19),IF(Z267=NumSci20,ScoreSci20),IF(AA267=NumSci21,ScoreSci21),IF(AB267=NumSci22,ScoreSci22),IF(AC267=NumSci23,ScoreSci23),IF(AD267=NumSci24,ScoreSci24),,IF(AE267=NumSci25,ScoreSci25),IF(AF267=NumSci26,ScoreSci26),CC267)","v":0},null,null,null,null,null,{"$f":"IF(G267=\"\",\"\",IF(G267=NumSci1,\"✓\",\"X\"))","v":""},{"$f":"IF(H267=\"\",\"\",IF(H267=NumSci2,\"✓\",\"X\"))","v":""},{"$f":"IF(I267=\"\",\"\",IF(I267=NumSci3,\"✓\",\"X\"))","v":""},{"$f":"IF(J267=\"\",\"\",IF(J267=NumSci4,\"✓\",\"X\"))","v":""},{"$f":"IF(K267=\"\",\"\",IF(K267=NumSci5,\"✓\",\"X\"))","v":""},{"$f":"IF(L267=\"\",\"\",IF(L267=NumSci6,\"✓\",\"X\"))","v":""},{"$f":"IF(M267=\"\",\"\",IF(M267=NumSci7,\"✓\",\"X\"))","v":""},{"$f":"IF(N267=\"\",\"\",IF(N267=NumSci8,\"✓\",\"X\"))","v":""},{"$f":"IF(O267=\"\",\"\",IF(O267=NumSci9,\"✓\",\"X\"))","v":""},{"$f":"IF(P267=\"\",\"\",IF(P267=NumSci10,\"✓\",\"X\"))","v":""},{"$f":"IF(Q267=\"\",\"\",IF(Q267=NumSci11,\"✓\",\"X\"))","v":""},{"$f":"IF(R267=\"\",\"\",IF(R267=NumSci12,\"✓\",\"X\"))","v":""},{"$f":"IF(S267=\"\",\"\",IF(S267=NumSci13,\"✓\",\"X\"))","v":""},{"$f":"IF(T267=\"\",\"\",IF(T267=NumSci14,\"✓\",\"X\"))","v":""},{"$f":"IF(U267=\"\",\"\",IF(U267=NumSci15,\"✓\",\"X\"))","v":""},{"$f":"IF(V267=\"\",\"\",IF(V267=NumSci16,\"✓\",\"X\"))","v":""},{"$f":"IF(W267=\"\",\"\",IF(W267=NumSci17,\"✓\",\"X\"))","v":""},{"$f":"IF(X267=\"\",\"\",IF(X267=NumSci18,\"✓\",\"X\"))","v":""},{"$f":"IF(Y267=\"\",\"\",IF(Y267=NumSci19,\"✓\",\"X\"))","v":""},{"$f":"IF(Z267=\"\",\"\",IF(Z267=NumSci20,\"✓\",\"X\"))","v":""},{"$f":"IF(AA267=\"\",\"\",IF(AA267=NumSci21,\"✓\",\"X\"))","v":""},{"$f":"IF(AB267=\"\",\"\",IF(AB267=NumSci22,\"✓\",\"X\"))","v":""},{"$f":"IF(AC267=\"\",\"\",IF(AC267=NumSci23,\"✓\",\"X\"))","v":""},{"$f":"IF(AD267=\"\",\"\",IF(AD267=NumSci24,\"✓\",\"X\"))","v":""},{"$f":"IF(AE267=\"\",\"\",IF(AE267=NumSci25,\"✓\",\"X\"))","v":""},{"$f":"IF(AF267=\"\",\"\",IF(AF267=NumSci26,\"✓\",\"X\"))","v":""},{"$f":"COUNTIF(AS267:BR267,\"✓\")","v":0},null,{"$f":"IF(AG267=\"\",\"\",IF(AG267=NumSci271,\"✓\",\"X\"))","v":""},{"$f":"IF(AH267=\"\",\"\",IF(AH267=NumSci272,\"✓\",\"X\"))","v":""},{"$f":"IF(AI267=\"\",\"\",IF(AI267=NumSci273,\"✓\",\"X\"))","v":""},{"$f":"IF(COUNTIF(AG267,NumSci271)+COUNTIF(AH267,NumSci272)+COUNTIF(AI267,NumSci273)=3,4.5,IF(COUNTIF(AG267,NumSci271)+COUNTIF(AH267,NumSci272)+COUNTIF(AI267,NumSci273)=2,3,IF(COUNTIF(AG267,NumSci271)+COUNTIF(AH267,NumSci272)+COUNTIF(AI267,NumSci273)=1,0,0)))","v":0},{"$f":"IF(AJ267=\"\",\"\",IF(AJ267=NumSci281,\"✓\",\"X\"))","v":""},{"$f":"IF(AK267=\"\",\"\",IF(AK267=NumSci282,\"✓\",\"X\"))","v":""},{"$f":"IF(AL267=\"\",\"\",IF(AL267=NumSci283,\"✓\",\"X\"))","v":""},{"$f":"IF(COUNTIF(AJ267,NumSci281)+COUNTIF(AK267,NumSci282)+COUNTIF(AL267,NumSci283)=3,4.5,IF(COUNTIF(AJ267,NumSci281)+COUNTIF(AK267,NumSci282)+COUNTIF(AL267,NumSci283)=2,3,IF(COUNTIF(AJ267,NumSci281)+COUNTIF(AK267,NumSci282)+COUNTIF(AL267,NumSci283)=1,0,0)))","v":0},0]
[{"$f":"ข้อมูลนักเรียน!B270","v":0},258,{"$f":"ข้อมูลนักเรียน!D270","v":0},null,null,null,null,null,null,null,null,null,null,null,null,null,null,null,null,null,null,null,null,null,null,null,null,null,null,null,null,null,null,null,null,null,null,null,0,null,null,null,null,null,"","","","","","","","","","","","","","","","","","","","","","","","","","",0,null,"","","",0,"","","",0,{"$f":"SUM(BX268,CB268)","v":0}]
[{"$f":"ข้อมูลนักเรียน!B271","v":0},259,{"$f":"ข้อมูลนักเรียน!D271","v":0},null,null,null,null,null,null,null,null,null,null,null,null,null,null,null,null,null,null,null,null,null,null,null,null,null,null,null,null,null,null,null,null,null,null,null,0,null,null,null,null,null,"","","","","","","","","","","","","","","","","","","","","","","","","","",0,null,"","","",0,"","","",0,0]
[{"$f":"ข้อมูลนักเรียน!B272","v":0},260,{"$f":"ข้อมูลนักเรียน!D272","v":0},null,null,null,null,null,null,null,null,null,null,null,null,null,null,null,null,null,null,null,null,null,null,null,null,null,null,null,null,null,null,null,null,null,null,null,0,null,null,null,null,null,"","","","","","","","","","","","","","","","","","","","","","","","","","",0,null,"","","",0,"","","",0,0]
[{"$f":"ข้อมูลนักเรียน!B273","v":0},261,{"$f":"ข้อมูลนักเรียน!D273","v":0},null,null,null,null,null,null,null,null,null,null,null,null,null,null,null,null,null,null,null,null,null,null,null,null,null,null,null,null,null,null,null,null,null,null,null,0,null,null,null,null,null,"","","","","","","","","","","","","","","","","","","","","","","","","","",0,null,"","","",0,"","","",0,0]
[{"$f":"ข้อมูลนักเรียน!B274","v":0},262,{"$f":"ข้อมูลนักเรียน!D274","v":0},null,null,null,null,null,null,null,null,null,null,null,null,null,null,null,null,null,null,null,null,null,null,null,null,null,null,null,null,null,null,null,null,null,null,null,0,null,null,null,null,null,"","","","","","","","","","","","","","","","","","","","","","","","","","",0,null,"","","",0,"","","",0,0]
[{"$f":"ข้อมูลนักเรียน!B275","v":0},263,{"$f":"ข้อมูลนักเรียน!D275","v":0},null,null,null,null,null,null,null,null,null,null,null,null,null,null,null,null,null,null,null,null,null,null,null,null,null,null,null,null,null,null,null,null,null,null,null,0,null,null,null,null,null,"","","","","","","","","","","","","","","","","","","","","","","","","","",0,null,"","","",0,"","","",0,0]
[{"$f":"ข้อมูลนักเรียน!B276","v":0},264,{"$f":"ข้อมูลนักเรียน!D276","v":0},null,null,null,null,null,null,null,null,null,null,null,null,null,null,null,null,null,null,null,null,null,null,null,null,null,null,null,null,null,null,null,null,null,null,null,0,null,null,null,null,null,"","","","","","","","","","","","","","","","","","","","","","","","","","",0,null,"","","",0,"","","",0,0]
[{"$f":"ข้อมูลนักเรียน!B277","v":0},265,{"$f":"ข้อมูลนักเรียน!D277","v":0},null,null,null,null,null,null,null,null,null,null,null,null,null,null,null,null,null,null,null,null,null,null,null,null,null,null,null,null,null,null,null,null,null,null,null,0,null,null,null,null,null,"","","","","","","","","","","","","","","","","","","","","","","","","","",0,null,"","","",0,"","","",0,0]
[{"$f":"ข้อมูลนักเรียน!B278","v":0},266,{"$f":"ข้อมูลนักเรียน!D278","v":0},null,null,null,null,null,null,null,null,null,null,null,null,null,null,null,null,null,null,null,null,null,null,null,null,null,null,null,null,null,null,null,null,null,null,null,0,null,null,null,null,null,"","","","","","","","","","","","","","","","","","","","","","","","","","",0,null,"","","",0,"","","",0,0]
[{"$f":"ข้อมูลนักเรียน!B279","v":0},267,{"$f":"ข้อมูลนักเรียน!D279","v":0},null,null,null,null,null,null,null,null,null,null,null,null,null,null,null,null,null,null,null,null,null,null,null,null,null,null,null,null,null,null,null,null,null,null,null,0,null,null,null,null,null,"","","","","","","","","","","","","","","","","","","","","","","","","","",0,null,"","","",0,"","","",0,0]
[{"$f":"ข้อมูลนักเรียน!B280","v":0},268,{"$f":"ข้อมูลนักเรียน!D280","v":0},null,null,null,null,null,null,null,null,null,null,null,null,null,null,null,null,null,null,null,null,null,null,null,null,null,null,null,null,null,null,null,null,null,null,null,0,null,null,null,null,null,"","","","","","","","","","","","","","","","","","","","","","","","","","",0,null,"","","",0,"","","",0,0]
[{"$f":"ข้อมูลนักเรียน!B281","v":0},269,{"$f":"ข้อมูลนักเรียน!D281","v":0},null,null,null,null,null,null,null,null,null,null,null,null,null,null,null,null,null,null,null,null,null,null,null,null,null,null,null,null,null,null,null,null,null,null,null,0,null,null,null,null,null,"","","","","","","","","","","","","","","","","","","","","","","","","","",0,null,"","","",0,"","","",0,0]
[{"$f":"ข้อมูลนักเรียน!B282","v":0},270,{"$f":"ข้อมูลนักเรียน!D282","v":0},null,null,null,null,null,null,null,null,null,null,null,null,null,null,null,null,null,null,null,null,null,null,null,null,null,null,null,null,null,null,null,null,null,null,null,0,null,null,null,null,null,"","","","","","","","","","","","","","","","","","","","","","","","","","",0,null,"","","",0,"","","",0,0]
[{"$f":"ข้อมูลนักเรียน!B283","v":0},271,{"$f":"ข้อมูลนักเรียน!D283","v":0},null,null,null,null,null,null,null,null,null,null,null,null,null,null,null,null,null,null,null,null,null,null,null,null,null,null,null,null,null,null,null,null,null,null,null,0,null,null,null,null,null,"","","","","","","","","","","","","","","","","","","","","","","","","","",0,null,"","","",0,"","","",0,0]
[{"$f":"ข้อมูลนักเรียน!B284","v":0},272,{"$f":"ข้อมูลนักเรียน!D284","v":0},null,null,null,null,null,null,null,null,null,null,null,null,null,null,null,null,null,null,null,null,null,null,null,null,null,null,null,null,null,null,null,null,null,null,null,0,null,null,null,null,null,"","","","","","","","","","","","","","","","","","","","","","","","","","",0,null,"","","",0,"","","",0,0]
[{"$f":"ข้อมูลนักเรียน!B285","v":0},273,{"$f":"ข้อมูลนักเรียน!D285","v":0},null,null,null,null,null,null,null,null,null,null,null,null,null,null,null,null,null,null,null,null,null,null,null,null,null,null,null,null,null,null,null,null,null,null,null,0,null,null,null,null,null,"","","","","","","","","","","","","","","","","","","","","","","","","","",0,null,"","","",0,"","","",0,0]
[{"$f":"ข้อมูลนักเรียน!B286","v":0},274,{"$f":"ข้อมูลนักเรียน!D286","v":0},null,null,null,null,null,null,null,null,null,null,null,null,null,null,null,null,null,null,null,null,null,null,null,null,null,null,null,null,null,null,null,null,null,null,null,0,null,null,null,null,null,"","","","","","","","","","","","","","","","","","","","","","","","","","",0,null,"","","",0,"","","",0,0]
[{"$f":"ข้อมูลนักเรียน!B287","v":0},275,{"$f":"ข้อมูลนักเรียน!D287","v":0},null,null,null,null,null,null,null,null,null,null,null,null,null,null,null,null,null,null,null,null,null,null,null,null,null,null,null,null,null,null,null,null,null,null,null,0,null,null,null,null,null,"","","","","","","","","","","","","","","","","","","","","","","","","","",0,null,"","","",0,"","","",0,0]
[{"$f":"ข้อมูลนักเรียน!B288","v":0},276,{"$f":"ข้อมูลนักเรียน!D288","v":0},null,null,null,null,null,null,null,null,null,null,null,null,null,null,null,null,null,null,null,null,null,null,null,null,null,null,null,null,null,null,null,null,null,null,null,0,null,null,null,null,null,"","","","","","","","","","","","","","","","","","","","","","","","","","",0,null,"","","",0,"","","",0,0]
[{"$f":"ข้อมูลนักเรียน!B289","v":0},277,{"$f":"ข้อมูลนักเรียน!D289","v":0},null,null,null,null,null,null,null,null,null,null,null,null,null,null,null,null,null,null,null,null,null,null,null,null,null,null,null,null,null,null,null,null,null,null,null,0,null,null,null,null,null,"","","","","","","","","","","","","","","","","","","","","","","","","","",0,null,"","","",0,"","","",0,0]
[{"$f":"ข้อมูลนักเรียน!B290","v":0},278,{"$f":"ข้อมูลนักเรียน!D290","v":0},null,null,null,null,null,null,null,null,null,null,null,null,null,null,null,null,null,null,null,null,null,null,null,null,null,null,null,null,null,null,null,null,null,null,null,0,null,null,null,null,null,"","","","","","","","","","","","","","","","","","","","","","","","","","",0,null,"","","",0,"","","",0,0]
[{"$f":"ข้อมูลนักเรียน!B291","v":0},279,{"$f":"ข้อมูลนักเรียน!D291","v":0},null,null,null,null,null,null,null,null,null,null,null,null,null,null,null,null,null,null,null,null,null,null,null,null,null,null,null,null,null,null,null,null,null,null,null,0,null,null,null,null,null,"","","","","","","","","","","","","","","","","","","","","","","","","","",0,null,"","","",0,"","","",0,0]
[{"$f":"ข้อมูลนักเรียน!B292","v":0},280,{"$f":"ข้อมูลนักเรียน!D292","v":0},null,null,null,null,null,null,null,null,null,null,null,null,null,null,null,null,null,null,null,null,null,null,null,null,null,null,null,null,null,null,null,null,null,null,null,0,null,null,null,null,null,"","","","","","","","","","","","","","","","","","","","","","","","","","",0,null,"","","",0,"","","",0,0]
[{"$f":"ข้อมูลนักเรียน!B293","v":0},281,{"$f":"ข้อมูลนักเรียน!D293","v":0},null,null,null,null,null,null,null,null,null,null,null,null,null,null,null,null,null,null,null,null,null,null,null,null,null,null,null,null,null,null,null,null,null,null,null,0,null,null,null,null,null,"","","","","","","","","","","","","","","","","","","","","","","","","","",0,null,"","","",0,"","","",0,0]
[{"$f":"ข้อมูลนักเรียน!B294","v":0},282,{"$f":"ข้อมูลนักเรียน!D294","v":0},null,null,null,null,null,null,null,null,null,null,null,null,null,null,null,null,null,null,null,null,null,null,null,null,null,null,null,null,null,null,null,null,null,null,null,0,null,null,null,null,null,"","","","","","","","","","","","","","","","","","","","","","","","","","",0,null,"","","",0,"","","",0,0]
[{"$f":"ข้อมูลนักเรียน!B295","v":0},283,{"$f":"ข้อมูลนักเรียน!D295","v":0},null,null,null,null,null,null,null,null,null,null,null,null,null,null,null,null,null,null,null,null,null,null,null,null,null,null,null,null,null,null,null,null,null,null,null,0,null,null,null,null,null,"","","","","","","","","","","","","","","","","","","","","","","","","","",0,null,"","","",0,"","","",0,0]
[{"$f":"ข้อมูลนักเรียน!B296","v":0},284,{"$f":"ข้อมูลนักเรียน!D296","v":0},null,null,null,null,null,null,null,null,null,null,null,null,null,null,null,null,null,null,null,null,null,null,null,null,null,null,null,null,null,null,null,null,null,null,null,0,null,null,null,null,null,"","","","","","","","","","","","","","","","","","","","","","","","","","",0,null,"","","",0,"","","",0,0]
[{"$f":"ข้อมูลนักเรียน!B297","v":0},285,{"$f":"ข้อมูลนักเรียน!D297","v":0},null,null,null,null,null,null,null,null,null,null,null,null,null,null,null,null,null,null,null,null,null,null,null,null,null,null,null,null,null,null,null,null,null,null,null,0,null,null,null,null,null,"","","","","","","","","","","","","","","","","","","","","","","","","","",0,null,"","","",0,"","","",0,0]
[{"$f":"ข้อมูลนักเรียน!B298","v":0},286,{"$f":"ข้อมูลนักเรียน!D298","v":0},null,null,null,null,null,null,null,null,null,null,null,null,null,null,null,null,null,null,null,null,null,null,null,null,null,null,null,null,null,null,null,null,null,null,null,0,null,null,null,null,null,"","","","","","","","","","","","","","","","","","","","","","","","","","",0,null,"","","",0,"","","",0,0]
[{"$f":"ข้อมูลนักเรียน!B299","v":0},287,{"$f":"ข้อมูลนักเรียน!D299","v":0},null,null,null,null,null,null,null,null,null,null,null,null,null,null,null,null,null,null,null,null,null,null,null,null,null,null,null,null,null,null,null,null,null,null,null,0,null,null,null,null,null,"","","","","","","","","","","","","","","","","","","","","","","","","","",0,null,"","","",0,"","","",0,0]
[{"$f":"ข้อมูลนักเรียน!B300","v":0},288,{"$f":"ข้อมูลนักเรียน!D300","v":0},null,null,null,null,null,null,null,null,null,null,null,null,null,null,null,null,null,null,null,null,null,null,null,null,null,null,null,null,null,null,null,null,null,null,null,0,null,null,null,null,null,"","","","","","","","","","","","","","","","","","","","","","","","","","",0,null,"","","",0,"","","",0,0]
[{"$f":"ข้อมูลนักเรียน!B301","v":0},289,{"$f":"ข้อมูลนักเรียน!D301","v":0},null,null,null,null,null,null,null,null,null,null,null,null,null,null,null,null,null,null,null,null,null,null,null,null,null,null,null,null,null,null,null,null,null,null,null,0,null,null,null,null,null,"","","","","","","","","","","","","","","","","","","","","","","","","","",0,null,"","","",0,"","","",0,0]
[{"$f":"ข้อมูลนักเรียน!B302","v":0},290,{"$f":"ข้อมูลนักเรียน!D302","v":0},null,null,null,null,null,null,null,null,null,null,null,null,null,null,null,null,null,null,null,null,null,null,null,null,null,null,null,null,null,null,null,null,null,null,null,0,null,null,null,null,null,"","","","","","","","","","","","","","","","","","","","","","","","","","",0,null,"","","",0,"","","",0,0]
[{"$f":"ข้อมูลนักเรียน!B303","v":0},291,{"$f":"ข้อมูลนักเรียน!D303","v":0},null,null,null,null,null,null,null,null,null,null,null,null,null,null,null,null,null,null,null,null,null,null,null,null,null,null,null,null,null,null,null,null,null,null,null,0,null,null,null,null,null,"","","","","","","","","","","","","","","","","","","","","","","","","","",0,null,"","","",0,"","","",0,0]
[{"$f":"ข้อมูลนักเรียน!B304","v":0},292,{"$f":"ข้อมูลนักเรียน!D304","v":0},null,null,null,null,null,null,null,null,null,null,null,null,null,null,null,null,null,null,null,null,null,null,null,null,null,null,null,null,null,null,null,null,null,null,null,0,null,null,null,null,null,"","","","","","","","","","","","","","","","","","","","","","","","","","",0,null,"","","",0,"","","",0,0]
[{"$f":"ข้อมูลนักเรียน!B305","v":0},293,{"$f":"ข้อมูลนักเรียน!D305","v":0},null,null,null,null,null,null,null,null,null,null,null,null,null,null,null,null,null,null,null,null,null,null,null,null,null,null,null,null,null,null,null,null,null,null,null,0,null,null,null,null,null,"","","","","","","","","","","","","","","","","","","","","","","","","","",0,null,"","","",0,"","","",0,0]
[{"$f":"ข้อมูลนักเรียน!B306","v":0},294,{"$f":"ข้อมูลนักเรียน!D306","v":0},null,null,null,null,null,null,null,null,null,null,null,null,null,null,null,null,null,null,null,null,null,null,null,null,null,null,null,null,null,null,null,null,null,null,null,0,null,null,null,null,null,"","","","","","","","","","","","","","","","","","","","","","","","","","",0,null,"","","",0,"","","",0,0]
[{"$f":"ข้อมูลนักเรียน!B307","v":0},295,{"$f":"ข้อมูลนักเรียน!D307","v":0},null,null,null,null,null,null,null,null,null,null,null,null,null,null,null,null,null,null,null,null,null,null,null,null,null,null,null,null,null,null,null,null,null,null,null,0,null,null,null,null,null,"","","","","","","","","","","","","","","","","","","","","","","","","","",0,null,"","","",0,"","","",0,0]
[{"$f":"ข้อมูลนักเรียน!B308","v":0},296,{"$f":"ข้อมูลนักเรียน!D308","v":0},null,null,null,null,null,null,null,null,null,null,null,null,null,null,null,null,null,null,null,null,null,null,null,null,null,null,null,null,null,null,null,null,null,null,null,0,null,null,null,null,null,"","","","","","","","","","","","","","","","","","","","","","","","","","",0,null,"","","",0,"","","",0,0]
[{"$f":"ข้อมูลนักเรียน!B309","v":0},297,{"$f":"ข้อมูลนักเรียน!D309","v":0},null,null,null,null,null,null,null,null,null,null,null,null,null,null,null,null,null,null,null,null,null,null,null,null,null,null,null,null,null,null,null,null,null,null,null,0,null,null,null,null,null,"","","","","","","","","","","","","","","","","","","","","","","","","","",0,null,"","","",0,"","","",0,0]
[{"$f":"ข้อมูลนักเรียน!B310","v":0},298,{"$f":"ข้อมูลนักเรียน!D310","v":0},null,null,null,null,null,null,null,null,null,null,null,null,null,null,null,null,null,null,null,null,null,null,null,null,null,null,null,null,null,null,null,null,null,null,null,0,null,null,null,null,null,"","","","","","","","","","","","","","","","","","","","","","","","","","",0,null,"","","",0,"","","",0,0]
[{"$f":"ข้อมูลนักเรียน!B311","v":0},299,{"$f":"ข้อมูลนักเรียน!D311","v":0},null,null,null,null,null,null,null,null,null,null,null,null,null,null,null,null,null,null,null,null,null,null,null,null,null,null,null,null,null,null,null,null,null,null,null,0,null,null,null,null,null,"","","","","","","","","","","","","","","","","","","","","","","","","","",0,null,"","","",0,"","","",0,0]
[{"$f":"ข้อมูลนักเรียน!B312","v":0},300,{"$f":"ข้อมูลนักเรียน!D312","v":0},null,null,null,null,null,null,null,null,null,null,null,null,null,null,null,null,null,null,null,null,null,null,null,null,null,null,null,null,null,null,null,null,null,null,null,0,null,null,null,null,null,"","","","","","","","","","","","","","","","","","","","","","","","","","",0,null,"","","",0,"","","",0,0]
[{"$f":"ข้อมูลนักเรียน!B313","v":0},301,{"$f":"ข้อมูลนักเรียน!D313","v":0},null,null,null,null,null,null,null,null,null,null,null,null,null,null,null,null,null,null,null,null,null,null,null,null,null,null,null,null,null,null,null,null,null,null,null,0,null,null,null,null,null,"","","","","","","","","","","","","","","","","","","","","","","","","","",0,null,"","","",0,"","","",0,0]
[{"$f":"ข้อมูลนักเรียน!B314","v":0},302,{"$f":"ข้อมูลนักเรียน!D314","v":0},null,null,null,null,null,null,null,null,null,null,null,null,null,null,null,null,null,null,null,null,null,null,null,null,null,null,null,null,null,null,null,null,null,null,null,0,null,null,null,null,null,"","","","","","","","","","","","","","","","","","","","","","","","","","",0,null,"","","",0,"","","",0,0]
[{"$f":"ข้อมูลนักเรียน!B315","v":0},303,{"$f":"ข้อมูลนักเรียน!D315","v":0},null,null,null,null,null,null,null,null,null,null,null,null,null,null,null,null,null,null,null,null,null,null,null,null,null,null,null,null,null,null,null,null,null,null,null,0,null,null,null,null,null,"","","","","","","","","","","","","","","","","","","","","","","","","","",0,null,"","","",0,"","","",0,0]
[{"$f":"ข้อมูลนักเรียน!B316","v":0},304,{"$f":"ข้อมูลนักเรียน!D316","v":0},null,null,null,null,null,null,null,null,null,null,null,null,null,null,null,null,null,null,null,null,null,null,null,null,null,null,null,null,null,null,null,null,null,null,null,0,null,null,null,null,null,"","","","","","","","","","","","","","","","","","","","","","","","","","",0,null,"","","",0,"","","",0,0]
[{"$f":"ข้อมูลนักเรียน!B317","v":0},305,{"$f":"ข้อมูลนักเรียน!D317","v":0},null,null,null,null,null,null,null,null,null,null,null,null,null,null,null,null,null,null,null,null,null,null,null,null,null,null,null,null,null,null,null,null,null,null,null,0,null,null,null,null,null,"","","","","","","","","","","","","","","","","","","","","","","","","","",0,null,"","","",0,"","","",0,0]
[{"$f":"ข้อมูลนักเรียน!B318","v":0},306,{"$f":"ข้อมูลนักเรียน!D318","v":0},null,null,null,null,null,null,null,null,null,null,null,null,null,null,null,null,null,null,null,null,null,null,null,null,null,null,null,null,null,null,null,null,null,null,null,0,null,null,null,null,null,"","","","","","","","","","","","","","","","","","","","","","","","","","",0,null,"","","",0,"","","",0,0]
[{"$f":"ข้อมูลนักเรียน!B319","v":0},307,{"$f":"ข้อมูลนักเรียน!D319","v":0},null,null,null,null,null,null,null,null,null,null,null,null,null,null,null,null,null,null,null,null,null,null,null,null,null,null,null,null,null,null,null,null,null,null,null,0,null,null,null,null,null,"","","","","","","","","","","","","","","","","","","","","","","","","","",0,null,"","","",0,"","","",0,0]
[{"$f":"ข้อมูลนักเรียน!B320","v":0},308,{"$f":"ข้อมูลนักเรียน!D320","v":0},null,null,null,null,null,null,null,null,null,null,null,null,null,null,null,null,null,null,null,null,null,null,null,null,null,null,null,null,null,null,null,null,null,null,null,0,null,null,null,null,null,"","","","","","","","","","","","","","","","","","","","","","","","","","",0,null,"","","",0,"","","",0,0]
[{"$f":"ข้อมูลนักเรียน!B321","v":0},309,{"$f":"ข้อมูลนักเรียน!D321","v":0},null,null,null,null,null,null,null,null,null,null,null,null,null,null,null,null,null,null,null,null,null,null,null,null,null,null,null,null,null,null,null,null,null,null,null,0,null,null,null,null,null,"","","","","","","","","","","","","","","","","","","","","","","","","","",0,null,"","","",0,"","","",0,0]
[{"$f":"ข้อมูลนักเรียน!B322","v":0},310,{"$f":"ข้อมูลนักเรียน!D322","v":0},null,null,null,null,null,null,null,null,null,null,null,null,null,null,null,null,null,null,null,null,null,null,null,null,null,null,null,null,null,null,null,null,null,null,null,0,null,null,null,null,null,"","","","","","","","","","","","","","","","","","","","","","","","","","",0,null,"","","",0,"","","",0,0]
[{"$f":"ข้อมูลนักเรียน!B323","v":0},311,{"$f":"ข้อมูลนักเรียน!D323","v":0},null,null,null,null,null,null,null,null,null,null,null,null,null,null,null,null,null,null,null,null,null,null,null,null,null,null,null,null,null,null,null,null,null,null,null,0,null,null,null,null,null,"","","","","","","","","","","","","","","","","","","","","","","","","","",0,null,"","","",0,"","","",0,0]
[{"$f":"ข้อมูลนักเรียน!B324","v":0},312,{"$f":"ข้อมูลนักเรียน!D324","v":0},null,null,null,null,null,null,null,null,null,null,null,null,null,null,null,null,null,null,null,null,null,null,null,null,null,null,null,null,null,null,null,null,null,null,null,0,null,null,null,null,null,"","","","","","","","","","","","","","","","","","","","","","","","","","",0,null,"","","",0,"","","",0,0]
[{"$f":"ข้อมูลนักเรียน!B325","v":0},313,{"$f":"ข้อมูลนักเรียน!D325","v":0},null,null,null,null,null,null,null,null,null,null,null,null,null,null,null,null,null,null,null,null,null,null,null,null,null,null,null,null,null,null,null,null,null,null,null,0,null,null,null,null,null,"","","","","","","","","","","","","","","","","","","","","","","","","","",0,null,"","","",0,"","","",0,0]
[{"$f":"ข้อมูลนักเรียน!B326","v":0},314,{"$f":"ข้อมูลนักเรียน!D326","v":0},null,null,null,null,null,null,null,null,null,null,null,null,null,null,null,null,null,null,null,null,null,null,null,null,null,null,null,null,null,null,null,null,null,null,null,0,null,null,null,null,null,"","","","","","","","","","","","","","","","","","","","","","","","","","",0,null,"","","",0,"","","",0,0]
[{"$f":"ข้อมูลนักเรียน!B327","v":0},315,{"$f":"ข้อมูลนักเรียน!D327","v":0},null,null,null,null,null,null,null,null,null,null,null,null,null,null,null,null,null,null,null,null,null,null,null,null,null,null,null,null,null,null,null,null,null,null,null,0,null,null,null,null,null,"","","","","","","","","","","","","","","","","","","","","","","","","","",0,null,"","","",0,"","","",0,0]
[{"$f":"ข้อมูลนักเรียน!B328","v":0},316,{"$f":"ข้อมูลนักเรียน!D328","v":0},null,null,null,null,null,null,null,null,null,null,null,null,null,null,null,null,null,null,null,null,null,null,null,null,null,null,null,null,null,null,null,null,null,null,null,0,null,null,null,null,null,"","","","","","","","","","","","","","","","","","","","","","","","","","",0,null,"","","",0,"","","",0,0]
[{"$f":"ข้อมูลนักเรียน!B329","v":0},317,{"$f":"ข้อมูลนักเรียน!D329","v":0},null,null,null,null,null,null,null,null,null,null,null,null,null,null,null,null,null,null,null,null,null,null,null,null,null,null,null,null,null,null,null,null,null,null,null,0,null,null,null,null,null,"","","","","","","","","","","","","","","","","","","","","","","","","","",0,null,"","","",0,"","","",0,0]
[{"$f":"ข้อมูลนักเรียน!B330","v":0},318,{"$f":"ข้อมูลนักเรียน!D330","v":0},null,null,null,null,null,null,null,null,null,null,null,null,null,null,null,null,null,null,null,null,null,null,null,null,null,null,null,null,null,null,null,null,null,null,null,0,null,null,null,null,null,"","","","","","","","","","","","","","","","","","","","","","","","","","",0,null,"","","",0,"","","",0,0]
[{"$f":"ข้อมูลนักเรียน!B331","v":0},319,{"$f":"ข้อมูลนักเรียน!D331","v":0},null,null,null,null,null,null,null,null,null,null,null,null,null,null,null,null,null,null,null,null,null,null,null,null,null,null,null,null,null,null,null,null,null,null,null,0,null,null,null,null,null,"","","","","","","","","","","","","","","","","","","","","","","","","","",0,null,"","","",0,"","","",0,0]
[{"$f":"ข้อมูลนักเรียน!B332","v":0},320,{"$f":"ข้อมูลนักเรียน!D332","v":0},null,null,null,null,null,null,null,null,null,null,null,null,null,null,null,null,null,null,null,null,null,null,null,null,null,null,null,null,null,null,null,null,null,null,null,0,null,null,null,null,null,"","","","","","","","","","","","","","","","","","","","","","","","","","",0,null,"","","",0,"","","",0,0]
[{"$f":"ข้อมูลนักเรียน!B333","v":0},321,{"$f":"ข้อมูลนักเรียน!D333","v":0},null,null,null,null,null,null,null,null,null,null,null,null,null,null,null,null,null,null,null,null,null,null,null,null,null,null,null,null,null,null,null,null,null,null,null,{"$f":"SUM(IF(G331=NumSci1,ScoreSci1),IF(H331=NumSci2,ScoreSci2),IF(I331=NumSci3,ScoreSci3),IF(J331=NumSci4,ScoreSci4),IF(K331=NumSci5,ScoreSci5),IF(L331=NumSci6,ScoreSci6),IF(M331=NumSci7,ScoreSci7),IF(N331=NumSci8,ScoreSci8),IF(O331=NumSci9,ScoreSci9),IF(P331=NumSci10,ScoreSci10),IF(Q331=NumSci11,ScoreSci11),IF(R331=NumSci12,ScoreSci12),IF(S331=NumSci13,ScoreSci13),IF(T331=NumSci14,ScoreSci14),IF(U331=NumSci15,ScoreSci15),IF(V331=NumSci16,ScoreSci16),IF(W331=NumSci17,ScoreSci17),IF(X331=NumSci18,ScoreSci18),IF(Y331=NumSci19,ScoreSci19),IF(Z331=NumSci20,ScoreSci20),IF(AA331=NumSci21,ScoreSci21),IF(AB331=NumSci22,ScoreSci22),IF(AC331=NumSci23,ScoreSci23),IF(AD331=NumSci24,ScoreSci24),,IF(AE331=NumSci25,ScoreSci25),IF(AF331=NumSci26,ScoreSci26),CC331)","v":0},null,null,null,null,null,{"$f":"IF(G331=\"\",\"\",IF(G331=NumSci1,\"✓\",\"X\"))","v":""},{"$f":"IF(H331=\"\",\"\",IF(H331=NumSci2,\"✓\",\"X\"))","v":""},{"$f":"IF(I331=\"\",\"\",IF(I331=NumSci3,\"✓\",\"X\"))","v":""},{"$f":"IF(J331=\"\",\"\",IF(J331=NumSci4,\"✓\",\"X\"))","v":""},{"$f":"IF(K331=\"\",\"\",IF(K331=NumSci5,\"✓\",\"X\"))","v":""},{"$f":"IF(L331=\"\",\"\",IF(L331=NumSci6,\"✓\",\"X\"))","v":""},{"$f":"IF(M331=\"\",\"\",IF(M331=NumSci7,\"✓\",\"X\"))","v":""},{"$f":"IF(N331=\"\",\"\",IF(N331=NumSci8,\"✓\",\"X\"))","v":""},{"$f":"IF(O331=\"\",\"\",IF(O331=NumSci9,\"✓\",\"X\"))","v":""},{"$f":"IF(P331=\"\",\"\",IF(P331=NumSci10,\"✓\",\"X\"))","v":""},{"$f":"IF(Q331=\"\",\"\",IF(Q331=NumSci11,\"✓\",\"X\"))","v":""},{"$f":"IF(R331=\"\",\"\",IF(R331=NumSci12,\"✓\",\"X\"))","v":""},{"$f":"IF(S331=\"\",\"\",IF(S331=NumSci13,\"✓\",\"X\"))","v":""},{"$f":"IF(T331=\"\",\"\",IF(T331=NumSci14,\"✓\",\"X\"))","v":""},{"$f":"IF(U331=\"\",\"\",IF(U331=NumSci15,\"✓\",\"X\"))","v":""},{"$f":"IF(V331=\"\",\"\",IF(V331=NumSci16,\"✓\",\"X\"))","v":""},{"$f":"IF(W331=\"\",\"\",IF(W331=NumSci17,\"✓\",\"X\"))","v":""},{"$f":"IF(X331=\"\",\"\",IF(X331=NumSci18,\"✓\",\"X\"))","v":""},{"$f":"IF(Y331=\"\",\"\",IF(Y331=NumSci19,\"✓\",\"X\"))","v":""},{"$f":"IF(Z331=\"\",\"\",IF(Z331=NumSci20,\"✓\",\"X\"))","v":""},{"$f":"IF(AA331=\"\",\"\",IF(AA331=NumSci21,\"✓\",\"X\"))","v":""},{"$f":"IF(AB331=\"\",\"\",IF(AB331=NumSci22,\"✓\",\"X\"))","v":""},{"$f":"IF(AC331=\"\",\"\",IF(AC331=NumSci23,\"✓\",\"X\"))","v":""},{"$f":"IF(AD331=\"\",\"\",IF(AD331=NumSci24,\"✓\",\"X\"))","v":""},{"$f":"IF(AE331=\"\",\"\",IF(AE331=NumSci25,\"✓\",\"X\"))","v":""},{"$f":"IF(AF331=\"\",\"\",IF(AF331=NumSci26,\"✓\",\"X\"))","v":""},{"$f":"COUNTIF(AS331:BR331,\"✓\")","v":0},null,{"$f":"IF(AG331=\"\",\"\",IF(AG331=NumSci271,\"✓\",\"X\"))","v":""},{"$f":"IF(AH331=\"\",\"\",IF(AH331=NumSci272,\"✓\",\"X\"))","v":""},{"$f":"IF(AI331=\"\",\"\",IF(AI331=NumSci273,\"✓\",\"X\"))","v":""},{"$f":"IF(COUNTIF(AG331,NumSci271)+COUNTIF(AH331,NumSci272)+COUNTIF(AI331,NumSci273)=3,4.5,IF(COUNTIF(AG331,NumSci271)+COUNTIF(AH331,NumSci272)+COUNTIF(AI331,NumSci273)=2,3,IF(COUNTIF(AG331,NumSci271)+COUNTIF(AH331,NumSci272)+COUNTIF(AI331,NumSci273)=1,0,0)))","v":0},{"$f":"IF(AJ331=\"\",\"\",IF(AJ331=NumSci281,\"✓\",\"X\"))","v":""},{"$f":"IF(AK331=\"\",\"\",IF(AK331=NumSci282,\"✓\",\"X\"))","v":""},{"$f":"IF(AL331=\"\",\"\",IF(AL331=NumSci283,\"✓\",\"X\"))","v":""},{"$f":"IF(COUNTIF(AJ331,NumSci281)+COUNTIF(AK331,NumSci282)+COUNTIF(AL331,NumSci283)=3,4.5,IF(COUNTIF(AJ331,NumSci281)+COUNTIF(AK331,NumSci282)+COUNTIF(AL331,NumSci283)=2,3,IF(COUNTIF(AJ331,NumSci281)+COUNTIF(AK331,NumSci282)+COUNTIF(AL331,NumSci283)=1,0,0)))","v":0},0]
[{"$f":"ข้อมูลนักเรียน!B334","v":0},322,{"$f":"ข้อมูลนักเรียน!D334","v":0},null,null,null,null,null,null,null,null,null,null,null,null,null,null,null,null,null,null,null,null,null,null,null,null,null,null,null,null,null,null,null,null,null,null,null,0,null,null,null,null,null,"","","","","","","","","","","","","","","","","","","","","","","","","","",0,null,"","","",0,"","","",0,{"$f":"SUM(BX332,CB332)","v":0}]
[{"$f":"ข้อมูลนักเรียน!B335","v":0},323,{"$f":"ข้อมูลนักเรียน!D335","v":0},null,null,null,null,null,null,null,null,null,null,null,null,null,null,null,null,null,null,null,null,null,null,null,null,null,null,null,null,null,null,null,null,null,null,null,0,null,null,null,null,null,"","","","","","","","","","","","","","","","","","","","","","","","","","",0,null,"","","",0,"","","",0,0]
[{"$f":"ข้อมูลนักเรียน!B336","v":0},324,{"$f":"ข้อมูลนักเรียน!D336","v":0},null,null,null,null,null,null,null,null,null,null,null,null,null,null,null,null,null,null,null,null,null,null,null,null,null,null,null,null,null,null,null,null,null,null,null,0,null,null,null,null,null,"","","","","","","","","","","","","","","","","","","","","","","","","","",0,null,"","","",0,"","","",0,0]
[{"$f":"ข้อมูลนักเรียน!B337","v":0},325,{"$f":"ข้อมูลนักเรียน!D337","v":0},null,null,null,null,null,null,null,null,null,null,null,null,null,null,null,null,null,null,null,null,null,null,null,null,null,null,null,null,null,null,null,null,null,null,null,0,null,null,null,null,null,"","","","","","","","","","","","","","","","","","","","","","","","","","",0,null,"","","",0,"","","",0,0]
[{"$f":"ข้อมูลนักเรียน!B338","v":0},326,{"$f":"ข้อมูลนักเรียน!D338","v":0},null,null,null,null,null,null,null,null,null,null,null,null,null,null,null,null,null,null,null,null,null,null,null,null,null,null,null,null,null,null,null,null,null,null,null,0,null,null,null,null,null,"","","","","","","","","","","","","","","","","","","","","","","","","","",0,null,"","","",0,"","","",0,0]
[{"$f":"ข้อมูลนักเรียน!B339","v":0},327,{"$f":"ข้อมูลนักเรียน!D339","v":0},null,null,null,null,null,null,null,null,null,null,null,null,null,null,null,null,null,null,null,null,null,null,null,null,null,null,null,null,null,null,null,null,null,null,null,0,null,null,null,null,null,"","","","","","","","","","","","","","","","","","","","","","","","","","",0,null,"","","",0,"","","",0,0]
[{"$f":"ข้อมูลนักเรียน!B340","v":0},328,{"$f":"ข้อมูลนักเรียน!D340","v":0},null,null,null,null,null,null,null,null,null,null,null,null,null,null,null,null,null,null,null,null,null,null,null,null,null,null,null,null,null,null,null,null,null,null,null,0,null,null,null,null,null,"","","","","","","","","","","","","","","","","","","","","","","","","","",0,null,"","","",0,"","","",0,0]
[{"$f":"ข้อมูลนักเรียน!B341","v":0},329,{"$f":"ข้อมูลนักเรียน!D341","v":0},null,null,null,null,null,null,null,null,null,null,null,null,null,null,null,null,null,null,null,null,null,null,null,null,null,null,null,null,null,null,null,null,null,null,null,0,null,null,null,null,null,"","","","","","","","","","","","","","","","","","","","","","","","","","",0,null,"","","",0,"","","",0,0]
[{"$f":"ข้อมูลนักเรียน!B342","v":0},330,{"$f":"ข้อมูลนักเรียน!D342","v":0},null,null,null,null,null,null,null,null,null,null,null,null,null,null,null,null,null,null,null,null,null,null,null,null,null,null,null,null,null,null,null,null,null,null,null,0,null,null,null,null,null,"","","","","","","","","","","","","","","","","","","","","","","","","","",0,null,"","","",0,"","","",0,0]
[{"$f":"ข้อมูลนักเรียน!B343","v":0},331,{"$f":"ข้อมูลนักเรียน!D343","v":0},null,null,null,null,null,null,null,null,null,null,null,null,null,null,null,null,null,null,null,null,null,null,null,null,null,null,null,null,null,null,null,null,null,null,null,0,null,null,null,null,null,"","","","","","","","","","","","","","","","","","","","","","","","","","",0,null,"","","",0,"","","",0,0]
[{"$f":"ข้อมูลนักเรียน!B344","v":0},332,{"$f":"ข้อมูลนักเรียน!D344","v":0},null,null,null,null,null,null,null,null,null,null,null,null,null,null,null,null,null,null,null,null,null,null,null,null,null,null,null,null,null,null,null,null,null,null,null,0,null,null,null,null,null,"","","","","","","","","","","","","","","","","","","","","","","","","","",0,null,"","","",0,"","","",0,0]
[{"$f":"ข้อมูลนักเรียน!B345","v":0},333,{"$f":"ข้อมูลนักเรียน!D345","v":0},null,null,null,null,null,null,null,null,null,null,null,null,null,null,null,null,null,null,null,null,null,null,null,null,null,null,null,null,null,null,null,null,null,null,null,0,null,null,null,null,null,"","","","","","","","","","","","","","","","","","","","","","","","","","",0,null,"","","",0,"","","",0,0]
[{"$f":"ข้อมูลนักเรียน!B346","v":0},334,{"$f":"ข้อมูลนักเรียน!D346","v":0},null,null,null,null,null,null,null,null,null,null,null,null,null,null,null,null,null,null,null,null,null,null,null,null,null,null,null,null,null,null,null,null,null,null,null,0,null,null,null,null,null,"","","","","","","","","","","","","","","","","","","","","","","","","","",0,null,"","","",0,"","","",0,0]
[{"$f":"ข้อมูลนักเรียน!B347","v":0},335,{"$f":"ข้อมูลนักเรียน!D347","v":0},null,null,null,null,null,null,null,null,null,null,null,null,null,null,null,null,null,null,null,null,null,null,null,null,null,null,null,null,null,null,null,null,null,null,null,0,null,null,null,null,null,"","","","","","","","","","","","","","","","","","","","","","","","","","",0,null,"","","",0,"","","",0,0]
[{"$f":"ข้อมูลนักเรียน!B348","v":0},336,{"$f":"ข้อมูลนักเรียน!D348","v":0},null,null,null,null,null,null,null,null,null,null,null,null,null,null,null,null,null,null,null,null,null,null,null,null,null,null,null,null,null,null,null,null,null,null,null,0,null,null,null,null,null,"","","","","","","","","","","","","","","","","","","","","","","","","","",0,null,"","","",0,"","","",0,0]
[{"$f":"ข้อมูลนักเรียน!B349","v":0},337,{"$f":"ข้อมูลนักเรียน!D349","v":0},null,null,null,null,null,null,null,null,null,null,null,null,null,null,null,null,null,null,null,null,null,null,null,null,null,null,null,null,null,null,null,null,null,null,null,0,null,null,null,null,null,"","","","","","","","","","","","","","","","","","","","","","","","","","",0,null,"","","",0,"","","",0,0]
[{"$f":"ข้อมูลนักเรียน!B350","v":0},338,{"$f":"ข้อมูลนักเรียน!D350","v":0},null,null,null,null,null,null,null,null,null,null,null,null,null,null,null,null,null,null,null,null,null,null,null,null,null,null,null,null,null,null,null,null,null,null,null,0,null,null,null,null,null,"","","","","","","","","","","","","","","","","","","","","","","","","","",0,null,"","","",0,"","","",0,0]
[{"$f":"ข้อมูลนักเรียน!B351","v":0},339,{"$f":"ข้อมูลนักเรียน!D351","v":0},null,null,null,null,null,null,null,null,null,null,null,null,null,null,null,null,null,null,null,null,null,null,null,null,null,null,null,null,null,null,null,null,null,null,null,0,null,null,null,null,null,"","","","","","","","","","","","","","","","","","","","","","","","","","",0,null,"","","",0,"","","",0,0]
[{"$f":"ข้อมูลนักเรียน!B352","v":0},340,{"$f":"ข้อมูลนักเรียน!D352","v":0},null,null,null,null,null,null,null,null,null,null,null,null,null,null,null,null,null,null,null,null,null,null,null,null,null,null,null,null,null,null,null,null,null,null,null,0,null,null,null,null,null,"","","","","","","","","","","","","","","","","","","","","","","","","","",0,null,"","","",0,"","","",0,0]
[{"$f":"ข้อมูลนักเรียน!B353","v":0},341,{"$f":"ข้อมูลนักเรียน!D353","v":0},null,null,null,null,null,null,null,null,null,null,null,null,null,null,null,null,null,null,null,null,null,null,null,null,null,null,null,null,null,null,null,null,null,null,null,0,null,null,null,null,null,"","","","","","","","","","","","","","","","","","","","","","","","","","",0,null,"","","",0,"","","",0,0]
[{"$f":"ข้อมูลนักเรียน!B354","v":0},342,{"$f":"ข้อมูลนักเรียน!D354","v":0},null,null,null,null,null,null,null,null,null,null,null,null,null,null,null,null,null,null,null,null,null,null,null,null,null,null,null,null,null,null,null,null,null,null,null,0,null,null,null,null,null,"","","","","","","","","","","","","","","","","","","","","","","","","","",0,null,"","","",0,"","","",0,0]
[{"$f":"ข้อมูลนักเรียน!B355","v":0},343,{"$f":"ข้อมูลนักเรียน!D355","v":0},null,null,null,null,null,null,null,null,null,null,null,null,null,null,null,null,null,null,null,null,null,null,null,null,null,null,null,null,null,null,null,null,null,null,null,0,null,null,null,null,null,"","","","","","","","","","","","","","","","","","","","","","","","","","",0,null,"","","",0,"","","",0,0]
[{"$f":"ข้อมูลนักเรียน!B356","v":0},344,{"$f":"ข้อมูลนักเรียน!D356","v":0},null,null,null,null,null,null,null,null,null,null,null,null,null,null,null,null,null,null,null,null,null,null,null,null,null,null,null,null,null,null,null,null,null,null,null,0,null,null,null,null,null,"","","","","","","","","","","","","","","","","","","","","","","","","","",0,null,"","","",0,"","","",0,0]
[{"$f":"ข้อมูลนักเรียน!B357","v":0},345,{"$f":"ข้อมูลนักเรียน!D357","v":0},null,null,null,null,null,null,null,null,null,null,null,null,null,null,null,null,null,null,null,null,null,null,null,null,null,null,null,null,null,null,null,null,null,null,null,0,null,null,null,null,null,"","","","","","","","","","","","","","","","","","","","","","","","","","",0,null,"","","",0,"","","",0,0]
[{"$f":"ข้อมูลนักเรียน!B358","v":0},346,{"$f":"ข้อมูลนักเรียน!D358","v":0},null,null,null,null,null,null,null,null,null,null,null,null,null,null,null,null,null,null,null,null,null,null,null,null,null,null,null,null,null,null,null,null,null,null,null,0,null,null,null,null,null,"","","","","","","","","","","","","","","","","","","","","","","","","","",0,null,"","","",0,"","","",0,0]
[{"$f":"ข้อมูลนักเรียน!B359","v":0},347,{"$f":"ข้อมูลนักเรียน!D359","v":0},null,null,null,null,null,null,null,null,null,null,null,null,null,null,null,null,null,null,null,null,null,null,null,null,null,null,null,null,null,null,null,null,null,null,null,0,null,null,null,null,null,"","","","","","","","","","","","","","","","","","","","","","","","","","",0,null,"","","",0,"","","",0,0]
[{"$f":"ข้อมูลนักเรียน!B360","v":0},348,{"$f":"ข้อมูลนักเรียน!D360","v":0},null,null,null,null,null,null,null,null,null,null,null,null,null,null,null,null,null,null,null,null,null,null,null,null,null,null,null,null,null,null,null,null,null,null,null,0,null,null,null,null,null,"","","","","","","","","","","","","","","","","","","","","","","","","","",0,null,"","","",0,"","","",0,0]
[{"$f":"ข้อมูลนักเรียน!B361","v":0},349,{"$f":"ข้อมูลนักเรียน!D361","v":0},null,null,null,null,null,null,null,null,null,null,null,null,null,null,null,null,null,null,null,null,null,null,null,null,null,null,null,null,null,null,null,null,null,null,null,0,null,null,null,null,null,"","","","","","","","","","","","","","","","","","","","","","","","","","",0,null,"","","",0,"","","",0,0]
[{"$f":"ข้อมูลนักเรียน!B362","v":0},350,{"$f":"ข้อมูลนักเรียน!D362","v":0},null,null,null,null,null,null,null,null,null,null,null,null,null,null,null,null,null,null,null,null,null,null,null,null,null,null,null,null,null,null,null,null,null,null,null,0,null,null,null,null,null,"","","","","","","","","","","","","","","","","","","","","","","","","","",0,null,"","","",0,"","","",0,0]

{"sheet":"ภาษาอังกฤษ","index":5,"n_rows":360,"n_cols":93,"rows_kept":360,"cut":false,"hidden":false,"merged":[[354,2,354,5],[355,2,355,5],[356,2,356,5],[357,2,357,5],[358,2,358,5],[359,2,359,5],[348,2,348,5],[349,2,349,5],[350,2,350,5],[351,2,351,5],[352,2,352,5],[353,2,353,5],[342,2,342,5],[343,2,343,5],[344,2,344,5],[345,2,345,5],[346,2,346,5],[347,2,347,5],[336,2,336,5],[337,2,337,5],[338,2,338,5],[339,2,339,5],[340,2,340,5],[341,2,341,5],[330,2,330,5],[331,2,331,5],[332,2,332,5],[333,2,333,5],[334,2,334,5],[335,2,335,5],[324,2,324,5],[325,2,325,5],[326,2,326,5],[327,2,327,5],[328,2,328,5],[329,2,329,5],[318,2,318,5],[319,2,319,5],[320,2,320,5],[321,2,321,5],[322,2,322,5],[323,2,323,5],[312,2,312,5],[313,2,313,5],[314,2,314,5],[315,2,315,5],[316,2,316,5],[317,2,317,5],[306,2,306,5],[307,2,307,5],[308,2,308,5],[309,2,309,5],[310,2,310,5],[311,2,311,5],[300,2,300,5],[301,2,301,5],[302,2,302,5],[303,2,303,5],[304,2,304,5],[305,2,305,5],[294,2,294,5],[295,2,295,5],[296,2,296,5],[297,2,297,5],[298,2,298,5],[299,2,299,5],[288,2,288,5],[289,2,289,5],[290,2,290,5],[291,2,291,5],[292,2,292,5],[293,2,293,5],[282,2,282,5],[283,2,283,5],[284,2,284,5],[285,2,285,5],[286,2,286,5],[287,2,287,5],[276,2,276,5],[277,2,277,5],[278,2,278,5],[279,2,279,5],[280,2,280,5],[281,2,281,5],[270,2,270,5],[271,2,271,5],[272,2,272,5],[273,2,273,5],[274,2,274,5],[275,2,275,5],[264,2,264,5],[265,2,265,5],[266,2,266,5],[267,2,267,5],[268,2,268,5],[269,2,269,5],[258,2,258,5],[259,2,259,5],[260,2,260,5],[261,2,261,5],[262,2,262,5],[263,2,263,5],[252,2,252,5],[253,2,253,5],[254,2,254,5],[255,2,255,5],[256,2,256,5],[257,2,257,5],[246,2,246,5],[247,2,247,5],[248,2,248,5],[249,2,249,5],[250,2,250,5],[251,2,251,5],[240,2,240,5],[241,2,241,5],[242,2,242,5],[243,2,243,5],[244,2,244,5],[245,2,245,5],[234,2,234,5],[235,2,235,5],[236,2,236,5],[237,2,237,5],[238,2,238,5],[239,2,239,5],[228,2,228,5],[229,2,229,5],[230,2,230,5],[231,2,231,5],[232,2,232,5],[233,2,233,5],[222,2,222,5],[223,2,223,5],[224,2,224,5],[225,2,225,5],[226,2,226,5],[227,2,227,5],[216,2,216,5],[217,2,217,5],[218,2,218,5],[219,2,219,5],[220,2,220,5],[221,2,221,5],[210,2,210,5],[211,2,211,5],[212,2,212,5],[213,2,213,5],[214,2,214,5],[215,2,215,5],[204,2,204,5],[205,2,205,5],[206,2,206,5],[207,2,207,5],[208,2,208,5],[209,2,209,5],[198,2,198,5],[199,2,199,5],[200,2,200,5],[201,2,201,5],[202,2,202,5],[203,2,203,5],[192,2,192,5],[193,2,193,5],[194,2,194,5],[195,2,195,5],[196,2,196,5],[197,2,197,5],[186,2,186,5],[187,2,187,5],[188,2,188,5],[189,2,189,5],[190,2,190,5],[191,2,191,5],[180,2,180,5],[181,2,181,5],[182,2,182,5],[183,2,183,5],[184,2,184,5],[185,2,185,5],[174,2,174,5],[175,2,175,5],[176,2,176,5],[177,2,177,5],[178,2,178,5],[179,2,179,5],[168,2,168,5],[169,2,169,5],[170,2,170,5],[171,2,171,5],[172,2,172,5],[173,2,173,5],[162,2,162,5],[163,2,163,5],[164,2,164,5],[165,2,165,5],[166,2,166,5],[167,2,167,5],[156,2,156,5],[157,2,157,5],[158,2,158,5],[159,2,159,5],[160,2,160,5],[161,2,161,5],[150,2,150,5],[151,2,151,5],[152,2,152,5],[153,2,153,5],[154,2,154,5],[155,2,155,5],[144,2,144,5],[145,2,145,5],[146,2,146,5],[147,2,147,5],[148,2,148,5],[149,2,149,5],[138,2,138,5],[139,2,139,5],[140,2,140,5],[141,2,141,5],[142,2,142,5],[143,2,143,5],[132,2,132,5],[133,2,133,5],[134,2,134,5],[135,2,135,5],[136,2,136,5],[137,2,137,5],[126,2,126,5],[127,2,127,5],[128,2,128,5],[129,2,129,5],[130,2,130,5],[131,2,131,5],[120,2,120,5],[121,2,121,5],[122,2,122,5],[123,2,123,5],[124,2,124,5],[125,2,125,5],[114,2,114,5],[115,2,115,5],[116,2,116,5],[117,2,117,5],[118,2,118,5],[119,2,119,5],[108,2,108,5],[109,2,109,5],[110,2,110,5],[111,2,111,5],[112,2,112,5],[113,2,113,5],[102,2,102,5],[103,2,103,5],[104,2,104,5],[105,2,105,5],[106,2,106,5],[107,2,107,5],[96,2,96,5],[97,2,97,5],[98,2,98,5],[99,2,99,5],[100,2,100,5],[101,2,101,5],[90,2,90,5],[91,2,91,5],[92,2,92,5],[93,2,93,5],[94,2,94,5],[95,2,95,5],[84,2,84,5],[85,2,85,5],[86,2,86,5],[87,2,87,5],[88,2,88,5],[89,2,89,5],[78,2,78,5],[79,2,79,5],[80,2,80,5],[81,2,81,5],[82,2,82,5],[83,2,83,5],[72,2,72,5],[73,2,73,5],[74,2,74,5],[75,2,75,5],[76,2,76,5],[77,2,77,5],[66,2,66,5],[67,2,67,5],[68,2,68,5],[69,2,69,5],[70,2,70,5],[71,2,71,5],[60,2,60,5],[61,2,61,5],[62,2,62,5],[63,2,63,5],[64,2,64,5],[65,2,65,5],[54,2,54,5],[55,2,55,5],[56,2,56,5],[57,2,57,5],[58,2,58,5],[59,2,59,5],[48,2,48,5],[49,2,49,5],[50,2,50,5],[51,2,51,5],[52,2,52,5],[53,2,53,5],[42,2,42,5],[43,2,43,5],[44,2,44,5],[45,2,45,5],[46,2,46,5],[47,2,47,5],[36,2,36,5],[37,2,37,5],[38,2,38,5],[39,2,39,5],[40,2,40,5],[41,2,41,5],[30,2,30,5],[31,2,31,5],[32,2,32,5],[33,2,33,5],[34,2,34,5],[35,2,35,5],[24,2,24,5],[25,2,25,5],[26,2,26,5],[27,2,27,5],[28,2,28,5],[29,2,29,5],[1,6,2,26],[4,6,4,26],[7,6,7,26],[18,2,18,5],[19,2,19,5],[20,2,20,5],[21,2,21,5],[22,2,22,5],[23,2,23,5],[12,2,12,5],[13,2,13,5],[14,2,14,5],[15,2,15,5],[16,2,16,5],[17,2,17,5],[7,52,7,53],[9,2,9,5],[10,2,10,5],[11,2,11,5],[4,0,4,3],[4,48,4,50],[5,6,5,46],[6,0,6,3],[6,4,6,5],[6,6,6,46],[4,52,4,58]]}
[]
[null,null,null,null,null,null," โปรแกรมตรวจข้อสอบวินิจฉัย  ชั้นประถมศึกษาปีที่ 6"]
[]
[]
["จำนวนนักเรียนที่เข้าสอบ",null,null,null,4,"คน","รายวิชาภาษาอังกฤษ",null,null,null,null,null,null,null,null,null,null,null,null,null,null,null,null,null,null,null,null,null,null,null,null,null,null,null,null,null,null,null,null,null,null,null,null,null,null,null,null,null,"สรุปการตอบข้อสอบรายข้อ",null,null,null,"การตอบข้อสอบแต่ละข้อของผู้สอบ"]
[]
["ค่าเฉลี่ยของผู้เข้าสอบเท่ากับ",null,null,null,{"$f":"IF($E$5=\"\",\"\",SUM(AU11:AU360)/E5)","v":0}]
[null,null,null,null,null,null,{"$f":"\"โรงเรียน\"&ข้อมูลนักเรียน!D4","v":"โรงเรียนพิมพ์ชื่อโรงเรียน"},null,null,null,null,null,null,null,null,null,null,null,null,null,null,null,null,null,null,null,null,null,null,null,null,null,null,null,null,null,null,null,null,null,null,null,null,null,null,null,null,null,"ตอนที่ 1",null,null,null,"ตอนที่ 1"]
[]
["ห้อง","ลำดับที่","ชื่อ-สกุล",null,null,null,"ข้อ 1","ข้อ 2","ข้อ 3","ข้อ 4","ข้อ 5","ข้อ 6","ข้อ 7","ข้อ 8","ข้อ 9","ข้อ 10","ข้อ 11","ข้อ 12","ข้อ 13","ข้อ 14","ข้อ 15","ข้อ 16","ข้อ 17","ข้อ 18","ข้อ 19","ข้อ 20","ข้อ 21","ข้อ 22","ข้อ 23","ข้อ 24","ข้อ 25","ข้อ 26","ข้อ 27","ข้อ 28","ข้อ 29","ข้อ 30","ข้อ 31","ข้อ 32","ข้อ 33","ข้อ 34","ข้อ 35","ข้อ 36","ข้อ 37","ข้อ 38","ข้อ 39","ข้อ 40","คะแนน",null,"ข้อที่","จำนวนผู้ตอบถูก(คน)","คิดเป็น %",null,"ข้อ 1","ข้อ 2","ข้อ 3","ข้อ 4","ข้อ 5","ข้อ 6","ข้อ 7","ข้อ 8","ข้อ 9","ข้อ 10","ข้อ 11","ข้อ 12","ข้อ 13","ข้อ 14","ข้อ 15","ข้อ 16","ข้อ 17","ข้อ 18","ข้อ 19","ข้อ 20","ข้อ 21","ข้อ 22","ข้อ 23","ข้อ 24","ข้อ 25","ข้อ 26","ข้อ 27","ข้อ 28","ข้อ 29","ข้อ 30","ข้อ 31","ข้อ 32","ข้อ 33","ข้อ 34","ข้อ 35","ข้อ 36","ข้อ 37","ข้อ 38","ข้อ 39","ข้อ 40","จำนวนข้อที่ตอบถูก"]
[{"$f":"ข้อมูลนักเรียน!B13","v":"1"},1,{"$f":"ข้อมูลนักเรียน!D13","v":"นายก"},null,null,null,null,null,null,null,null,null,null,null,null,null,null,null,null,null,null,null,null,null,null,null,null,null,null,null,null,null,null,null,null,null,null,null,null,null,null,null,null,null,null,null,{"$f":"SUM(IF(G11=NumEn1,ScoreEn1),IF(H11=NumEn2,ScoreEn2),IF(I11=NumEn3,ScoreEn3),IF(J11=NumEn4,ScoreEn4),IF(K11=NumEn5,ScoreEn5),IF(L11=NumEn6,ScoreEn6),IF(M11=NumEn7,ScoreEn7),IF(N11=NumEn8,ScoreEn8),IF(O11=NumEn9,ScoreEn9),IF(P11=NumEn10,ScoreEn10),IF(Q11=NumEn11,ScoreEn11),IF(R11=NumEn12,ScoreEn12),IF(S11=NumEn13,ScoreEn13),IF(T11=NumEn14,ScoreEn14),IF(U11=NumEn15,ScoreEn15),IF(V11=NumEn16,ScoreEn16),IF(W11=NumEn17,ScoreEn17),IF(X11=NumEn18,ScoreEn18),IF(Y11=NumEn19,ScoreEn19),IF(Z11=NumEn20,ScoreEn20),IF(AA11=NumEn21,ScoreEn21),IF(AB11=NumEn22,ScoreEn22),IF(AC11=NumEn23,ScoreEn23),IF(AD11=NumEn24,ScoreEn24),IF(AE11=NumEn25,ScoreEn25),IF(AF11=NumEn26,ScoreEn26),IF(AG11=NumEn27,ScoreEn27),IF(AH11=NumEn28,ScoreEn28),IF(AI11=NumEn29,ScoreEn29),IF(AJ11=NumEn30,ScoreEn30),IF(AK11=NumEn31,ScoreEn31),IF(AL11=NumEn32,ScoreEn32),IF(AM11=NumEn33,ScoreEn33),IF(AN11=NumEn34,ScoreEn34),IF(AO11=NumEn35,ScoreEn35),IF(AP11=NumEn36,ScoreEn36),IF(AQ11=NumEn37,ScoreEn37),IF(AR11=NumEn38,ScoreEn38),IF(AS11=NumEn39,ScoreEn39),IF(AT11=NumEn40,ScoreEn40))","v":0},null,"ข้อ 1",{"$f":"COUNTIF(BA11:BA360,\"✓\")","v":0},{"$f":"IF($E$5=\"\",\"\",(AX11/$E$5)*100)","v":0},null,{"$f":"IF(G11=\"\",\"\",IF(G11=NumEn1,\"✓\",\"X\"))","v":""},{"$f":"IF(H11=\"\",\"\",IF(H11=NumEn2,\"✓\",\"X\"))","v":""},{"$f":"IF(I11=\"\",\"\",IF(I11=NumEn3,\"✓\",\"X\"))","v":""},{"$f":"IF(J11=\"\",\"\",IF(J11=NumEn4,\"✓\",\"X\"))","v":""},{"$f":"IF(K11=\"\",\"\",IF(K11=NumEn5,\"✓\",\"X\"))","v":""},{"$f":"IF(L11=\"\",\"\",IF(L11=NumEn6,\"✓\",\"X\"))","v":""},{"$f":"IF(M11=\"\",\"\",IF(M11=NumEn7,\"✓\",\"X\"))","v":""},{"$f":"IF(N11=\"\",\"\",IF(N11=NumEn8,\"✓\",\"X\"))","v":""},{"$f":"IF(O11=\"\",\"\",IF(O11=NumEn9,\"✓\",\"X\"))","v":""},{"$f":"IF(P11=\"\",\"\",IF(P11=NumEn10,\"✓\",\"X\"))","v":""},{"$f":"IF(Q11=\"\",\"\",IF(Q11=NumEn11,\"✓\",\"X\"))","v":""},{"$f":"IF(R11=\"\",\"\",IF(R11=NumEn12,\"✓\",\"X\"))","v":""},{"$f":"IF(S11=\"\",\"\",IF(S11=NumEn13,\"✓\",\"X\"))","v":""},{"$f":"IF(T11=\"\",\"\",IF(T11=NumEn14,\"✓\",\"X\"))","v":""},{"$f":"IF(U11=\"\",\"\",IF(U11=NumEn15,\"✓\",\"X\"))","v":""},{"$f":"IF(V11=\"\",\"\",IF(V11=NumEn16,\"✓\",\"X\"))","v":""},{"$f":"IF(W11=\"\",\"\",IF(W11=NumEn17,\"✓\",\"X\"))","v":""},{"$f":"IF(X11=\"\",\"\",IF(X11=NumEn18,\"✓\",\"X\"))","v":""},{"$f":"IF(Y11=\"\",\"\",IF(Y11=NumEn19,\"✓\",\"X\"))","v":""},{"$f":"IF(Z11=\"\",\"\",IF(Z11=NumEn20,\"✓\",\"X\"))","v":""},{"$f":"IF(AA11=\"\",\"\",IF(AA11=NumEn21,\"✓\",\"X\"))","v":""},{"$f":"IF(AB11=\"\",\"\",IF(AB11=NumEn22,\"✓\",\"X\"))","v":""},{"$f":"IF(AC11=\"\",\"\",IF(AC11=NumEn23,\"✓\",\"X\"))","v":""},{"$f":"IF(AD11=\"\",\"\",IF(AD11=NumEn24,\"✓\",\"X\"))","v":""},{"$f":"IF(AE11=\"\",\"\",IF(AE11=NumEn25,\"✓\",\"X\"))","v":""},{"$f":"IF(AF11=\"\",\"\",IF(AF11=NumEn26,\"✓\",\"X\"))","v":""},{"$f":"IF(AG11=\"\",\"\",IF(AG11=NumEn27,\"✓\",\"X\"))","v":""},{"$f":"IF(AH11=\"\",\"\",IF(AH11=NumEn28,\"✓\",\"X\"))","v":""},{"$f":"IF(AI11=\"\",\"\",IF(AI11=NumEn29,\"✓\",\"X\"))","v":""},{"$f":"IF(AJ11=\"\",\"\",IF(AJ11=NumEn30,\"✓\",\"X\"))","v":""},{"$f":"IF(AK11=\"\",\"\",IF(AK11=NumEn31,\"✓\",\"X\"))","v":""},{"$f":"IF(AL11=\"\",\"\",IF(AL11=NumEn32,\"✓\",\"X\"))","v":""},{"$f":"IF(AM11=\"\",\"\",IF(AM11=NumEn33,\"✓\",\"X\"))","v":""},{"$f":"IF(AN11=\"\",\"\",IF(AN11=NumEn34,\"✓\",\"X\"))","v":""},{"$f":"IF(AO11=\"\",\"\",IF(AO11=NumEn35,\"✓\",\"X\"))","v":""},{"$f":"IF(AP11=\"\",\"\",IF(AP11=NumEn36,\"✓\",\"X\"))","v":""},{"$f":"IF(AQ11=\"\",\"\",IF(AQ11=NumEn37,\"✓\",\"X\"))","v":""},{"$f":"IF(AR11=\"\",\"\",IF(AR11=NumEn38,\"✓\",\"X\"))","v":""},{"$f":"IF(AS11=\"\",\"\",IF(AS11=NumEn39,\"✓\",\"X\"))","v":""},{"$f":"IF(AT11=\"\",\"\",IF(AT11=NumEn40,\"✓\",\"X\"))","v":""},{"$f":"COUNTIF(BA11:CN11,\"✓\")","v":0}]
[{"$f":"ข้อมูลนักเรียน!B14","v":"1"},2,{"$f":"ข้อมูลนักเรียน!D14","v":"นายข"},null,null,null,null,null,null,null,null,null,null,null,null,null,null,null,null,null,null,null,null,null,null,null,null,null,null,null,null,null,null,null,null,null,null,null,null,null,null,null,null,null,null,null,{"$f":"SUM(IF(G12=NumEn1,ScoreEn1),IF(H12=NumEn2,ScoreEn2),IF(I12=NumEn3,ScoreEn3),IF(J12=NumEn4,ScoreEn4),IF(K12=NumEn5,ScoreEn5),IF(L12=NumEn6,ScoreEn6),IF(M12=NumEn7,ScoreEn7),IF(N12=NumEn8,ScoreEn8),IF(O12=NumEn9,ScoreEn9),IF(P12=NumEn10,ScoreEn10),IF(Q12=NumEn11,ScoreEn11),IF(R12=NumEn12,ScoreEn12),IF(S12=NumEn13,ScoreEn13),IF(T12=NumEn14,ScoreEn14),IF(U12=NumEn15,ScoreEn15),IF(V12=NumEn16,ScoreEn16),IF(W12=NumEn17,ScoreEn17),IF(X12=NumEn18,ScoreEn18),IF(Y12=NumEn19,ScoreEn19),IF(Z12=NumEn20,ScoreEn20),IF(AA12=NumEn21,ScoreEn21),IF(AB12=NumEn22,ScoreEn22),IF(AC12=NumEn23,ScoreEn23),IF(AD12=NumEn24,ScoreEn24),IF(AE12=NumEn25,ScoreEn25),IF(AF12=NumEn26,ScoreEn26),IF(AG12=NumEn27,ScoreEn27),IF(AH12=NumEn28,ScoreEn28),IF(AI12=NumEn29,ScoreEn29),IF(AJ12=NumEn30,ScoreEn30),IF(AK12=NumEn31,ScoreEn31),IF(AL12=NumEn32,ScoreEn32),IF(AM12=NumEn33,ScoreEn33),IF(AN12=NumEn34,ScoreEn34),IF(AO12=NumEn35,ScoreEn35),IF(AP12=NumEn36,ScoreEn36),IF(AQ12=NumEn37,ScoreEn37),IF(AR12=NumEn38,ScoreEn38),IF(AS12=NumEn39,ScoreEn39),IF(AT12=NumEn40,ScoreEn40))","v":0},null,"ข้อ 2",{"$f":"COUNTIF(BB11:BB360,\"✓\")","v":0},{"$f":"IF($E$5=\"\",\"\",(AX12/$E$5)*100)","v":0},null,"","","","","","","","","","","","","","","","","","","","","","","","","","","","","","","","","","","","","","","","",0]
[{"$f":"ข้อมูลนักเรียน!B15","v":"1"},3,{"$f":"ข้อมูลนักเรียน!D15","v":"นายพ"},null,null,null,null,null,null,null,null,null,null,null,null,null,null,null,null,null,null,null,null,null,null,null,null,null,null,null,null,null,null,null,null,null,null,null,null,null,null,null,null,null,null,null,0,null,"ข้อ 3",{"$f":"COUNTIF(BC11:BC360,\"✓\")","v":0},0,null,"","","","","","","","","","","","","","","","","","","","","","","","","","","","","","","","","","","","","","","","",0]
[{"$f":"ข้อมูลนักเรียน!B16","v":"1"},4,{"$f":"ข้อมูลนักเรียน!D16","v":"นายขเร"},null,null,null,null,null,null,null,null,null,null,null,null,null,null,null,null,null,null,null,null,null,null,null,null,null,null,null,null,null,null,null,null,null,null,null,null,null,null,null,null,null,null,null,0,null,"ข้อ 4",{"$f":"COUNTIF(BD11:BD360,\"✓\")","v":0},0,null,"","","","","","","","","","","","","","","","","","","","","","","","","","","","","","","","","","","","","","","","",0]
[{"$f":"ข้อมูลนักเรียน!B17","v":0},5,{"$f":"ข้อมูลนักเรียน!D17","v":"นางสาว"},null,null,null,null,null,null,null,null,null,null,null,null,null,null,null,null,null,null,null,null,null,null,null,null,null,null,null,null,null,null,null,null,null,null,null,null,null,null,null,null,null,null,null,0,null,"ข้อ 5",{"$f":"COUNTIF(BE11:BE360,\"✓\")","v":0},0,null,"","","","","","","","","","","","","","","","","","","","","","","","","","","","","","","","","","","","","","","","",0]
[{"$f":"ข้อมูลนักเรียน!B18","v":0},6,{"$f":"ข้อมูลนักเรียน!D18","v":0},null,null,null,null,null,null,null,null,null,null,null,null,null,null,null,null,null,null,null,null,null,null,null,null,null,null,null,null,null,null,null,null,null,null,null,null,null,null,null,null,null,null,null,0,null,"ข้อ 6",{"$f":"COUNTIF(BF11:BF360,\"✓\")","v":0},0,null,"","","","","","","","","","","","","","","","","","","","","","","","","","","","","","","","","","","","","","","","",0]
[{"$f":"ข้อมูลนักเรียน!B19","v":0},7,{"$f":"ข้อมูลนักเรียน!D19","v":0},null,null,null,null,null,null,null,null,null,null,null,null,null,null,null,null,null,null,null,null,null,null,null,null,null,null,null,null,null,null,null,null,null,null,null,null,null,null,null,null,null,null,null,0,null,"ข้อ 7",{"$f":"COUNTIF(BG11:BG360,\"✓\")","v":0},0,null,"","","","","","","","","","","","","","","","","","","","","","","","","","","","","","","","","","","","","","","","",0]
[{"$f":"ข้อมูลนักเรียน!B20","v":0},8,{"$f":"ข้อมูลนักเรียน!D20","v":0},null,null,null,null,null,null,null,null,null,null,null,null,null,null,null,null,null,null,null,null,null,null,null,null,null,null,null,null,null,null,null,null,null,null,null,null,null,null,null,null,null,null,null,0,null,"ข้อ 8",{"$f":"COUNTIF(BH11:BH360,\"✓\")","v":0},0,null,"","","","","","","","","","","","","","","","","","","","","","","","","","","","","","","","","","","","","","","","",0]
[{"$f":"ข้อมูลนักเรียน!B21","v":0},9,{"$f":"ข้อมูลนักเรียน!D21","v":0},null,null,null,null,null,null,null,null,null,null,null,null,null,null,null,null,null,null,null,null,null,null,null,null,null,null,null,null,null,null,null,null,null,null,null,null,null,null,null,null,null,null,null,0,null,"ข้อ 9",{"$f":"COUNTIF(BI11:BI360,\"✓\")","v":0},0,null,"","","","","","","","","","","","","","","","","","","","","","","","","","","","","","","","","","","","","","","","",0]
[{"$f":"ข้อมูลนักเรียน!B22","v":0},10,{"$f":"ข้อมูลนักเรียน!D22","v":0},null,null,null,null,null,null,null,null,null,null,null,null,null,null,null,null,null,null,null,null,null,null,null,null,null,null,null,null,null,null,null,null,null,null,null,null,null,null,null,null,null,null,null,0,null,"ข้อ 10",{"$f":"COUNTIF(BJ11:BJ360,\"✓\")","v":0},0,null,"","","","","","","","","","","","","","","","","","","","","","","","","","","","","","","","","","","","","","","","",0]
[{"$f":"ข้อมูลนักเรียน!B23","v":0},11,{"$f":"ข้อมูลนักเรียน!D23","v":0},null,null,null,null,null,null,null,null,null,null,null,null,null,null,null,null,null,null,null,null,null,null,null,null,null,null,null,null,null,null,null,null,null,null,null,null,null,null,null,null,null,null,null,0,null,"ข้อ 11",{"$f":"COUNTIF(BK11:BK360,\"✓\")","v":0},0,null,"","","","","","","","","","","","","","","","","","","","","","","","","","","","","","","","","","","","","","","","",0]
[{"$f":"ข้อมูลนักเรียน!B24","v":0},12,{"$f":"ข้อมูลนักเรียน!D24","v":0},null,null,null,null,null,null,null,null,null,null,null,null,null,null,null,null,null,null,null,null,null,null,null,null,null,null,null,null,null,null,null,null,null,null,null,null,null,null,null,null,null,null,null,0,null,"ข้อ 12",{"$f":"COUNTIF(BL11:BL360,\"✓\")","v":0},0,null,"","","","","","","","","","","","","","","","","","","","","","","","","","","","","","","","","","","","","","","","",0]
[{"$f":"ข้อมูลนักเรียน!B25","v":0},13,{"$f":"ข้อมูลนักเรียน!D25","v":0},null,null,null,null,null,null,null,null,null,null,null,null,null,null,null,null,null,null,null,null,null,null,null,null,null,null,null,null,null,null,null,null,null,null,null,null,null,null,null,null,null,null,null,0,null,"ข้อ 13",{"$f":"COUNTIF(BM11:BM360,\"✓\")","v":0},0,null,"","","","","","","","","","","","","","","","","","","","","","","","","","","","","","","","","","","","","","","","",0]
[{"$f":"ข้อมูลนักเรียน!B26","v":0},14,{"$f":"ข้อมูลนักเรียน!D26","v":0},null,null,null,null,null,null,null,null,null,null,null,null,null,null,null,null,null,null,null,null,null,null,null,null,null,null,null,null,null,null,null,null,null,null,null,null,null,null,null,null,null,null,null,0,null,"ข้อ 14",{"$f":"COUNTIF(BN11:BN360,\"✓\")","v":0},0,null,"","","","","","","","","","","","","","","","","","","","","","","","","","","","","","","","","","","","","","","","",0]
[{"$f":"ข้อมูลนักเรียน!B27","v":0},15,{"$f":"ข้อมูลนักเรียน!D27","v":0},null,null,null,null,null,null,null,null,null,null,null,null,null,null,null,null,null,null,null,null,null,null,null,null,null,null,null,null,null,null,null,null,null,null,null,null,null,null,null,null,null,null,null,0,null,"ข้อ 15",{"$f":"COUNTIF(BO11:BO360,\"✓\")","v":0},0,null,"","","","","","","","","","","","","","","","","","","","","","","","","","","","","","","","","","","","","","","","",0]
[{"$f":"ข้อมูลนักเรียน!B28","v":0},16,{"$f":"ข้อมูลนักเรียน!D28","v":0},null,null,null,null,null,null,null,null,null,null,null,null,null,null,null,null,null,null,null,null,null,null,null,null,null,null,null,null,null,null,null,null,null,null,null,null,null,null,null,null,null,null,null,0,null,"ข้อ 16",{"$f":"COUNTIF(BP11:BP360,\"✓\")","v":0},0,null,"","","","","","","","","","","","","","","","","","","","","","","","","","","","","","","","","","","","","","","","",0]
[{"$f":"ข้อมูลนักเรียน!B29","v":0},17,{"$f":"ข้อมูลนักเรียน!D29","v":0},null,null,null,null,null,null,null,null,null,null,null,null,null,null,null,null,null,null,null,null,null,null,null,null,null,null,null,null,null,null,null,null,null,null,null,null,null,null,null,null,null,null,null,0,null,"ข้อ 17",{"$f":"COUNTIF(BQ11:BQ360,\"✓\")","v":0},0,null,"","","","","","","","","","","","","","","","","","","","","","","","","","","","","","","","","","","","","","","","",0]
[{"$f":"ข้อมูลนักเรียน!B30","v":0},18,{"$f":"ข้อมูลนักเรียน!D30","v":0},null,null,null,null,null,null,null,null,null,null,null,null,null,null,null,null,null,null,null,null,null,null,null,null,null,null,null,null,null,null,null,null,null,null,null,null,null,null,null,null,null,null,null,0,null,"ข้อ 18",{"$f":"COUNTIF(BR11:BR360,\"✓\")","v":0},0,null,"","","","","","","","","","","","","","","","","","","","","","","","","","","","","","","","","","","","","","","","",0]
[{"$f":"ข้อมูลนักเรียน!B31","v":0},19,{"$f":"ข้อมูลนักเรียน!D31","v":0},null,null,null,null,null,null,null,null,null,null,null,null,null,null,null,null,null,null,null,null,null,null,null,null,null,null,null,null,null,null,null,null,null,null,null,null,null,null,null,null,null,null,null,0,null,"ข้อ 19",{"$f":"COUNTIF(BS11:BS360,\"✓\")","v":0},0,null,"","","","","","","","","","","","","","","","","","","","","","","","","","","","","","","","","","","","","","","","",0]
[{"$f":"ข้อมูลนักเรียน!B32","v":0},20,{"$f":"ข้อมูลนักเรียน!D32","v":0},null,null,null,null,null,null,null,null,null,null,null,null,null,null,null,null,null,null,null,null,null,null,null,null,null,null,null,null,null,null,null,null,null,null,null,null,null,null,null,null,null,null,null,0,null,"ข้อ 20",{"$f":"COUNTIF(BT11:BT360,\"✓\")","v":0},0,null,"","","","","","","","","","","","","","","","","","","","","","","","","","","","","","","","","","","","","","","","",0]
[{"$f":"ข้อมูลนักเรียน!B33","v":0},21,{"$f":"ข้อมูลนักเรียน!D33","v":0},null,null,null,null,null,null,null,null,null,null,null,null,null,null,null,null,null,null,null,null,null,null,null,null,null,null,null,null,null,null,null,null,null,null,null,null,null,null,null,null,null,null,null,0,null,"ข้อ 21",{"$f":"COUNTIF(BU11:BU360,\"✓\")","v":0},0,null,"","","","","","","","","","","","","","","","","","","","","","","","","","","","","","","","","","","","","","","","",0]
[{"$f":"ข้อมูลนักเรียน!B34","v":0},22,{"$f":"ข้อมูลนักเรียน!D34","v":0},null,null,null,null,null,null,null,null,null,null,null,null,null,null,null,null,null,null,null,null,null,null,null,null,null,null,null,null,null,null,null,null,null,null,null,null,null,null,null,null,null,null,null,0,null,"ข้อ 22",{"$f":"COUNTIF(BV11:BV360,\"✓\")","v":0},0,null,"","","","","","","","","","","","","","","","","","","","","","","","","","","","","","","","","","","","","","","","",0]
[{"$f":"ข้อมูลนักเรียน!B35","v":0},23,{"$f":"ข้อมูลนักเรียน!D35","v":0},null,null,null,null,null,null,null,null,null,null,null,null,null,null,null,null,null,null,null,null,null,null,null,null,null,null,null,null,null,null,null,null,null,null,null,null,null,null,null,null,null,null,null,0,null,"ข้อ 23",{"$f":"COUNTIF(BW11:BW360,\"✓\")","v":0},0,null,"","","","","","","","","","","","","","","","","","","","","","","","","","","","","","","","","","","","","","","","",0]
[{"$f":"ข้อมูลนักเรียน!B36","v":0},24,{"$f":"ข้อมูลนักเรียน!D36","v":0},null,null,null,null,null,null,null,null,null,null,null,null,null,null,null,null,null,null,null,null,null,null,null,null,null,null,null,null,null,null,null,null,null,null,null,null,null,null,null,null,null,null,null,0,null,"ข้อ 24",{"$f":"COUNTIF(BX11:BX360,\"✓\")","v":0},0,null,"","","","","","","","","","","","","","","","","","","","","","","","","","","","","","","","","","","","","","","","",0]
[{"$f":"ข้อมูลนักเรียน!B37","v":0},25,{"$f":"ข้อมูลนักเรียน!D37","v":0},null,null,null,null,null,null,null,null,null,null,null,null,null,null,null,null,null,null,null,null,null,null,null,null,null,null,null,null,null,null,null,null,null,null,null,null,null,null,null,null,null,null,null,0,null,"ข้อ 25",{"$f":"COUNTIF(BY11:BY360,\"✓\")","v":0},0,null,"","","","","","","","","","","","","","","","","","","","","","","","","","","","","","","","","","","","","","","","",0]
[{"$f":"ข้อมูลนักเรียน!B38","v":0},26,{"$f":"ข้อมูลนักเรียน!D38","v":0},null,null,null,null,null,null,null,null,null,null,null,null,null,null,null,null,null,null,null,null,null,null,null,null,null,null,null,null,null,null,null,null,null,null,null,null,null,null,null,null,null,null,null,0,null,"ข้อ 26",{"$f":"COUNTIF(BZ11:BZ360,\"✓\")","v":0},0,null,"","","","","","","","","","","","","","","","","","","","","","","","","","","","","","","","","","","","","","","","",0]
[{"$f":"ข้อมูลนักเรียน!B39","v":0},27,{"$f":"ข้อมูลนักเรียน!D39","v":0},null,null,null,null,null,null,null,null,null,null,null,null,null,null,null,null,null,null,null,null,null,null,null,null,null,null,null,null,null,null,null,null,null,null,null,null,null,null,null,null,null,null,null,0,null,"ข้อ 27",{"$f":"COUNTIF(CA11:CB360,\"✓\")","v":0},0,null,"","","","","","","","","","","","","","","","","","","","","","","","","","","","","","","","","","","","","","","","",0]
[{"$f":"ข้อมูลนักเรียน!B40","v":0},28,{"$f":"ข้อมูลนักเรียน!D40","v":0},null,null,null,null,null,null,null,null,null,null,null,null,null,null,null,null,null,null,null,null,null,null,null,null,null,null,null,null,null,null,null,null,null,null,null,null,null,null,null,null,null,null,null,0,null,"ข้อ 28",{"$f":"COUNTIF(CB11:CB360,\"✓\")","v":0},0,null,"","","","","","","","","","","","","","","","","","","","","","","","","","","","","","","","","","","","","","","","",0]
[{"$f":"ข้อมูลนักเรียน!B41","v":0},29,{"$f":"ข้อมูลนักเรียน!D41","v":0},null,null,null,null,null,null,null,null,null,null,null,null,null,null,null,null,null,null,null,null,null,null,null,null,null,null,null,null,null,null,null,null,null,null,null,null,null,null,null,null,null,null,null,0,null,"ข้อ 29",{"$f":"COUNTIF(CC11:CC360,\"✓\")","v":0},0,null,"","","","","","","","","","","","","","","","","","","","","","","","","","","","","","","","","","","","","","","","",0]
[{"$f":"ข้อมูลนักเรียน!B42","v":0},30,{"$f":"ข้อมูลนักเรียน!D42","v":0},null,null,null,null,null,null,null,null,null,null,null,null,null,null,null,null,null,null,null,null,null,null,null,null,null,null,null,null,null,null,null,null,null,null,null,null,null,null,null,null,null,null,null,0,null,"ข้อ 30",{"$f":"COUNTIF(CD11:CD360,\"✓\")","v":0},0,null,"","","","","","","","","","","","","","","","","","","","","","","","","","","","","","","","","","","","","","","","",0]
[{"$f":"ข้อมูลนักเรียน!B43","v":0},31,{"$f":"ข้อมูลนักเรียน!D43","v":0},null,null,null,null,null,null,null,null,null,null,null,null,null,null,null,null,null,null,null,null,null,null,null,null,null,null,null,null,null,null,null,null,null,null,null,null,null,null,null,null,null,null,null,0,null,"ข้อ 31",{"$f":"COUNTIF(CE11:CE360,\"✓\")","v":0},0,null,"","","","","","","","","","","","","","","","","","","","","","","","","","","","","","","","","","","","","","","","",0]
[{"$f":"ข้อมูลนักเรียน!B44","v":0},32,{"$f":"ข้อมูลนักเรียน!D44","v":0},null,null,null,null,null,null,null,null,null,null,null,null,null,null,null,null,null,null,null,null,null,null,null,null,null,null,null,null,null,null,null,null,null,null,null,null,null,null,null,null,null,null,null,0,null,"ข้อ 32",{"$f":"COUNTIF(CF11:CF360,\"✓\")","v":0},0,null,"","","","","","","","","","","","","","","","","","","","","","","","","","","","","","","","","","","","","","","","",0]
[{"$f":"ข้อมูลนักเรียน!B45","v":0},33,{"$f":"ข้อมูลนักเรียน!D45","v":0},null,null,null,null,null,null,null,null,null,null,null,null,null,null,null,null,null,null,null,null,null,null,null,null,null,null,null,null,null,null,null,null,null,null,null,null,null,null,null,null,null,null,null,0,null,"ข้อ 33",{"$f":"COUNTIF(CG11:CG360,\"✓\")","v":0},0,null,"","","","","","","","","","","","","","","","","","","","","","","","","","","","","","","","","","","","","","","","",0]
[{"$f":"ข้อมูลนักเรียน!B46","v":0},34,{"$f":"ข้อมูลนักเรียน!D46","v":0},null,null,null,null,null,null,null,null,null,null,null,null,null,null,null,null,null,null,null,null,null,null,null,null,null,null,null,null,null,null,null,null,null,null,null,null,null,null,null,null,null,null,null,0,null,"ข้อ 34",{"$f":"COUNTIF(CH11:CH360,\"✓\")","v":0},0,null,"","","","","","","","","","","","","","","","","","","","","","","","","","","","","","","","","","","","","","","","",0]
[{"$f":"ข้อมูลนักเรียน!B47","v":0},35,{"$f":"ข้อมูลนักเรียน!D47","v":0},null,null,null,null,null,null,null,null,null,null,null,null,null,null,null,null,null,null,null,null,null,null,null,null,null,null,null,null,null,null,null,null,null,null,null,null,null,null,null,null,null,null,null,0,null,"ข้อ 35",{"$f":"COUNTIF(CI11:CI360,\"✓\")","v":0},0,null,"","","","","","","","","","","","","","","","","","","","","","","","","","","","","","","","","","","","","","","","",0]
[{"$f":"ข้อมูลนักเรียน!B48","v":0},36,{"$f":"ข้อมูลนักเรียน!D48","v":0},null,null,null,null,null,null,null,null,null,null,null,null,null,null,null,null,null,null,null,null,null,null,null,null,null,null,null,null,null,null,null,null,null,null,null,null,null,null,null,null,null,null,null,0,null,"ข้อ 36",{"$f":"COUNTIF(CJ11:CJ360,\"✓\")","v":0},0,null,"","","","","","","","","","","","","","","","","","","","","","","","","","","","","","","","","","","","","","","","",0]
[{"$f":"ข้อมูลนักเรียน!B49","v":0},37,{"$f":"ข้อมูลนักเรียน!D49","v":0},null,null,null,null,null,null,null,null,null,null,null,null,null,null,null,null,null,null,null,null,null,null,null,null,null,null,null,null,null,null,null,null,null,null,null,null,null,null,null,null,null,null,null,0,null,"ข้อ 37",{"$f":"COUNTIF(CK11:CK360,\"✓\")","v":0},0,null,"","","","","","","","","","","","","","","","","","","","","","","","","","","","","","","","","","","","","","","","",0]
[{"$f":"ข้อมูลนักเรียน!B50","v":0},38,{"$f":"ข้อมูลนักเรียน!D50","v":0},null,null,null,null,null,null,null,null,null,null,null,null,null,null,null,null,null,null,null,null,null,null,null,null,null,null,null,null,null,null,null,null,null,null,null,null,null,null,null,null,null,null,null,0,null,"ข้อ 38",{"$f":"COUNTIF(CL11:CL360,\"✓\")","v":0},0,null,"","","","","","","","","","","","","","","","","","","","","","","","","","","","","","","","","","","","","","","","",0]
[{"$f":"ข้อมูลนักเรียน!B51","v":0},39,{"$f":"ข้อมูลนักเรียน!D51","v":0},null,null,null,null,null,null,null,null,null,null,null,null,null,null,null,null,null,null,null,null,null,null,null,null,null,null,null,null,null,null,null,null,null,null,null,null,null,null,null,null,null,null,null,0,null,"ข้อ 39",{"$f":"COUNTIF(CM11:CM360,\"✓\")","v":0},0,null,"","","","","","","","","","","","","","","","","","","","","","","","","","","","","","","","","","","","","","","","",0]
[{"$f":"ข้อมูลนักเรียน!B52","v":0},40,{"$f":"ข้อมูลนักเรียน!D52","v":0},null,null,null,null,null,null,null,null,null,null,null,null,null,null,null,null,null,null,null,null,null,null,null,null,null,null,null,null,null,null,null,null,null,null,null,null,null,null,null,null,null,null,null,0,null,"ข้อ 40",{"$f":"COUNTIF(CN11:CN360,\"✓\")","v":0},0,null,"","","","","","","","","","","","","","","","","","","","","","","","","","","","","","","","","","","","","","","","",0]
[{"$f":"ข้อมูลนักเรียน!B53","v":0},41,{"$f":"ข้อมูลนักเรียน!D53","v":0},null,null,null,null,null,null,null,null,null,null,null,null,null,null,null,null,null,null,null,null,null,null,null,null,null,null,null,null,null,null,null,null,null,null,null,null,null,null,null,null,null,null,null,0,null,null,null,null,null,"","","","","","","","","","","","","","","","","","","","","","","","","","","","","","","","","","","","","","","","",0]
[{"$f":"ข้อมูลนักเรียน!B54","v":0},42,{"$f":"ข้อมูลนักเรียน!D54","v":0},null,null,null,null,null,null,null,null,null,null,null,null,null,null,null,null,null,null,null,null,null,null,null,null,null,null,null,null,null,null,null,null,null,null,null,null,null,null,null,null,null,null,null,0,null,null,null,null,null,"","","","","","","","","","","","","","","","","","","","","","","","","","","","","","","","","","","","","","","","",0]
[{"$f":"ข้อมูลนักเรียน!B55","v":0},43,{"$f":"ข้อมูลนักเรียน!D55","v":0},null,null,null,null,null,null,null,null,null,null,null,null,null,null,null,null,null,null,null,null,null,null,null,null,null,null,null,null,null,null,null,null,null,null,null,null,null,null,null,null,null,null,null,0,null,null,null,null,null,"","","","","","","","","","","","","","","","","","","","","","","","","","","","","","","","","","","","","","","","",0]
[{"$f":"ข้อมูลนักเรียน!B56","v":0},44,{"$f":"ข้อมูลนักเรียน!D56","v":0},null,null,null,null,null,null,null,null,null,null,null,null,null,null,null,null,null,null,null,null,null,null,null,null,null,null,null,null,null,null,null,null,null,null,null,null,null,null,null,null,null,null,null,0,null,null,null,null,null,"","","","","","","","","","","","","","","","","","","","","","","","","","","","","","","","","","","","","","","","",0]
[{"$f":"ข้อมูลนักเรียน!B57","v":0},45,{"$f":"ข้อมูลนักเรียน!D57","v":0},null,null,null,null,null,null,null,null,null,null,null,null,null,null,null,null,null,null,null,null,null,null,null,null,null,null,null,null,null,null,null,null,null,null,null,null,null,null,null,null,null,null,null,0,null,null,null,null,null,"","","","","","","","","","","","","","","","","","","","","","","","","","","","","","","","","","","","","","","","",0]
[{"$f":"ข้อมูลนักเรียน!B58","v":0},46,{"$f":"ข้อมูลนักเรียน!D58","v":0},null,null,null,null,null,null,null,null,null,null,null,null,null,null,null,null,null,null,null,null,null,null,null,null,null,null,null,null,null,null,null,null,null,null,null,null,null,null,null,null,null,null,null,0,null,null,null,null,null,"","","","","","","","","","","","","","","","","","","","","","","","","","","","","","","","","","","","","","","","",0]
[{"$f":"ข้อมูลนักเรียน!B59","v":0},47,{"$f":"ข้อมูลนักเรียน!D59","v":0},null,null,null,null,null,null,null,null,null,null,null,null,null,null,null,null,null,null,null,null,null,null,null,null,null,null,null,null,null,null,null,null,null,null,null,null,null,null,null,null,null,null,null,0,null,null,null,null,null,"","","","","","","","","","","","","","","","","","","","","","","","","","","","","","","","","","","","","","","","",0]
[{"$f":"ข้อมูลนักเรียน!B60","v":0},48,{"$f":"ข้อมูลนักเรียน!D60","v":0},null,null,null,null,null,null,null,null,null,null,null,null,null,null,null,null,null,null,null,null,null,null,null,null,null,null,null,null,null,null,null,null,null,null,null,null,null,null,null,null,null,null,null,0,null,null,null,null,null,"","","","","","","","","","","","","","","","","","","","","","","","","","","","","","","","","","","","","","","","",0]
[{"$f":"ข้อมูลนักเรียน!B61","v":0},49,{"$f":"ข้อมูลนักเรียน!D61","v":0},null,null,null,null,null,null,null,null,null,null,null,null,null,null,null,null,null,null,null,null,null,null,null,null,null,null,null,null,null,null,null,null,null,null,null,null,null,null,null,null,null,null,null,0,null,null,null,null,null,"","","","","","","","","","","","","","","","","","","","","","","","","","","","","","","","","","","","","","","","",0]
[{"$f":"ข้อมูลนักเรียน!B62","v":0},50,{"$f":"ข้อมูลนักเรียน!D62","v":0},null,null,null,null,null,null,null,null,null,null,null,null,null,null,null,null,null,null,null,null,null,null,null,null,null,null,null,null,null,null,null,null,null,null,null,null,null,null,null,null,null,null,null,0,null,null,null,null,null,"","","","","","","","","","","","","","","","","","","","","","","","","","","","","","","","","","","","","","","","",0]
[{"$f":"ข้อมูลนักเรียน!B63","v":0},51,{"$f":"ข้อมูลนักเรียน!D63","v":0},null,null,null,null,null,null,null,null,null,null,null,null,null,null,null,null,null,null,null,null,null,null,null,null,null,null,null,null,null,null,null,null,null,null,null,null,null,null,null,null,null,null,null,0,null,null,null,null,null,"","","","","","","","","","","","","","","","","","","","","","","","","","","","","","","","","","","","","","","","",0]
[{"$f":"ข้อมูลนักเรียน!B64","v":0},52,{"$f":"ข้อมูลนักเรียน!D64","v":0},null,null,null,null,null,null,null,null,null,null,null,null,null,null,null,null,null,null,null,null,null,null,null,null,null,null,null,null,null,null,null,null,null,null,null,null,null,null,null,null,null,null,null,0,null,null,null,null,null,"","","","","","","","","","","","","","","","","","","","","","","","","","","","","","","","","","","","","","","","",0]
[{"$f":"ข้อมูลนักเรียน!B65","v":0},53,{"$f":"ข้อมูลนักเรียน!D65","v":0},null,null,null,null,null,null,null,null,null,null,null,null,null,null,null,null,null,null,null,null,null,null,null,null,null,null,null,null,null,null,null,null,null,null,null,null,null,null,null,null,null,null,null,0,null,null,null,null,null,"","","","","","","","","","","","","","","","","","","","","","","","","","","","","","","","","","","","","","","","",0]
[{"$f":"ข้อมูลนักเรียน!B66","v":0},54,{"$f":"ข้อมูลนักเรียน!D66","v":0},null,null,null,null,null,null,null,null,null,null,null,null,null,null,null,null,null,null,null,null,null,null,null,null,null,null,null,null,null,null,null,null,null,null,null,null,null,null,null,null,null,null,null,0,null,null,null,null,null,"","","","","","","","","","","","","","","","","","","","","","","","","","","","","","","","","","","","","","","","",0]
[{"$f":"ข้อมูลนักเรียน!B67","v":0},55,{"$f":"ข้อมูลนักเรียน!D67","v":0},null,null,null,null,null,null,null,null,null,null,null,null,null,null,null,null,null,null,null,null,null,null,null,null,null,null,null,null,null,null,null,null,null,null,null,null,null,null,null,null,null,null,null,0,null,null,null,null,null,"","","","","","","","","","","","","","","","","","","","","","","","","","","","","","","","","","","","","","","","",0]
[{"$f":"ข้อมูลนักเรียน!B68","v":0},56,{"$f":"ข้อมูลนักเรียน!D68","v":0},null,null,null,null,null,null,null,null,null,null,null,null,null,null,null,null,null,null,null,null,null,null,null,null,null,null,null,null,null,null,null,null,null,null,null,null,null,null,null,null,null,null,null,0,null,null,null,null,null,"","","","","","","","","","","","","","","","","","","","","","","","","","","","","","","","","","","","","","","","",0]
[{"$f":"ข้อมูลนักเรียน!B69","v":0},57,{"$f":"ข้อมูลนักเรียน!D69","v":0},null,null,null,null,null,null,null,null,null,null,null,null,null,null,null,null,null,null,null,null,null,null,null,null,null,null,null,null,null,null,null,null,null,null,null,null,null,null,null,null,null,null,null,0,null,null,null,null,null,"","","","","","","","","","","","","","","","","","","","","","","","","","","","","","","","","","","","","","","","",0]
[{"$f":"ข้อมูลนักเรียน!B70","v":0},58,{"$f":"ข้อมูลนักเรียน!D70","v":0},null,null,null,null,null,null,null,null,null,null,null,null,null,null,null,null,null,null,null,null,null,null,null,null,null,null,null,null,null,null,null,null,null,null,null,null,null,null,null,null,null,null,null,0,null,null,null,null,null,"","","","","","","","","","","","","","","","","","","","","","","","","","","","","","","","","","","","","","","","",0]
[{"$f":"ข้อมูลนักเรียน!B71","v":0},59,{"$f":"ข้อมูลนักเรียน!D71","v":0},null,null,null,null,null,null,null,null,null,null,null,null,null,null,null,null,null,null,null,null,null,null,null,null,null,null,null,null,null,null,null,null,null,null,null,null,null,null,null,null,null,null,null,0,null,null,null,null,null,"","","","","","","","","","","","","","","","","","","","","","","","","","","","","","","","","","","","","","","","",0]
[{"$f":"ข้อมูลนักเรียน!B72","v":0},60,{"$f":"ข้อมูลนักเรียน!D72","v":0},null,null,null,null,null,null,null,null,null,null,null,null,null,null,null,null,null,null,null,null,null,null,null,null,null,null,null,null,null,null,null,null,null,null,null,null,null,null,null,null,null,null,null,0,null,null,null,null,null,"","","","","","","","","","","","","","","","","","","","","","","","","","","","","","","","","","","","","","","","",0]
[{"$f":"ข้อมูลนักเรียน!B73","v":0},61,{"$f":"ข้อมูลนักเรียน!D73","v":0},null,null,null,null,null,null,null,null,null,null,null,null,null,null,null,null,null,null,null,null,null,null,null,null,null,null,null,null,null,null,null,null,null,null,null,null,null,null,null,null,null,null,null,0,null,null,null,null,null,"","","","","","","","","","","","","","","","","","","","","","","","","","","","","","","","","","","","","","","","",0]
[{"$f":"ข้อมูลนักเรียน!B74","v":0},62,{"$f":"ข้อมูลนักเรียน!D74","v":0},null,null,null,null,null,null,null,null,null,null,null,null,null,null,null,null,null,null,null,null,null,null,null,null,null,null,null,null,null,null,null,null,null,null,null,null,null,null,null,null,null,null,null,0,null,null,null,null,null,"","","","","","","","","","","","","","","","","","","","","","","","","","","","","","","","","","","","","","","","",0]
[{"$f":"ข้อมูลนักเรียน!B75","v":0},63,{"$f":"ข้อมูลนักเรียน!D75","v":0},null,null,null,null,null,null,null,null,null,null,null,null,null,null,null,null,null,null,null,null,null,null,null,null,null,null,null,null,null,null,null,null,null,null,null,null,null,null,null,null,null,null,null,0,null,null,null,null,null,"","","","","","","","","","","","","","","","","","","","","","","","","","","","","","","","","","","","","","","","",0]
[{"$f":"ข้อมูลนักเรียน!B76","v":0},64,{"$f":"ข้อมูลนักเรียน!D76","v":0},null,null,null,null,null,null,null,null,null,null,null,null,null,null,null,null,null,null,null,null,null,null,null,null,null,null,null,null,null,null,null,null,null,null,null,null,null,null,null,null,null,null,null,0,null,null,null,null,null,"","","","","","","","","","","","","","","","","","","","","","","","","","","","","","","","","","","","","","","","",0]
[{"$f":"ข้อมูลนักเรียน!B77","v":0},65,{"$f":"ข้อมูลนักเรียน!D77","v":0},null,null,null,null,null,null,null,null,null,null,null,null,null,null,null,null,null,null,null,null,null,null,null,null,null,null,null,null,null,null,null,null,null,null,null,null,null,null,null,null,null,null,null,{"$f":"SUM(IF(G75=NumEn1,ScoreEn1),IF(H75=NumEn2,ScoreEn2),IF(I75=NumEn3,ScoreEn3),IF(J75=NumEn4,ScoreEn4),IF(K75=NumEn5,ScoreEn5),IF(L75=NumEn6,ScoreEn6),IF(M75=NumEn7,ScoreEn7),IF(N75=NumEn8,ScoreEn8),IF(O75=NumEn9,ScoreEn9),IF(P75=NumEn10,ScoreEn10),IF(Q75=NumEn11,ScoreEn11),IF(R75=NumEn12,ScoreEn12),IF(S75=NumEn13,ScoreEn13),IF(T75=NumEn14,ScoreEn14),IF(U75=NumEn15,ScoreEn15),IF(V75=NumEn16,ScoreEn16),IF(W75=NumEn17,ScoreEn17),IF(X75=NumEn18,ScoreEn18),IF(Y75=NumEn19,ScoreEn19),IF(Z75=NumEn20,ScoreEn20),IF(AA75=NumEn21,ScoreEn21),IF(AB75=NumEn22,ScoreEn22),IF(AC75=NumEn23,ScoreEn23),IF(AD75=NumEn24,ScoreEn24),IF(AE75=NumEn25,ScoreEn25),IF(AF75=NumEn26,ScoreEn26),IF(AG75=NumEn27,ScoreEn27),IF(AH75=NumEn28,ScoreEn28),IF(AI75=NumEn29,ScoreEn29),IF(AJ75=NumEn30,ScoreEn30),IF(AK75=NumEn31,ScoreEn31),IF(AL75=NumEn32,ScoreEn32),IF(AM75=NumEn33,ScoreEn33),IF(AN75=NumEn34,ScoreEn34),IF(AO75=NumEn35,ScoreEn35),IF(AP75=NumEn36,ScoreEn36),IF(AQ75=NumEn37,ScoreEn37),IF(AR75=NumEn38,ScoreEn38),IF(AS75=NumEn39,ScoreEn39),IF(AT75=NumEn40,ScoreEn40))","v":0},null,null,null,null,null,{"$f":"IF(G75=\"\",\"\",IF(G75=NumEn1,\"✓\",\"X\"))","v":""},{"$f":"IF(H75=\"\",\"\",IF(H75=NumEn2,\"✓\",\"X\"))","v":""},{"$f":"IF(I75=\"\",\"\",IF(I75=NumEn3,\"✓\",\"X\"))","v":""},{"$f":"IF(J75=\"\",\"\",IF(J75=NumEn4,\"✓\",\"X\"))","v":""},{"$f":"IF(K75=\"\",\"\",IF(K75=NumEn5,\"✓\",\"X\"))","v":""},{"$f":"IF(L75=\"\",\"\",IF(L75=NumEn6,\"✓\",\"X\"))","v":""},{"$f":"IF(M75=\"\",\"\",IF(M75=NumEn7,\"✓\",\"X\"))","v":""},{"$f":"IF(N75=\"\",\"\",IF(N75=NumEn8,\"✓\",\"X\"))","v":""},{"$f":"IF(O75=\"\",\"\",IF(O75=NumEn9,\"✓\",\"X\"))","v":""},{"$f":"IF(P75=\"\",\"\",IF(P75=NumEn10,\"✓\",\"X\"))","v":""},{"$f":"IF(Q75=\"\",\"\",IF(Q75=NumEn11,\"✓\",\"X\"))","v":""},{"$f":"IF(R75=\"\",\"\",IF(R75=NumEn12,\"✓\",\"X\"))","v":""},{"$f":"IF(S75=\"\",\"\",IF(S75=NumEn13,\"✓\",\"X\"))","v":""},{"$f":"IF(T75=\"\",\"\",IF(T75=NumEn14,\"✓\",\"X\"))","v":""},{"$f":"IF(U75=\"\",\"\",IF(U75=NumEn15,\"✓\",\"X\"))","v":""},{"$f":"IF(V75=\"\",\"\",IF(V75=NumEn16,\"✓\",\"X\"))","v":""},{"$f":"IF(W75=\"\",\"\",IF(W75=NumEn17,\"✓\",\"X\"))","v":""},{"$f":"IF(X75=\"\",\"\",IF(X75=NumEn18,\"✓\",\"X\"))","v":""},{"$f":"IF(Y75=\"\",\"\",IF(Y75=NumEn19,\"✓\",\"X\"))","v":""},{"$f":"IF(Z75=\"\",\"\",IF(Z75=NumEn20,\"✓\",\"X\"))","v":""},{"$f":"IF(AA75=\"\",\"\",IF(AA75=NumEn21,\"✓\",\"X\"))","v":""},{"$f":"IF(AB75=\"\",\"\",IF(AB75=NumEn22,\"✓\",\"X\"))","v":""},{"$f":"IF(AC75=\"\",\"\",IF(AC75=NumEn23,\"✓\",\"X\"))","v":""},{"$f":"IF(AD75=\"\",\"\",IF(AD75=NumEn24,\"✓\",\"X\"))","v":""},{"$f":"IF(AE75=\"\",\"\",IF(AE75=NumEn25,\"✓\",\"X\"))","v":""},{"$f":"IF(AF75=\"\",\"\",IF(AF75=NumEn26,\"✓\",\"X\"))","v":""},{"$f":"IF(AG75=\"\",\"\",IF(AG75=NumEn27,\"✓\",\"X\"))","v":""},{"$f":"IF(AH75=\"\",\"\",IF(AH75=NumEn28,\"✓\",\"X\"))","v":""},{"$f":"IF(AI75=\"\",\"\",IF(AI75=NumEn29,\"✓\",\"X\"))","v":""},{"$f":"IF(AJ75=\"\",\"\",IF(AJ75=NumEn30,\"✓\",\"X\"))","v":""},{"$f":"IF(AK75=\"\",\"\",IF(AK75=NumEn31,\"✓\",\"X\"))","v":""},{"$f":"IF(AL75=\"\",\"\",IF(AL75=NumEn32,\"✓\",\"X\"))","v":""},{"$f":"IF(AM75=\"\",\"\",IF(AM75=NumEn33,\"✓\",\"X\"))","v":""},{"$f":"IF(AN75=\"\",\"\",IF(AN75=NumEn34,\"✓\",\"X\"))","v":""},{"$f":"IF(AO75=\"\",\"\",IF(AO75=NumEn35,\"✓\",\"X\"))","v":""},{"$f":"IF(AP75=\"\",\"\",IF(AP75=NumEn36,\"✓\",\"X\"))","v":""},{"$f":"IF(AQ75=\"\",\"\",IF(AQ75=NumEn37,\"✓\",\"X\"))","v":""},{"$f":"IF(AR75=\"\",\"\",IF(AR75=NumEn38,\"✓\",\"X\"))","v":""},{"$f":"IF(AS75=\"\",\"\",IF(AS75=NumEn39,\"✓\",\"X\"))","v":""},{"$f":"IF(AT75=\"\",\"\",IF(AT75=NumEn40,\"✓\",\"X\"))","v":""},{"$f":"COUNTIF(BA75:CN75,\"✓\")","v":0}]
[{"$f":"ข้อมูลนักเรียน!B78","v":0},66,{"$f":"ข้อมูลนักเรียน!D78","v":0},null,null,null,null,null,null,null,null,null,null,null,null,null,null,null,null,null,null,null,null,null,null,null,null,null,null,null,null,null,null,null,null,null,null,null,null,null,null,null,null,null,null,null,0,null,null,null,null,null,"","","","","","","","","","","","","","","","","","","","","","","","","","","","","","","","","","","","","","","","",0]
[{"$f":"ข้อมูลนักเรียน!B79","v":0},67,{"$f":"ข้อมูลนักเรียน!D79","v":0},null,null,null,null,null,null,null,null,null,null,null,null,null,null,null,null,null,null,null,null,null,null,null,null,null,null,null,null,null,null,null,null,null,null,null,null,null,null,null,null,null,null,null,0,null,null,null,null,null,"","","","","","","","","","","","","","","","","","","","","","","","","","","","","","","","","","","","","","","","",0]
[{"$f":"ข้อมูลนักเรียน!B80","v":0},68,{"$f":"ข้อมูลนักเรียน!D80","v":0},null,null,null,null,null,null,null,null,null,null,null,null,null,null,null,null,null,null,null,null,null,null,null,null,null,null,null,null,null,null,null,null,null,null,null,null,null,null,null,null,null,null,null,0,null,null,null,null,null,"","","","","","","","","","","","","","","","","","","","","","","","","","","","","","","","","","","","","","","","",0]
[{"$f":"ข้อมูลนักเรียน!B81","v":0},69,{"$f":"ข้อมูลนักเรียน!D81","v":0},null,null,null,null,null,null,null,null,null,null,null,null,null,null,null,null,null,null,null,null,null,null,null,null,null,null,null,null,null,null,null,null,null,null,null,null,null,null,null,null,null,null,null,0,null,null,null,null,null,"","","","","","","","","","","","","","","","","","","","","","","","","","","","","","","","","","","","","","","","",0]
[{"$f":"ข้อมูลนักเรียน!B82","v":0},70,{"$f":"ข้อมูลนักเรียน!D82","v":0},null,null,null,null,null,null,null,null,null,null,null,null,null,null,null,null,null,null,null,null,null,null,null,null,null,null,null,null,null,null,null,null,null,null,null,null,null,null,null,null,null,null,null,0,null,null,null,null,null,"","","","","","","","","","","","","","","","","","","","","","","","","","","","","","","","","","","","","","","","",0]
[{"$f":"ข้อมูลนักเรียน!B83","v":0},71,{"$f":"ข้อมูลนักเรียน!D83","v":0},null,null,null,null,null,null,null,null,null,null,null,null,null,null,null,null,null,null,null,null,null,null,null,null,null,null,null,null,null,null,null,null,null,null,null,null,null,null,null,null,null,null,null,0,null,null,null,null,null,"","","","","","","","","","","","","","","","","","","","","","","","","","","","","","","","","","","","","","","","",0]
[{"$f":"ข้อมูลนักเรียน!B84","v":0},72,{"$f":"ข้อมูลนักเรียน!D84","v":0},null,null,null,null,null,null,null,null,null,null,null,null,null,null,null,null,null,null,null,null,null,null,null,null,null,null,null,null,null,null,null,null,null,null,null,null,null,null,null,null,null,null,null,0,null,null,null,null,null,"","","","","","","","","","","","","","","","","","","","","","","","","","","","","","","","","","","","","","","","",0]
[{"$f":"ข้อมูลนักเรียน!B85","v":0},73,{"$f":"ข้อมูลนักเรียน!D85","v":0},null,null,null,null,null,null,null,null,null,null,null,null,null,null,null,null,null,null,null,null,null,null,null,null,null,null,null,null,null,null,null,null,null,null,null,null,null,null,null,null,null,null,null,0,null,null,null,null,null,"","","","","","","","","","","","","","","","","","","","","","","","","","","","","","","","","","","","","","","","",0]
[{"$f":"ข้อมูลนักเรียน!B86","v":0},74,{"$f":"ข้อมูลนักเรียน!D86","v":0},null,null,null,null,null,null,null,null,null,null,null,null,null,null,null,null,null,null,null,null,null,null,null,null,null,null,null,null,null,null,null,null,null,null,null,null,null,null,null,null,null,null,null,0,null,null,null,null,null,"","","","","","","","","","","","","","","","","","","","","","","","","","","","","","","","","","","","","","","","",0]
[{"$f":"ข้อมูลนักเรียน!B87","v":0},75,{"$f":"ข้อมูลนักเรียน!D87","v":0},null,null,null,null,null,null,null,null,null,null,null,null,null,null,null,null,null,null,null,null,null,null,null,null,null,null,null,null,null,null,null,null,null,null,null,null,null,null,null,null,null,null,null,0,null,null,null,null,null,"","","","","","","","","","","","","","","","","","","","","","","","","","","","","","","","","","","","","","","","",0]
[{"$f":"ข้อมูลนักเรียน!B88","v":0},76,{"$f":"ข้อมูลนักเรียน!D88","v":0},null,null,null,null,null,null,null,null,null,null,null,null,null,null,null,null,null,null,null,null,null,null,null,null,null,null,null,null,null,null,null,null,null,null,null,null,null,null,null,null,null,null,null,0,null,null,null,null,null,"","","","","","","","","","","","","","","","","","","","","","","","","","","","","","","","","","","","","","","","",0]
[{"$f":"ข้อมูลนักเรียน!B89","v":0},77,{"$f":"ข้อมูลนักเรียน!D89","v":0},null,null,null,null,null,null,null,null,null,null,null,null,null,null,null,null,null,null,null,null,null,null,null,null,null,null,null,null,null,null,null,null,null,null,null,null,null,null,null,null,null,null,null,0,null,null,null,null,null,"","","","","","","","","","","","","","","","","","","","","","","","","","","","","","","","","","","","","","","","",0]
[{"$f":"ข้อมูลนักเรียน!B90","v":0},78,{"$f":"ข้อมูลนักเรียน!D90","v":0},null,null,null,null,null,null,null,null,null,null,null,null,null,null,null,null,null,null,null,null,null,null,null,null,null,null,null,null,null,null,null,null,null,null,null,null,null,null,null,null,null,null,null,0,null,null,null,null,null,"","","","","","","","","","","","","","","","","","","","","","","","","","","","","","","","","","","","","","","","",0]
[{"$f":"ข้อมูลนักเรียน!B91","v":0},79,{"$f":"ข้อมูลนักเรียน!D91","v":0},null,null,null,null,null,null,null,null,null,null,null,null,null,null,null,null,null,null,null,null,null,null,null,null,null,null,null,null,null,null,null,null,null,null,null,null,null,null,null,null,null,null,null,0,null,null,null,null,null,"","","","","","","","","","","","","","","","","","","","","","","","","","","","","","","","","","","","","","","","",0]
[{"$f":"ข้อมูลนักเรียน!B92","v":0},80,{"$f":"ข้อมูลนักเรียน!D92","v":0},null,null,null,null,null,null,null,null,null,null,null,null,null,null,null,null,null,null,null,null,null,null,null,null,null,null,null,null,null,null,null,null,null,null,null,null,null,null,null,null,null,null,null,0,null,null,null,null,null,"","","","","","","","","","","","","","","","","","","","","","","","","","","","","","","","","","","","","","","","",0]
[{"$f":"ข้อมูลนักเรียน!B93","v":0},81,{"$f":"ข้อมูลนักเรียน!D93","v":0},null,null,null,null,null,null,null,null,null,null,null,null,null,null,null,null,null,null,null,null,null,null,null,null,null,null,null,null,null,null,null,null,null,null,null,null,null,null,null,null,null,null,null,0,null,null,null,null,null,"","","","","","","","","","","","","","","","","","","","","","","","","","","","","","","","","","","","","","","","",0]
[{"$f":"ข้อมูลนักเรียน!B94","v":0},82,{"$f":"ข้อมูลนักเรียน!D94","v":0},null,null,null,null,null,null,null,null,null,null,null,null,null,null,null,null,null,null,null,null,null,null,null,null,null,null,null,null,null,null,null,null,null,null,null,null,null,null,null,null,null,null,null,0,null,null,null,null,null,"","","","","","","","","","","","","","","","","","","","","","","","","","","","","","","","","","","","","","","","",0]
[{"$f":"ข้อมูลนักเรียน!B95","v":0},83,{"$f":"ข้อมูลนักเรียน!D95","v":0},null,null,null,null,null,null,null,null,null,null,null,null,null,null,null,null,null,null,null,null,null,null,null,null,null,null,null,null,null,null,null,null,null,null,null,null,null,null,null,null,null,null,null,0,null,null,null,null,null,"","","","","","","","","","","","","","","","","","","","","","","","","","","","","","","","","","","","","","","","",0]
[{"$f":"ข้อมูลนักเรียน!B96","v":0},84,{"$f":"ข้อมูลนักเรียน!D96","v":0},null,null,null,null,null,null,null,null,null,null,null,null,null,null,null,null,null,null,null,null,null,null,null,null,null,null,null,null,null,null,null,null,null,null,null,null,null,null,null,null,null,null,null,0,null,null,null,null,null,"","","","","","","","","","","","","","","","","","","","","","","","","","","","","","","","","","","","","","","","",0]
[{"$f":"ข้อมูลนักเรียน!B97","v":0},85,{"$f":"ข้อมูลนักเรียน!D97","v":0},null,null,null,null,null,null,null,null,null,null,null,null,null,null,null,null,null,null,null,null,null,null,null,null,null,null,null,null,null,null,null,null,null,null,null,null,null,null,null,null,null,null,null,0,null,null,null,null,null,"","","","","","","","","","","","","","","","","","","","","","","","","","","","","","","","","","","","","","","","",0]
[{"$f":"ข้อมูลนักเรียน!B98","v":0},86,{"$f":"ข้อมูลนักเรียน!D98","v":0},null,null,null,null,null,null,null,null,null,null,null,null,null,null,null,null,null,null,null,null,null,null,null,null,null,null,null,null,null,null,null,null,null,null,null,null,null,null,null,null,null,null,null,0,null,null,null,null,null,"","","","","","","","","","","","","","","","","","","","","","","","","","","","","","","","","","","","","","","","",0]
[{"$f":"ข้อมูลนักเรียน!B99","v":0},87,{"$f":"ข้อมูลนักเรียน!D99","v":0},null,null,null,null,null,null,null,null,null,null,null,null,null,null,null,null,null,null,null,null,null,null,null,null,null,null,null,null,null,null,null,null,null,null,null,null,null,null,null,null,null,null,null,0,null,null,null,null,null,"","","","","","","","","","","","","","","","","","","","","","","","","","","","","","","","","","","","","","","","",0]
[{"$f":"ข้อมูลนักเรียน!B100","v":0},88,{"$f":"ข้อมูลนักเรียน!D100","v":0},null,null,null,null,null,null,null,null,null,null,null,null,null,null,null,null,null,null,null,null,null,null,null,null,null,null,null,null,null,null,null,null,null,null,null,null,null,null,null,null,null,null,null,0,null,null,null,null,null,"","","","","","","","","","","","","","","","","","","","","","","","","","","","","","","","","","","","","","","","",0]
[{"$f":"ข้อมูลนักเรียน!B101","v":0},89,{"$f":"ข้อมูลนักเรียน!D101","v":0},null,null,null,null,null,null,null,null,null,null,null,null,null,null,null,null,null,null,null,null,null,null,null,null,null,null,null,null,null,null,null,null,null,null,null,null,null,null,null,null,null,null,null,0,null,null,null,null,null,"","","","","","","","","","","","","","","","","","","","","","","","","","","","","","","","","","","","","","","","",0]
[{"$f":"ข้อมูลนักเรียน!B102","v":0},90,{"$f":"ข้อมูลนักเรียน!D102","v":0},null,null,null,null,null,null,null,null,null,null,null,null,null,null,null,null,null,null,null,null,null,null,null,null,null,null,null,null,null,null,null,null,null,null,null,null,null,null,null,null,null,null,null,0,null,null,null,null,null,"","","","","","","","","","","","","","","","","","","","","","","","","","","","","","","","","","","","","","","","",0]
[{"$f":"ข้อมูลนักเรียน!B103","v":0},91,{"$f":"ข้อมูลนักเรียน!D103","v":0},null,null,null,null,null,null,null,null,null,null,null,null,null,null,null,null,null,null,null,null,null,null,null,null,null,null,null,null,null,null,null,null,null,null,null,null,null,null,null,null,null,null,null,0,null,null,null,null,null,"","","","","","","","","","","","","","","","","","","","","","","","","","","","","","","","","","","","","","","","",0]
[{"$f":"ข้อมูลนักเรียน!B104","v":0},92,{"$f":"ข้อมูลนักเรียน!D104","v":0},null,null,null,null,null,null,null,null,null,null,null,null,null,null,null,null,null,null,null,null,null,null,null,null,null,null,null,null,null,null,null,null,null,null,null,null,null,null,null,null,null,null,null,0,null,null,null,null,null,"","","","","","","","","","","","","","","","","","","","","","","","","","","","","","","","","","","","","","","","",0]
[{"$f":"ข้อมูลนักเรียน!B105","v":0},93,{"$f":"ข้อมูลนักเรียน!D105","v":0},null,null,null,null,null,null,null,null,null,null,null,null,null,null,null,null,null,null,null,null,null,null,null,null,null,null,null,null,null,null,null,null,null,null,null,null,null,null,null,null,null,null,null,0,null,null,null,null,null,"","","","","","","","","","","","","","","","","","","","","","","","","","","","","","","","","","","","","","","","",0]
[{"$f":"ข้อมูลนักเรียน!B106","v":0},94,{"$f":"ข้อมูลนักเรียน!D106","v":0},null,null,null,null,null,null,null,null,null,null,null,null,null,null,null,null,null,null,null,null,null,null,null,null,null,null,null,null,null,null,null,null,null,null,null,null,null,null,null,null,null,null,null,0,null,null,null,null,null,"","","","","","","","","","","","","","","","","","","","","","","","","","","","","","","","","","","","","","","","",0]
[{"$f":"ข้อมูลนักเรียน!B107","v":0},95,{"$f":"ข้อมูลนักเรียน!D107","v":0},null,null,null,null,null,null,null,null,null,null,null,null,null,null,null,null,null,null,null,null,null,null,null,null,null,null,null,null,null,null,null,null,null,null,null,null,null,null,null,null,null,null,null,0,null,null,null,null,null,"","","","","","","","","","","","","","","","","","","","","","","","","","","","","","","","","","","","","","","","",0]
[{"$f":"ข้อมูลนักเรียน!B108","v":0},96,{"$f":"ข้อมูลนักเรียน!D108","v":0},null,null,null,null,null,null,null,null,null,null,null,null,null,null,null,null,null,null,null,null,null,null,null,null,null,null,null,null,null,null,null,null,null,null,null,null,null,null,null,null,null,null,null,0,null,null,null,null,null,"","","","","","","","","","","","","","","","","","","","","","","","","","","","","","","","","","","","","","","","",0]
[{"$f":"ข้อมูลนักเรียน!B109","v":0},97,{"$f":"ข้อมูลนักเรียน!D109","v":0},null,null,null,null,null,null,null,null,null,null,null,null,null,null,null,null,null,null,null,null,null,null,null,null,null,null,null,null,null,null,null,null,null,null,null,null,null,null,null,null,null,null,null,0,null,null,null,null,null,"","","","","","","","","","","","","","","","","","","","","","","","","","","","","","","","","","","","","","","","",0]
[{"$f":"ข้อมูลนักเรียน!B110","v":0},98,{"$f":"ข้อมูลนักเรียน!D110","v":0},null,null,null,null,null,null,null,null,null,null,null,null,null,null,null,null,null,null,null,null,null,null,null,null,null,null,null,null,null,null,null,null,null,null,null,null,null,null,null,null,null,null,null,0,null,null,null,null,null,"","","","","","","","","","","","","","","","","","","","","","","","","","","","","","","","","","","","","","","","",0]
[{"$f":"ข้อมูลนักเรียน!B111","v":0},99,{"$f":"ข้อมูลนักเรียน!D111","v":0},null,null,null,null,null,null,null,null,null,null,null,null,null,null,null,null,null,null,null,null,null,null,null,null,null,null,null,null,null,null,null,null,null,null,null,null,null,null,null,null,null,null,null,0,null,null,null,null,null,"","","","","","","","","","","","","","","","","","","","","","","","","","","","","","","","","","","","","","","","",0]
[{"$f":"ข้อมูลนักเรียน!B112","v":0},100,{"$f":"ข้อมูลนักเรียน!D112","v":0},null,null,null,null,null,null,null,null,null,null,null,null,null,null,null,null,null,null,null,null,null,null,null,null,null,null,null,null,null,null,null,null,null,null,null,null,null,null,null,null,null,null,null,0,null,null,null,null,null,"","","","","","","","","","","","","","","","","","","","","","","","","","","","","","","","","","","","","","","","",0]
[{"$f":"ข้อมูลนักเรียน!B113","v":0},101,{"$f":"ข้อมูลนักเรียน!D113","v":0},null,null,null,null,null,null,null,null,null,null,null,null,null,null,null,null,null,null,null,null,null,null,null,null,null,null,null,null,null,null,null,null,null,null,null,null,null,null,null,null,null,null,null,0,null,null,null,null,null,"","","","","","","","","","","","","","","","","","","","","","","","","","","","","","","","","","","","","","","","",0]
[{"$f":"ข้อมูลนักเรียน!B114","v":0},102,{"$f":"ข้อมูลนักเรียน!D114","v":0},null,null,null,null,null,null,null,null,null,null,null,null,null,null,null,null,null,null,null,null,null,null,null,null,null,null,null,null,null,null,null,null,null,null,null,null,null,null,null,null,null,null,null,0,null,null,null,null,null,"","","","","","","","","","","","","","","","","","","","","","","","","","","","","","","","","","","","","","","","",0]
[{"$f":"ข้อมูลนักเรียน!B115","v":0},103,{"$f":"ข้อมูลนักเรียน!D115","v":0},null,null,null,null,null,null,null,null,null,null,null,null,null,null,null,null,null,null,null,null,null,null,null,null,null,null,null,null,null,null,null,null,null,null,null,null,null,null,null,null,null,null,null,0,null,null,null,null,null,"","","","","","","","","","","","","","","","","","","","","","","","","","","","","","","","","","","","","","","","",0]
[{"$f":"ข้อมูลนักเรียน!B116","v":0},104,{"$f":"ข้อมูลนักเรียน!D116","v":0},null,null,null,null,null,null,null,null,null,null,null,null,null,null,null,null,null,null,null,null,null,null,null,null,null,null,null,null,null,null,null,null,null,null,null,null,null,null,null,null,null,null,null,0,null,null,null,null,null,"","","","","","","","","","","","","","","","","","","","","","","","","","","","","","","","","","","","","","","","",0]
[{"$f":"ข้อมูลนักเรียน!B117","v":0},105,{"$f":"ข้อมูลนักเรียน!D117","v":0},null,null,null,null,null,null,null,null,null,null,null,null,null,null,null,null,null,null,null,null,null,null,null,null,null,null,null,null,null,null,null,null,null,null,null,null,null,null,null,null,null,null,null,0,null,null,null,null,null,"","","","","","","","","","","","","","","","","","","","","","","","","","","","","","","","","","","","","","","","",0]
[{"$f":"ข้อมูลนักเรียน!B118","v":0},106,{"$f":"ข้อมูลนักเรียน!D118","v":0},null,null,null,null,null,null,null,null,null,null,null,null,null,null,null,null,null,null,null,null,null,null,null,null,null,null,null,null,null,null,null,null,null,null,null,null,null,null,null,null,null,null,null,0,null,null,null,null,null,"","","","","","","","","","","","","","","","","","","","","","","","","","","","","","","","","","","","","","","","",0]
[{"$f":"ข้อมูลนักเรียน!B119","v":0},107,{"$f":"ข้อมูลนักเรียน!D119","v":0},null,null,null,null,null,null,null,null,null,null,null,null,null,null,null,null,null,null,null,null,null,null,null,null,null,null,null,null,null,null,null,null,null,null,null,null,null,null,null,null,null,null,null,0,null,null,null,null,null,"","","","","","","","","","","","","","","","","","","","","","","","","","","","","","","","","","","","","","","","",0]
[{"$f":"ข้อมูลนักเรียน!B120","v":0},108,{"$f":"ข้อมูลนักเรียน!D120","v":0},null,null,null,null,null,null,null,null,null,null,null,null,null,null,null,null,null,null,null,null,null,null,null,null,null,null,null,null,null,null,null,null,null,null,null,null,null,null,null,null,null,null,null,0,null,null,null,null,null,"","","","","","","","","","","","","","","","","","","","","","","","","","","","","","","","","","","","","","","","",0]
[{"$f":"ข้อมูลนักเรียน!B121","v":0},109,{"$f":"ข้อมูลนักเรียน!D121","v":0},null,null,null,null,null,null,null,null,null,null,null,null,null,null,null,null,null,null,null,null,null,null,null,null,null,null,null,null,null,null,null,null,null,null,null,null,null,null,null,null,null,null,null,0,null,null,null,null,null,"","","","","","","","","","","","","","","","","","","","","","","","","","","","","","","","","","","","","","","","",0]
[{"$f":"ข้อมูลนักเรียน!B122","v":0},110,{"$f":"ข้อมูลนักเรียน!D122","v":0},null,null,null,null,null,null,null,null,null,null,null,null,null,null,null,null,null,null,null,null,null,null,null,null,null,null,null,null,null,null,null,null,null,null,null,null,null,null,null,null,null,null,null,0,null,null,null,null,null,"","","","","","","","","","","","","","","","","","","","","","","","","","","","","","","","","","","","","","","","",0]
[{"$f":"ข้อมูลนักเรียน!B123","v":0},111,{"$f":"ข้อมูลนักเรียน!D123","v":0},null,null,null,null,null,null,null,null,null,null,null,null,null,null,null,null,null,null,null,null,null,null,null,null,null,null,null,null,null,null,null,null,null,null,null,null,null,null,null,null,null,null,null,0,null,null,null,null,null,"","","","","","","","","","","","","","","","","","","","","","","","","","","","","","","","","","","","","","","","",0]
[{"$f":"ข้อมูลนักเรียน!B124","v":0},112,{"$f":"ข้อมูลนักเรียน!D124","v":0},null,null,null,null,null,null,null,null,null,null,null,null,null,null,null,null,null,null,null,null,null,null,null,null,null,null,null,null,null,null,null,null,null,null,null,null,null,null,null,null,null,null,null,0,null,null,null,null,null,"","","","","","","","","","","","","","","","","","","","","","","","","","","","","","","","","","","","","","","","",0]
[{"$f":"ข้อมูลนักเรียน!B125","v":0},113,{"$f":"ข้อมูลนักเรียน!D125","v":0},null,null,null,null,null,null,null,null,null,null,null,null,null,null,null,null,null,null,null,null,null,null,null,null,null,null,null,null,null,null,null,null,null,null,null,null,null,null,null,null,null,null,null,0,null,null,null,null,null,"","","","","","","","","","","","","","","","","","","","","","","","","","","","","","","","","","","","","","","","",0]
[{"$f":"ข้อมูลนักเรียน!B126","v":0},114,{"$f":"ข้อมูลนักเรียน!D126","v":0},null,null,null,null,null,null,null,null,null,null,null,null,null,null,null,null,null,null,null,null,null,null,null,null,null,null,null,null,null,null,null,null,null,null,null,null,null,null,null,null,null,null,null,0,null,null,null,null,null,"","","","","","","","","","","","","","","","","","","","","","","","","","","","","","","","","","","","","","","","",0]
[{"$f":"ข้อมูลนักเรียน!B127","v":0},115,{"$f":"ข้อมูลนักเรียน!D127","v":0},null,null,null,null,null,null,null,null,null,null,null,null,null,null,null,null,null,null,null,null,null,null,null,null,null,null,null,null,null,null,null,null,null,null,null,null,null,null,null,null,null,null,null,0,null,null,null,null,null,"","","","","","","","","","","","","","","","","","","","","","","","","","","","","","","","","","","","","","","","",0]
[{"$f":"ข้อมูลนักเรียน!B128","v":0},116,{"$f":"ข้อมูลนักเรียน!D128","v":0},null,null,null,null,null,null,null,null,null,null,null,null,null,null,null,null,null,null,null,null,null,null,null,null,null,null,null,null,null,null,null,null,null,null,null,null,null,null,null,null,null,null,null,0,null,null,null,null,null,"","","","","","","","","","","","","","","","","","","","","","","","","","","","","","","","","","","","","","","","",0]
[{"$f":"ข้อมูลนักเรียน!B129","v":0},117,{"$f":"ข้อมูลนักเรียน!D129","v":0},null,null,null,null,null,null,null,null,null,null,null,null,null,null,null,null,null,null,null,null,null,null,null,null,null,null,null,null,null,null,null,null,null,null,null,null,null,null,null,null,null,null,null,0,null,null,null,null,null,"","","","","","","","","","","","","","","","","","","","","","","","","","","","","","","","","","","","","","","","",0]
[{"$f":"ข้อมูลนักเรียน!B130","v":0},118,{"$f":"ข้อมูลนักเรียน!D130","v":0},null,null,null,null,null,null,null,null,null,null,null,null,null,null,null,null,null,null,null,null,null,null,null,null,null,null,null,null,null,null,null,null,null,null,null,null,null,null,null,null,null,null,null,0,null,null,null,null,null,"","","","","","","","","","","","","","","","","","","","","","","","","","","","","","","","","","","","","","","","",0]
[{"$f":"ข้อมูลนักเรียน!B131","v":0},119,{"$f":"ข้อมูลนักเรียน!D131","v":0},null,null,null,null,null,null,null,null,null,null,null,null,null,null,null,null,null,null,null,null,null,null,null,null,null,null,null,null,null,null,null,null,null,null,null,null,null,null,null,null,null,null,null,0,null,null,null,null,null,"","","","","","","","","","","","","","","","","","","","","","","","","","","","","","","","","","","","","","","","",0]
[{"$f":"ข้อมูลนักเรียน!B132","v":0},120,{"$f":"ข้อมูลนักเรียน!D132","v":0},null,null,null,null,null,null,null,null,null,null,null,null,null,null,null,null,null,null,null,null,null,null,null,null,null,null,null,null,null,null,null,null,null,null,null,null,null,null,null,null,null,null,null,0,null,null,null,null,null,"","","","","","","","","","","","","","","","","","","","","","","","","","","","","","","","","","","","","","","","",0]
[{"$f":"ข้อมูลนักเรียน!B133","v":0},121,{"$f":"ข้อมูลนักเรียน!D133","v":0},null,null,null,null,null,null,null,null,null,null,null,null,null,null,null,null,null,null,null,null,null,null,null,null,null,null,null,null,null,null,null,null,null,null,null,null,null,null,null,null,null,null,null,0,null,null,null,null,null,"","","","","","","","","","","","","","","","","","","","","","","","","","","","","","","","","","","","","","","","",0]
[{"$f":"ข้อมูลนักเรียน!B134","v":0},122,{"$f":"ข้อมูลนักเรียน!D134","v":0},null,null,null,null,null,null,null,null,null,null,null,null,null,null,null,null,null,null,null,null,null,null,null,null,null,null,null,null,null,null,null,null,null,null,null,null,null,null,null,null,null,null,null,0,null,null,null,null,null,"","","","","","","","","","","","","","","","","","","","","","","","","","","","","","","","","","","","","","","","",0]
[{"$f":"ข้อมูลนักเรียน!B135","v":0},123,{"$f":"ข้อมูลนักเรียน!D135","v":0},null,null,null,null,null,null,null,null,null,null,null,null,null,null,null,null,null,null,null,null,null,null,null,null,null,null,null,null,null,null,null,null,null,null,null,null,null,null,null,null,null,null,null,0,null,null,null,null,null,"","","","","","","","","","","","","","","","","","","","","","","","","","","","","","","","","","","","","","","","",0]
[{"$f":"ข้อมูลนักเรียน!B136","v":0},124,{"$f":"ข้อมูลนักเรียน!D136","v":0},null,null,null,null,null,null,null,null,null,null,null,null,null,null,null,null,null,null,null,null,null,null,null,null,null,null,null,null,null,null,null,null,null,null,null,null,null,null,null,null,null,null,null,0,null,null,null,null,null,"","","","","","","","","","","","","","","","","","","","","","","","","","","","","","","","","","","","","","","","",0]
[{"$f":"ข้อมูลนักเรียน!B137","v":0},125,{"$f":"ข้อมูลนักเรียน!D137","v":0},null,null,null,null,null,null,null,null,null,null,null,null,null,null,null,null,null,null,null,null,null,null,null,null,null,null,null,null,null,null,null,null,null,null,null,null,null,null,null,null,null,null,null,0,null,null,null,null,null,"","","","","","","","","","","","","","","","","","","","","","","","","","","","","","","","","","","","","","","","",0]
[{"$f":"ข้อมูลนักเรียน!B138","v":0},126,{"$f":"ข้อมูลนักเรียน!D138","v":0},null,null,null,null,null,null,null,null,null,null,null,null,null,null,null,null,null,null,null,null,null,null,null,null,null,null,null,null,null,null,null,null,null,null,null,null,null,null,null,null,null,null,null,0,null,null,null,null,null,"","","","","","","","","","","","","","","","","","","","","","","","","","","","","","","","","","","","","","","","",0]
[{"$f":"ข้อมูลนักเรียน!B139","v":0},127,{"$f":"ข้อมูลนักเรียน!D139","v":0},null,null,null,null,null,null,null,null,null,null,null,null,null,null,null,null,null,null,null,null,null,null,null,null,null,null,null,null,null,null,null,null,null,null,null,null,null,null,null,null,null,null,null,0,null,null,null,null,null,"","","","","","","","","","","","","","","","","","","","","","","","","","","","","","","","","","","","","","","","",0]
[{"$f":"ข้อมูลนักเรียน!B140","v":0},128,{"$f":"ข้อมูลนักเรียน!D140","v":0},null,null,null,null,null,null,null,null,null,null,null,null,null,null,null,null,null,null,null,null,null,null,null,null,null,null,null,null,null,null,null,null,null,null,null,null,null,null,null,null,null,null,null,0,null,null,null,null,null,"","","","","","","","","","","","","","","","","","","","","","","","","","","","","","","","","","","","","","","","",0]
[{"$f":"ข้อมูลนักเรียน!B141","v":0},129,{"$f":"ข้อมูลนักเรียน!D141","v":0},null,null,null,null,null,null,null,null,null,null,null,null,null,null,null,null,null,null,null,null,null,null,null,null,null,null,null,null,null,null,null,null,null,null,null,null,null,null,null,null,null,null,null,{"$f":"SUM(IF(G139=NumEn1,ScoreEn1),IF(H139=NumEn2,ScoreEn2),IF(I139=NumEn3,ScoreEn3),IF(J139=NumEn4,ScoreEn4),IF(K139=NumEn5,ScoreEn5),IF(L139=NumEn6,ScoreEn6),IF(M139=NumEn7,ScoreEn7),IF(N139=NumEn8,ScoreEn8),IF(O139=NumEn9,ScoreEn9),IF(P139=NumEn10,ScoreEn10),IF(Q139=NumEn11,ScoreEn11),IF(R139=NumEn12,ScoreEn12),IF(S139=NumEn13,ScoreEn13),IF(T139=NumEn14,ScoreEn14),IF(U139=NumEn15,ScoreEn15),IF(V139=NumEn16,ScoreEn16),IF(W139=NumEn17,ScoreEn17),IF(X139=NumEn18,ScoreEn18),IF(Y139=NumEn19,ScoreEn19),IF(Z139=NumEn20,ScoreEn20),IF(AA139=NumEn21,ScoreEn21),IF(AB139=NumEn22,ScoreEn22),IF(AC139=NumEn23,ScoreEn23),IF(AD139=NumEn24,ScoreEn24),IF(AE139=NumEn25,ScoreEn25),IF(AF139=NumEn26,ScoreEn26),IF(AG139=NumEn27,ScoreEn27),IF(AH139=NumEn28,ScoreEn28),IF(AI139=NumEn29,ScoreEn29),IF(AJ139=NumEn30,ScoreEn30),IF(AK139=NumEn31,ScoreEn31),IF(AL139=NumEn32,ScoreEn32),IF(AM139=NumEn33,ScoreEn33),IF(AN139=NumEn34,ScoreEn34),IF(AO139=NumEn35,ScoreEn35),IF(AP139=NumEn36,ScoreEn36),IF(AQ139=NumEn37,ScoreEn37),IF(AR139=NumEn38,ScoreEn38),IF(AS139=NumEn39,ScoreEn39),IF(AT139=NumEn40,ScoreEn40))","v":0},null,null,null,null,null,{"$f":"IF(G139=\"\",\"\",IF(G139=NumEn1,\"✓\",\"X\"))","v":""},{"$f":"IF(H139=\"\",\"\",IF(H139=NumEn2,\"✓\",\"X\"))","v":""},{"$f":"IF(I139=\"\",\"\",IF(I139=NumEn3,\"✓\",\"X\"))","v":""},{"$f":"IF(J139=\"\",\"\",IF(J139=NumEn4,\"✓\",\"X\"))","v":""},{"$f":"IF(K139=\"\",\"\",IF(K139=NumEn5,\"✓\",\"X\"))","v":""},{"$f":"IF(L139=\"\",\"\",IF(L139=NumEn6,\"✓\",\"X\"))","v":""},{"$f":"IF(M139=\"\",\"\",IF(M139=NumEn7,\"✓\",\"X\"))","v":""},{"$f":"IF(N139=\"\",\"\",IF(N139=NumEn8,\"✓\",\"X\"))","v":""},{"$f":"IF(O139=\"\",\"\",IF(O139=NumEn9,\"✓\",\"X\"))","v":""},{"$f":"IF(P139=\"\",\"\",IF(P139=NumEn10,\"✓\",\"X\"))","v":""},{"$f":"IF(Q139=\"\",\"\",IF(Q139=NumEn11,\"✓\",\"X\"))","v":""},{"$f":"IF(R139=\"\",\"\",IF(R139=NumEn12,\"✓\",\"X\"))","v":""},{"$f":"IF(S139=\"\",\"\",IF(S139=NumEn13,\"✓\",\"X\"))","v":""},{"$f":"IF(T139=\"\",\"\",IF(T139=NumEn14,\"✓\",\"X\"))","v":""},{"$f":"IF(U139=\"\",\"\",IF(U139=NumEn15,\"✓\",\"X\"))","v":""},{"$f":"IF(V139=\"\",\"\",IF(V139=NumEn16,\"✓\",\"X\"))","v":""},{"$f":"IF(W139=\"\",\"\",IF(W139=NumEn17,\"✓\",\"X\"))","v":""},{"$f":"IF(X139=\"\",\"\",IF(X139=NumEn18,\"✓\",\"X\"))","v":""},{"$f":"IF(Y139=\"\",\"\",IF(Y139=NumEn19,\"✓\",\"X\"))","v":""},{"$f":"IF(Z139=\"\",\"\",IF(Z139=NumEn20,\"✓\",\"X\"))","v":""},{"$f":"IF(AA139=\"\",\"\",IF(AA139=NumEn21,\"✓\",\"X\"))","v":""},{"$f":"IF(AB139=\"\",\"\",IF(AB139=NumEn22,\"✓\",\"X\"))","v":""},{"$f":"IF(AC139=\"\",\"\",IF(AC139=NumEn23,\"✓\",\"X\"))","v":""},{"$f":"IF(AD139=\"\",\"\",IF(AD139=NumEn24,\"✓\",\"X\"))","v":""},{"$f":"IF(AE139=\"\",\"\",IF(AE139=NumEn25,\"✓\",\"X\"))","v":""},{"$f":"IF(AF139=\"\",\"\",IF(AF139=NumEn26,\"✓\",\"X\"))","v":""},{"$f":"IF(AG139=\"\",\"\",IF(AG139=NumEn27,\"✓\",\"X\"))","v":""},{"$f":"IF(AH139=\"\",\"\",IF(AH139=NumEn28,\"✓\",\"X\"))","v":""},{"$f":"IF(AI139=\"\",\"\",IF(AI139=NumEn29,\"✓\",\"X\"))","v":""},{"$f":"IF(AJ139=\"\",\"\",IF(AJ139=NumEn30,\"✓\",\"X\"))","v":""},{"$f":"IF(AK139=\"\",\"\",IF(AK139=NumEn31,\"✓\",\"X\"))","v":""},{"$f":"IF(AL139=\"\",\"\",IF(AL139=NumEn32,\"✓\",\"X\"))","v":""},{"$f":"IF(AM139=\"\",\"\",IF(AM139=NumEn33,\"✓\",\"X\"))","v":""},{"$f":"IF(AN139=\"\",\"\",IF(AN139=NumEn34,\"✓\",\"X\"))","v":""},{"$f":"IF(AO139=\"\",\"\",IF(AO139=NumEn35,\"✓\",\"X\"))","v":""},{"$f":"IF(AP139=\"\",\"\",IF(AP139=NumEn36,\"✓\",\"X\"))","v":""},{"$f":"IF(AQ139=\"\",\"\",IF(AQ139=NumEn37,\"✓\",\"X\"))","v":""},{"$f":"IF(AR139=\"\",\"\",IF(AR139=NumEn38,\"✓\",\"X\"))","v":""},{"$f":"IF(AS139=\"\",\"\",IF(AS139=NumEn39,\"✓\",\"X\"))","v":""},{"$f":"IF(AT139=\"\",\"\",IF(AT139=NumEn40,\"✓\",\"X\"))","v":""},{"$f":"COUNTIF(BA139:CN139,\"✓\")","v":0}]
[{"$f":"ข้อมูลนักเรียน!B142","v":0},130,{"$f":"ข้อมูลนักเรียน!D142","v":0},null,null,null,null,null,null,null,null,null,null,null,null,null,null,null,null,null,null,null,null,null,null,null,null,null,null,null,null,null,null,null,null,null,null,null,null,null,null,null,null,null,null,null,0,null,null,null,null,null,"","","","","","","","","","","","","","","","","","","","","","","","","","","","","","","","","","","","","","","","",0]
[{"$f":"ข้อมูลนักเรียน!B143","v":0},131,{"$f":"ข้อมูลนักเรียน!D143","v":0},null,null,null,null,null,null,null,null,null,null,null,null,null,null,null,null,null,null,null,null,null,null,null,null,null,null,null,null,null,null,null,null,null,null,null,null,null,null,null,null,null,null,null,0,null,null,null,null,null,"","","","","","","","","","","","","","","","","","","","","","","","","","","","","","","","","","","","","","","","",0]
[{"$f":"ข้อมูลนักเรียน!B144","v":0},132,{"$f":"ข้อมูลนักเรียน!D144","v":0},null,null,null,null,null,null,null,null,null,null,null,null,null,null,null,null,null,null,null,null,null,null,null,null,null,null,null,null,null,null,null,null,null,null,null,null,null,null,null,null,null,null,null,0,null,null,null,null,null,"","","","","","","","","","","","","","","","","","","","","","","","","","","","","","","","","","","","","","","","",0]
[{"$f":"ข้อมูลนักเรียน!B145","v":0},133,{"$f":"ข้อมูลนักเรียน!D145","v":0},null,null,null,null,null,null,null,null,null,null,null,null,null,null,null,null,null,null,null,null,null,null,null,null,null,null,null,null,null,null,null,null,null,null,null,null,null,null,null,null,null,null,null,0,null,null,null,null,null,"","","","","","","","","","","","","","","","","","","","","","","","","","","","","","","","","","","","","","","","",0]
[{"$f":"ข้อมูลนักเรียน!B146","v":0},134,{"$f":"ข้อมูลนักเรียน!D146","v":0},null,null,null,null,null,null,null,null,null,null,null,null,null,null,null,null,null,null,null,null,null,null,null,null,null,null,null,null,null,null,null,null,null,null,null,null,null,null,null,null,null,null,null,0,null,null,null,null,null,"","","","","","","","","","","","","","","","","","","","","","","","","","","","","","","","","","","","","","","","",0]
[{"$f":"ข้อมูลนักเรียน!B147","v":0},135,{"$f":"ข้อมูลนักเรียน!D147","v":0},null,null,null,null,null,null,null,null,null,null,null,null,null,null,null,null,null,null,null,null,null,null,null,null,null,null,null,null,null,null,null,null,null,null,null,null,null,null,null,null,null,null,null,0,null,null,null,null,null,"","","","","","","","","","","","","","","","","","","","","","","","","","","","","","","","","","","","","","","","",0]
[{"$f":"ข้อมูลนักเรียน!B148","v":0},136,{"$f":"ข้อมูลนักเรียน!D148","v":0},null,null,null,null,null,null,null,null,null,null,null,null,null,null,null,null,null,null,null,null,null,null,null,null,null,null,null,null,null,null,null,null,null,null,null,null,null,null,null,null,null,null,null,0,null,null,null,null,null,"","","","","","","","","","","","","","","","","","","","","","","","","","","","","","","","","","","","","","","","",0]
[{"$f":"ข้อมูลนักเรียน!B149","v":0},137,{"$f":"ข้อมูลนักเรียน!D149","v":0},null,null,null,null,null,null,null,null,null,null,null,null,null,null,null,null,null,null,null,null,null,null,null,null,null,null,null,null,null,null,null,null,null,null,null,null,null,null,null,null,null,null,null,0,null,null,null,null,null,"","","","","","","","","","","","","","","","","","","","","","","","","","","","","","","","","","","","","","","","",0]
[{"$f":"ข้อมูลนักเรียน!B150","v":0},138,{"$f":"ข้อมูลนักเรียน!D150","v":0},null,null,null,null,null,null,null,null,null,null,null,null,null,null,null,null,null,null,null,null,null,null,null,null,null,null,null,null,null,null,null,null,null,null,null,null,null,null,null,null,null,null,null,0,null,null,null,null,null,"","","","","","","","","","","","","","","","","","","","","","","","","","","","","","","","","","","","","","","","",0]
[{"$f":"ข้อมูลนักเรียน!B151","v":0},139,{"$f":"ข้อมูลนักเรียน!D151","v":0},null,null,null,null,null,null,null,null,null,null,null,null,null,null,null,null,null,null,null,null,null,null,null,null,null,null,null,null,null,null,null,null,null,null,null,null,null,null,null,null,null,null,null,0,null,null,null,null,null,"","","","","","","","","","","","","","","","","","","","","","","","","","","","","","","","","","","","","","","","",0]
[{"$f":"ข้อมูลนักเรียน!B152","v":0},140,{"$f":"ข้อมูลนักเรียน!D152","v":0},null,null,null,null,null,null,null,null,null,null,null,null,null,null,null,null,null,null,null,null,null,null,null,null,null,null,null,null,null,null,null,null,null,null,null,null,null,null,null,null,null,null,null,0,null,null,null,null,null,"","","","","","","","","","","","","","","","","","","","","","","","","","","","","","","","","","","","","","","","",0]
[{"$f":"ข้อมูลนักเรียน!B153","v":0},141,{"$f":"ข้อมูลนักเรียน!D153","v":0},null,null,null,null,null,null,null,null,null,null,null,null,null,null,null,null,null,null,null,null,null,null,null,null,null,null,null,null,null,null,null,null,null,null,null,null,null,null,null,null,null,null,null,0,null,null,null,null,null,"","","","","","","","","","","","","","","","","","","","","","","","","","","","","","","","","","","","","","","","",0]
[{"$f":"ข้อมูลนักเรียน!B154","v":0},142,{"$f":"ข้อมูลนักเรียน!D154","v":0},null,null,null,null,null,null,null,null,null,null,null,null,null,null,null,null,null,null,null,null,null,null,null,null,null,null,null,null,null,null,null,null,null,null,null,null,null,null,null,null,null,null,null,0,null,null,null,null,null,"","","","","","","","","","","","","","","","","","","","","","","","","","","","","","","","","","","","","","","","",0]
[{"$f":"ข้อมูลนักเรียน!B155","v":0},143,{"$f":"ข้อมูลนักเรียน!D155","v":0},null,null,null,null,null,null,null,null,null,null,null,null,null,null,null,null,null,null,null,null,null,null,null,null,null,null,null,null,null,null,null,null,null,null,null,null,null,null,null,null,null,null,null,0,null,null,null,null,null,"","","","","","","","","","","","","","","","","","","","","","","","","","","","","","","","","","","","","","","","",0]
[{"$f":"ข้อมูลนักเรียน!B156","v":0},144,{"$f":"ข้อมูลนักเรียน!D156","v":0},null,null,null,null,null,null,null,null,null,null,null,null,null,null,null,null,null,null,null,null,null,null,null,null,null,null,null,null,null,null,null,null,null,null,null,null,null,null,null,null,null,null,null,0,null,null,null,null,null,"","","","","","","","","","","","","","","","","","","","","","","","","","","","","","","","","","","","","","","","",0]
[{"$f":"ข้อมูลนักเรียน!B157","v":0},145,{"$f":"ข้อมูลนักเรียน!D157","v":0},null,null,null,null,null,null,null,null,null,null,null,null,null,null,null,null,null,null,null,null,null,null,null,null,null,null,null,null,null,null,null,null,null,null,null,null,null,null,null,null,null,null,null,0,null,null,null,null,null,"","","","","","","","","","","","","","","","","","","","","","","","","","","","","","","","","","","","","","","","",0]
[{"$f":"ข้อมูลนักเรียน!B158","v":0},146,{"$f":"ข้อมูลนักเรียน!D158","v":0},null,null,null,null,null,null,null,null,null,null,null,null,null,null,null,null,null,null,null,null,null,null,null,null,null,null,null,null,null,null,null,null,null,null,null,null,null,null,null,null,null,null,null,0,null,null,null,null,null,"","","","","","","","","","","","","","","","","","","","","","","","","","","","","","","","","","","","","","","","",0]
[{"$f":"ข้อมูลนักเรียน!B159","v":0},147,{"$f":"ข้อมูลนักเรียน!D159","v":0},null,null,null,null,null,null,null,null,null,null,null,null,null,null,null,null,null,null,null,null,null,null,null,null,null,null,null,null,null,null,null,null,null,null,null,null,null,null,null,null,null,null,null,0,null,null,null,null,null,"","","","","","","","","","","","","","","","","","","","","","","","","","","","","","","","","","","","","","","","",0]
[{"$f":"ข้อมูลนักเรียน!B160","v":0},148,{"$f":"ข้อมูลนักเรียน!D160","v":0},null,null,null,null,null,null,null,null,null,null,null,null,null,null,null,null,null,null,null,null,null,null,null,null,null,null,null,null,null,null,null,null,null,null,null,null,null,null,null,null,null,null,null,0,null,null,null,null,null,"","","","","","","","","","","","","","","","","","","","","","","","","","","","","","","","","","","","","","","","",0]
[{"$f":"ข้อมูลนักเรียน!B161","v":0},149,{"$f":"ข้อมูลนักเรียน!D161","v":0},null,null,null,null,null,null,null,null,null,null,null,null,null,null,null,null,null,null,null,null,null,null,null,null,null,null,null,null,null,null,null,null,null,null,null,null,null,null,null,null,null,null,null,0,null,null,null,null,null,"","","","","","","","","","","","","","","","","","","","","","","","","","","","","","","","","","","","","","","","",0]
[{"$f":"ข้อมูลนักเรียน!B162","v":0},150,{"$f":"ข้อมูลนักเรียน!D162","v":0},null,null,null,null,null,null,null,null,null,null,null,null,null,null,null,null,null,null,null,null,null,null,null,null,null,null,null,null,null,null,null,null,null,null,null,null,null,null,null,null,null,null,null,0,null,null,null,null,null,"","","","","","","","","","","","","","","","","","","","","","","","","","","","","","","","","","","","","","","","",0]
[{"$f":"ข้อมูลนักเรียน!B163","v":0},151,{"$f":"ข้อมูลนักเรียน!D163","v":0},null,null,null,null,null,null,null,null,null,null,null,null,null,null,null,null,null,null,null,null,null,null,null,null,null,null,null,null,null,null,null,null,null,null,null,null,null,null,null,null,null,null,null,0,null,null,null,null,null,"","","","","","","","","","","","","","","","","","","","","","","","","","","","","","","","","","","","","","","","",0]
[{"$f":"ข้อมูลนักเรียน!B164","v":0},152,{"$f":"ข้อมูลนักเรียน!D164","v":0},null,null,null,null,null,null,null,null,null,null,null,null,null,null,null,null,null,null,null,null,null,null,null,null,null,null,null,null,null,null,null,null,null,null,null,null,null,null,null,null,null,null,null,0,null,null,null,null,null,"","","","","","","","","","","","","","","","","","","","","","","","","","","","","","","","","","","","","","","","",0]
[{"$f":"ข้อมูลนักเรียน!B165","v":0},153,{"$f":"ข้อมูลนักเรียน!D165","v":0},null,null,null,null,null,null,null,null,null,null,null,null,null,null,null,null,null,null,null,null,null,null,null,null,null,null,null,null,null,null,null,null,null,null,null,null,null,null,null,null,null,null,null,0,null,null,null,null,null,"","","","","","","","","","","","","","","","","","","","","","","","","","","","","","","","","","","","","","","","",0]
[{"$f":"ข้อมูลนักเรียน!B166","v":0},154,{"$f":"ข้อมูลนักเรียน!D166","v":0},null,null,null,null,null,null,null,null,null,null,null,null,null,null,null,null,null,null,null,null,null,null,null,null,null,null,null,null,null,null,null,null,null,null,null,null,null,null,null,null,null,null,null,0,null,null,null,null,null,"","","","","","","","","","","","","","","","","","","","","","","","","","","","","","","","","","","","","","","","",0]
[{"$f":"ข้อมูลนักเรียน!B167","v":0},155,{"$f":"ข้อมูลนักเรียน!D167","v":0},null,null,null,null,null,null,null,null,null,null,null,null,null,null,null,null,null,null,null,null,null,null,null,null,null,null,null,null,null,null,null,null,null,null,null,null,null,null,null,null,null,null,null,0,null,null,null,null,null,"","","","","","","","","","","","","","","","","","","","","","","","","","","","","","","","","","","","","","","","",0]
[{"$f":"ข้อมูลนักเรียน!B168","v":0},156,{"$f":"ข้อมูลนักเรียน!D168","v":0},null,null,null,null,null,null,null,null,null,null,null,null,null,null,null,null,null,null,null,null,null,null,null,null,null,null,null,null,null,null,null,null,null,null,null,null,null,null,null,null,null,null,null,0,null,null,null,null,null,"","","","","","","","","","","","","","","","","","","","","","","","","","","","","","","","","","","","","","","","",0]
[{"$f":"ข้อมูลนักเรียน!B169","v":0},157,{"$f":"ข้อมูลนักเรียน!D169","v":0},null,null,null,null,null,null,null,null,null,null,null,null,null,null,null,null,null,null,null,null,null,null,null,null,null,null,null,null,null,null,null,null,null,null,null,null,null,null,null,null,null,null,null,0,null,null,null,null,null,"","","","","","","","","","","","","","","","","","","","","","","","","","","","","","","","","","","","","","","","",0]
[{"$f":"ข้อมูลนักเรียน!B170","v":0},158,{"$f":"ข้อมูลนักเรียน!D170","v":0},null,null,null,null,null,null,null,null,null,null,null,null,null,null,null,null,null,null,null,null,null,null,null,null,null,null,null,null,null,null,null,null,null,null,null,null,null,null,null,null,null,null,null,0,null,null,null,null,null,"","","","","","","","","","","","","","","","","","","","","","","","","","","","","","","","","","","","","","","","",0]
[{"$f":"ข้อมูลนักเรียน!B171","v":0},159,{"$f":"ข้อมูลนักเรียน!D171","v":0},null,null,null,null,null,null,null,null,null,null,null,null,null,null,null,null,null,null,null,null,null,null,null,null,null,null,null,null,null,null,null,null,null,null,null,null,null,null,null,null,null,null,null,0,null,null,null,null,null,"","","","","","","","","","","","","","","","","","","","","","","","","","","","","","","","","","","","","","","","",0]
[{"$f":"ข้อมูลนักเรียน!B172","v":0},160,{"$f":"ข้อมูลนักเรียน!D172","v":0},null,null,null,null,null,null,null,null,null,null,null,null,null,null,null,null,null,null,null,null,null,null,null,null,null,null,null,null,null,null,null,null,null,null,null,null,null,null,null,null,null,null,null,0,null,null,null,null,null,"","","","","","","","","","","","","","","","","","","","","","","","","","","","","","","","","","","","","","","","",0]
[{"$f":"ข้อมูลนักเรียน!B173","v":0},161,{"$f":"ข้อมูลนักเรียน!D173","v":0},null,null,null,null,null,null,null,null,null,null,null,null,null,null,null,null,null,null,null,null,null,null,null,null,null,null,null,null,null,null,null,null,null,null,null,null,null,null,null,null,null,null,null,0,null,null,null,null,null,"","","","","","","","","","","","","","","","","","","","","","","","","","","","","","","","","","","","","","","","",0]
[{"$f":"ข้อมูลนักเรียน!B174","v":0},162,{"$f":"ข้อมูลนักเรียน!D174","v":0},null,null,null,null,null,null,null,null,null,null,null,null,null,null,null,null,null,null,null,null,null,null,null,null,null,null,null,null,null,null,null,null,null,null,null,null,null,null,null,null,null,null,null,0,null,null,null,null,null,"","","","","","","","","","","","","","","","","","","","","","","","","","","","","","","","","","","","","","","","",0]
[{"$f":"ข้อมูลนักเรียน!B175","v":0},163,{"$f":"ข้อมูลนักเรียน!D175","v":0},null,null,null,null,null,null,null,null,null,null,null,null,null,null,null,null,null,null,null,null,null,null,null,null,null,null,null,null,null,null,null,null,null,null,null,null,null,null,null,null,null,null,null,0,null,null,null,null,null,"","","","","","","","","","","","","","","","","","","","","","","","","","","","","","","","","","","","","","","","",0]
[{"$f":"ข้อมูลนักเรียน!B176","v":0},164,{"$f":"ข้อมูลนักเรียน!D176","v":0},null,null,null,null,null,null,null,null,null,null,null,null,null,null,null,null,null,null,null,null,null,null,null,null,null,null,null,null,null,null,null,null,null,null,null,null,null,null,null,null,null,null,null,0,null,null,null,null,null,"","","","","","","","","","","","","","","","","","","","","","","","","","","","","","","","","","","","","","","","",0]
[{"$f":"ข้อมูลนักเรียน!B177","v":0},165,{"$f":"ข้อมูลนักเรียน!D177","v":0},null,null,null,null,null,null,null,null,null,null,null,null,null,null,null,null,null,null,null,null,null,null,null,null,null,null,null,null,null,null,null,null,null,null,null,null,null,null,null,null,null,null,null,0,null,null,null,null,null,"","","","","","","","","","","","","","","","","","","","","","","","","","","","","","","","","","","","","","","","",0]
[{"$f":"ข้อมูลนักเรียน!B178","v":0},166,{"$f":"ข้อมูลนักเรียน!D178","v":0},null,null,null,null,null,null,null,null,null,null,null,null,null,null,null,null,null,null,null,null,null,null,null,null,null,null,null,null,null,null,null,null,null,null,null,null,null,null,null,null,null,null,null,0,null,null,null,null,null,"","","","","","","","","","","","","","","","","","","","","","","","","","","","","","","","","","","","","","","","",0]
[{"$f":"ข้อมูลนักเรียน!B179","v":0},167,{"$f":"ข้อมูลนักเรียน!D179","v":0},null,null,null,null,null,null,null,null,null,null,null,null,null,null,null,null,null,null,null,null,null,null,null,null,null,null,null,null,null,null,null,null,null,null,null,null,null,null,null,null,null,null,null,0,null,null,null,null,null,"","","","","","","","","","","","","","","","","","","","","","","","","","","","","","","","","","","","","","","","",0]
[{"$f":"ข้อมูลนักเรียน!B180","v":0},168,{"$f":"ข้อมูลนักเรียน!D180","v":0},null,null,null,null,null,null,null,null,null,null,null,null,null,null,null,null,null,null,null,null,null,null,null,null,null,null,null,null,null,null,null,null,null,null,null,null,null,null,null,null,null,null,null,0,null,null,null,null,null,"","","","","","","","","","","","","","","","","","","","","","","","","","","","","","","","","","","","","","","","",0]
[{"$f":"ข้อมูลนักเรียน!B181","v":0},169,{"$f":"ข้อมูลนักเรียน!D181","v":0},null,null,null,null,null,null,null,null,null,null,null,null,null,null,null,null,null,null,null,null,null,null,null,null,null,null,null,null,null,null,null,null,null,null,null,null,null,null,null,null,null,null,null,0,null,null,null,null,null,"","","","","","","","","","","","","","","","","","","","","","","","","","","","","","","","","","","","","","","","",0]
[{"$f":"ข้อมูลนักเรียน!B182","v":0},170,{"$f":"ข้อมูลนักเรียน!D182","v":0},null,null,null,null,null,null,null,null,null,null,null,null,null,null,null,null,null,null,null,null,null,null,null,null,null,null,null,null,null,null,null,null,null,null,null,null,null,null,null,null,null,null,null,0,null,null,null,null,null,"","","","","","","","","","","","","","","","","","","","","","","","","","","","","","","","","","","","","","","","",0]
[{"$f":"ข้อมูลนักเรียน!B183","v":0},171,{"$f":"ข้อมูลนักเรียน!D183","v":0},null,null,null,null,null,null,null,null,null,null,null,null,null,null,null,null,null,null,null,null,null,null,null,null,null,null,null,null,null,null,null,null,null,null,null,null,null,null,null,null,null,null,null,0,null,null,null,null,null,"","","","","","","","","","","","","","","","","","","","","","","","","","","","","","","","","","","","","","","","",0]
[{"$f":"ข้อมูลนักเรียน!B184","v":0},172,{"$f":"ข้อมูลนักเรียน!D184","v":0},null,null,null,null,null,null,null,null,null,null,null,null,null,null,null,null,null,null,null,null,null,null,null,null,null,null,null,null,null,null,null,null,null,null,null,null,null,null,null,null,null,null,null,0,null,null,null,null,null,"","","","","","","","","","","","","","","","","","","","","","","","","","","","","","","","","","","","","","","","",0]
[{"$f":"ข้อมูลนักเรียน!B185","v":0},173,{"$f":"ข้อมูลนักเรียน!D185","v":0},null,null,null,null,null,null,null,null,null,null,null,null,null,null,null,null,null,null,null,null,null,null,null,null,null,null,null,null,null,null,null,null,null,null,null,null,null,null,null,null,null,null,null,0,null,null,null,null,null,"","","","","","","","","","","","","","","","","","","","","","","","","","","","","","","","","","","","","","","","",0]
[{"$f":"ข้อมูลนักเรียน!B186","v":0},174,{"$f":"ข้อมูลนักเรียน!D186","v":0},null,null,null,null,null,null,null,null,null,null,null,null,null,null,null,null,null,null,null,null,null,null,null,null,null,null,null,null,null,null,null,null,null,null,null,null,null,null,null,null,null,null,null,0,null,null,null,null,null,"","","","","","","","","","","","","","","","","","","","","","","","","","","","","","","","","","","","","","","","",0]
[{"$f":"ข้อมูลนักเรียน!B187","v":0},175,{"$f":"ข้อมูลนักเรียน!D187","v":0},null,null,null,null,null,null,null,null,null,null,null,null,null,null,null,null,null,null,null,null,null,null,null,null,null,null,null,null,null,null,null,null,null,null,null,null,null,null,null,null,null,null,null,0,null,null,null,null,null,"","","","","","","","","","","","","","","","","","","","","","","","","","","","","","","","","","","","","","","","",0]
[{"$f":"ข้อมูลนักเรียน!B188","v":0},176,{"$f":"ข้อมูลนักเรียน!D188","v":0},null,null,null,null,null,null,null,null,null,null,null,null,null,null,null,null,null,null,null,null,null,null,null,null,null,null,null,null,null,null,null,null,null,null,null,null,null,null,null,null,null,null,null,0,null,null,null,null,null,"","","","","","","","","","","","","","","","","","","","","","","","","","","","","","","","","","","","","","","","",0]
[{"$f":"ข้อมูลนักเรียน!B189","v":0},177,{"$f":"ข้อมูลนักเรียน!D189","v":0},null,null,null,null,null,null,null,null,null,null,null,null,null,null,null,null,null,null,null,null,null,null,null,null,null,null,null,null,null,null,null,null,null,null,null,null,null,null,null,null,null,null,null,0,null,null,null,null,null,"","","","","","","","","","","","","","","","","","","","","","","","","","","","","","","","","","","","","","","","",0]
[{"$f":"ข้อมูลนักเรียน!B190","v":0},178,{"$f":"ข้อมูลนักเรียน!D190","v":0},null,null,null,null,null,null,null,null,null,null,null,null,null,null,null,null,null,null,null,null,null,null,null,null,null,null,null,null,null,null,null,null,null,null,null,null,null,null,null,null,null,null,null,0,null,null,null,null,null,"","","","","","","","","","","","","","","","","","","","","","","","","","","","","","","","","","","","","","","","",0]
[{"$f":"ข้อมูลนักเรียน!B191","v":0},179,{"$f":"ข้อมูลนักเรียน!D191","v":0},null,null,null,null,null,null,null,null,null,null,null,null,null,null,null,null,null,null,null,null,null,null,null,null,null,null,null,null,null,null,null,null,null,null,null,null,null,null,null,null,null,null,null,0,null,null,null,null,null,"","","","","","","","","","","","","","","","","","","","","","","","","","","","","","","","","","","","","","","","",0]
[{"$f":"ข้อมูลนักเรียน!B192","v":0},180,{"$f":"ข้อมูลนักเรียน!D192","v":0},null,null,null,null,null,null,null,null,null,null,null,null,null,null,null,null,null,null,null,null,null,null,null,null,null,null,null,null,null,null,null,null,null,null,null,null,null,null,null,null,null,null,null,0,null,null,null,null,null,"","","","","","","","","","","","","","","","","","","","","","","","","","","","","","","","","","","","","","","","",0]
[{"$f":"ข้อมูลนักเรียน!B193","v":0},181,{"$f":"ข้อมูลนักเรียน!D193","v":0},null,null,null,null,null,null,null,null,null,null,null,null,null,null,null,null,null,null,null,null,null,null,null,null,null,null,null,null,null,null,null,null,null,null,null,null,null,null,null,null,null,null,null,0,null,null,null,null,null,"","","","","","","","","","","","","","","","","","","","","","","","","","","","","","","","","","","","","","","","",0]
[{"$f":"ข้อมูลนักเรียน!B194","v":0},182,{"$f":"ข้อมูลนักเรียน!D194","v":0},null,null,null,null,null,null,null,null,null,null,null,null,null,null,null,null,null,null,null,null,null,null,null,null,null,null,null,null,null,null,null,null,null,null,null,null,null,null,null,null,null,null,null,0,null,null,null,null,null,"","","","","","","","","","","","","","","","","","","","","","","","","","","","","","","","","","","","","","","","",0]
[{"$f":"ข้อมูลนักเรียน!B195","v":0},183,{"$f":"ข้อมูลนักเรียน!D195","v":0},null,null,null,null,null,null,null,null,null,null,null,null,null,null,null,null,null,null,null,null,null,null,null,null,null,null,null,null,null,null,null,null,null,null,null,null,null,null,null,null,null,null,null,0,null,null,null,null,null,"","","","","","","","","","","","","","","","","","","","","","","","","","","","","","","","","","","","","","","","",0]
[{"$f":"ข้อมูลนักเรียน!B196","v":0},184,{"$f":"ข้อมูลนักเรียน!D196","v":0},null,null,null,null,null,null,null,null,null,null,null,null,null,null,null,null,null,null,null,null,null,null,null,null,null,null,null,null,null,null,null,null,null,null,null,null,null,null,null,null,null,null,null,0,null,null,null,null,null,"","","","","","","","","","","","","","","","","","","","","","","","","","","","","","","","","","","","","","","","",0]
[{"$f":"ข้อมูลนักเรียน!B197","v":0},185,{"$f":"ข้อมูลนักเรียน!D197","v":0},null,null,null,null,null,null,null,null,null,null,null,null,null,null,null,null,null,null,null,null,null,null,null,null,null,null,null,null,null,null,null,null,null,null,null,null,null,null,null,null,null,null,null,0,null,null,null,null,null,"","","","","","","","","","","","","","","","","","","","","","","","","","","","","","","","","","","","","","","","",0]
[{"$f":"ข้อมูลนักเรียน!B198","v":0},186,{"$f":"ข้อมูลนักเรียน!D198","v":0},null,null,null,null,null,null,null,null,null,null,null,null,null,null,null,null,null,null,null,null,null,null,null,null,null,null,null,null,null,null,null,null,null,null,null,null,null,null,null,null,null,null,null,0,null,null,null,null,null,"","","","","","","","","","","","","","","","","","","","","","","","","","","","","","","","","","","","","","","","",0]
[{"$f":"ข้อมูลนักเรียน!B199","v":0},187,{"$f":"ข้อมูลนักเรียน!D199","v":0},null,null,null,null,null,null,null,null,null,null,null,null,null,null,null,null,null,null,null,null,null,null,null,null,null,null,null,null,null,null,null,null,null,null,null,null,null,null,null,null,null,null,null,0,null,null,null,null,null,"","","","","","","","","","","","","","","","","","","","","","","","","","","","","","","","","","","","","","","","",0]
[{"$f":"ข้อมูลนักเรียน!B200","v":0},188,{"$f":"ข้อมูลนักเรียน!D200","v":0},null,null,null,null,null,null,null,null,null,null,null,null,null,null,null,null,null,null,null,null,null,null,null,null,null,null,null,null,null,null,null,null,null,null,null,null,null,null,null,null,null,null,null,0,null,null,null,null,null,"","","","","","","","","","","","","","","","","","","","","","","","","","","","","","","","","","","","","","","","",0]
[{"$f":"ข้อมูลนักเรียน!B201","v":0},189,{"$f":"ข้อมูลนักเรียน!D201","v":0},null,null,null,null,null,null,null,null,null,null,null,null,null,null,null,null,null,null,null,null,null,null,null,null,null,null,null,null,null,null,null,null,null,null,null,null,null,null,null,null,null,null,null,0,null,null,null,null,null,"","","","","","","","","","","","","","","","","","","","","","","","","","","","","","","","","","","","","","","","",0]
[{"$f":"ข้อมูลนักเรียน!B202","v":0},190,{"$f":"ข้อมูลนักเรียน!D202","v":0},null,null,null,null,null,null,null,null,null,null,null,null,null,null,null,null,null,null,null,null,null,null,null,null,null,null,null,null,null,null,null,null,null,null,null,null,null,null,null,null,null,null,null,0,null,null,null,null,null,"","","","","","","","","","","","","","","","","","","","","","","","","","","","","","","","","","","","","","","","",0]
[{"$f":"ข้อมูลนักเรียน!B203","v":0},191,{"$f":"ข้อมูลนักเรียน!D203","v":0},null,null,null,null,null,null,null,null,null,null,null,null,null,null,null,null,null,null,null,null,null,null,null,null,null,null,null,null,null,null,null,null,null,null,null,null,null,null,null,null,null,null,null,0,null,null,null,null,null,"","","","","","","","","","","","","","","","","","","","","","","","","","","","","","","","","","","","","","","","",0]
[{"$f":"ข้อมูลนักเรียน!B204","v":0},192,{"$f":"ข้อมูลนักเรียน!D204","v":0},null,null,null,null,null,null,null,null,null,null,null,null,null,null,null,null,null,null,null,null,null,null,null,null,null,null,null,null,null,null,null,null,null,null,null,null,null,null,null,null,null,null,null,0,null,null,null,null,null,"","","","","","","","","","","","","","","","","","","","","","","","","","","","","","","","","","","","","","","","",0]
[{"$f":"ข้อมูลนักเรียน!B205","v":0},193,{"$f":"ข้อมูลนักเรียน!D205","v":0},null,null,null,null,null,null,null,null,null,null,null,null,null,null,null,null,null,null,null,null,null,null,null,null,null,null,null,null,null,null,null,null,null,null,null,null,null,null,null,null,null,null,null,{"$f":"SUM(IF(G203=NumEn1,ScoreEn1),IF(H203=NumEn2,ScoreEn2),IF(I203=NumEn3,ScoreEn3),IF(J203=NumEn4,ScoreEn4),IF(K203=NumEn5,ScoreEn5),IF(L203=NumEn6,ScoreEn6),IF(M203=NumEn7,ScoreEn7),IF(N203=NumEn8,ScoreEn8),IF(O203=NumEn9,ScoreEn9),IF(P203=NumEn10,ScoreEn10),IF(Q203=NumEn11,ScoreEn11),IF(R203=NumEn12,ScoreEn12),IF(S203=NumEn13,ScoreEn13),IF(T203=NumEn14,ScoreEn14),IF(U203=NumEn15,ScoreEn15),IF(V203=NumEn16,ScoreEn16),IF(W203=NumEn17,ScoreEn17),IF(X203=NumEn18,ScoreEn18),IF(Y203=NumEn19,ScoreEn19),IF(Z203=NumEn20,ScoreEn20),IF(AA203=NumEn21,ScoreEn21),IF(AB203=NumEn22,ScoreEn22),IF(AC203=NumEn23,ScoreEn23),IF(AD203=NumEn24,ScoreEn24),IF(AE203=NumEn25,ScoreEn25),IF(AF203=NumEn26,ScoreEn26),IF(AG203=NumEn27,ScoreEn27),IF(AH203=NumEn28,ScoreEn28),IF(AI203=NumEn29,ScoreEn29),IF(AJ203=NumEn30,ScoreEn30),IF(AK203=NumEn31,ScoreEn31),IF(AL203=NumEn32,ScoreEn32),IF(AM203=NumEn33,ScoreEn33),IF(AN203=NumEn34,ScoreEn34),IF(AO203=NumEn35,ScoreEn35),IF(AP203=NumEn36,ScoreEn36),IF(AQ203=NumEn37,ScoreEn37),IF(AR203=NumEn38,ScoreEn38),IF(AS203=NumEn39,ScoreEn39),IF(AT203=NumEn40,ScoreEn40))","v":0},null,null,null,null,null,{"$f":"IF(G203=\"\",\"\",IF(G203=NumEn1,\"✓\",\"X\"))","v":""},{"$f":"IF(H203=\"\",\"\",IF(H203=NumEn2,\"✓\",\"X\"))","v":""},{"$f":"IF(I203=\"\",\"\",IF(I203=NumEn3,\"✓\",\"X\"))","v":""},{"$f":"IF(J203=\"\",\"\",IF(J203=NumEn4,\"✓\",\"X\"))","v":""},{"$f":"IF(K203=\"\",\"\",IF(K203=NumEn5,\"✓\",\"X\"))","v":""},{"$f":"IF(L203=\"\",\"\",IF(L203=NumEn6,\"✓\",\"X\"))","v":""},{"$f":"IF(M203=\"\",\"\",IF(M203=NumEn7,\"✓\",\"X\"))","v":""},{"$f":"IF(N203=\"\",\"\",IF(N203=NumEn8,\"✓\",\"X\"))","v":""},{"$f":"IF(O203=\"\",\"\",IF(O203=NumEn9,\"✓\",\"X\"))","v":""},{"$f":"IF(P203=\"\",\"\",IF(P203=NumEn10,\"✓\",\"X\"))","v":""},{"$f":"IF(Q203=\"\",\"\",IF(Q203=NumEn11,\"✓\",\"X\"))","v":""},{"$f":"IF(R203=\"\",\"\",IF(R203=NumEn12,\"✓\",\"X\"))","v":""},{"$f":"IF(S203=\"\",\"\",IF(S203=NumEn13,\"✓\",\"X\"))","v":""},{"$f":"IF(T203=\"\",\"\",IF(T203=NumEn14,\"✓\",\"X\"))","v":""},{"$f":"IF(U203=\"\",\"\",IF(U203=NumEn15,\"✓\",\"X\"))","v":""},{"$f":"IF(V203=\"\",\"\",IF(V203=NumEn16,\"✓\",\"X\"))","v":""},{"$f":"IF(W203=\"\",\"\",IF(W203=NumEn17,\"✓\",\"X\"))","v":""},{"$f":"IF(X203=\"\",\"\",IF(X203=NumEn18,\"✓\",\"X\"))","v":""},{"$f":"IF(Y203=\"\",\"\",IF(Y203=NumEn19,\"✓\",\"X\"))","v":""},{"$f":"IF(Z203=\"\",\"\",IF(Z203=NumEn20,\"✓\",\"X\"))","v":""},{"$f":"IF(AA203=\"\",\"\",IF(AA203=NumEn21,\"✓\",\"X\"))","v":""},{"$f":"IF(AB203=\"\",\"\",IF(AB203=NumEn22,\"✓\",\"X\"))","v":""},{"$f":"IF(AC203=\"\",\"\",IF(AC203=NumEn23,\"✓\",\"X\"))","v":""},{"$f":"IF(AD203=\"\",\"\",IF(AD203=NumEn24,\"✓\",\"X\"))","v":""},{"$f":"IF(AE203=\"\",\"\",IF(AE203=NumEn25,\"✓\",\"X\"))","v":""},{"$f":"IF(AF203=\"\",\"\",IF(AF203=NumEn26,\"✓\",\"X\"))","v":""},{"$f":"IF(AG203=\"\",\"\",IF(AG203=NumEn27,\"✓\",\"X\"))","v":""},{"$f":"IF(AH203=\"\",\"\",IF(AH203=NumEn28,\"✓\",\"X\"))","v":""},{"$f":"IF(AI203=\"\",\"\",IF(AI203=NumEn29,\"✓\",\"X\"))","v":""},{"$f":"IF(AJ203=\"\",\"\",IF(AJ203=NumEn30,\"✓\",\"X\"))","v":""},{"$f":"IF(AK203=\"\",\"\",IF(AK203=NumEn31,\"✓\",\"X\"))","v":""},{"$f":"IF(AL203=\"\",\"\",IF(AL203=NumEn32,\"✓\",\"X\"))","v":""},{"$f":"IF(AM203=\"\",\"\",IF(AM203=NumEn33,\"✓\",\"X\"))","v":""},{"$f":"IF(AN203=\"\",\"\",IF(AN203=NumEn34,\"✓\",\"X\"))","v":""},{"$f":"IF(AO203=\"\",\"\",IF(AO203=NumEn35,\"✓\",\"X\"))","v":""},{"$f":"IF(AP203=\"\",\"\",IF(AP203=NumEn36,\"✓\",\"X\"))","v":""},{"$f":"IF(AQ203=\"\",\"\",IF(AQ203=NumEn37,\"✓\",\"X\"))","v":""},{"$f":"IF(AR203=\"\",\"\",IF(AR203=NumEn38,\"✓\",\"X\"))","v":""},{"$f":"IF(AS203=\"\",\"\",IF(AS203=NumEn39,\"✓\",\"X\"))","v":""},{"$f":"IF(AT203=\"\",\"\",IF(AT203=NumEn40,\"✓\",\"X\"))","v":""},{"$f":"COUNTIF(BA203:CN203,\"✓\")","v":0}]
[{"$f":"ข้อมูลนักเรียน!B206","v":0},194,{"$f":"ข้อมูลนักเรียน!D206","v":0},null,null,null,null,null,null,null,null,null,null,null,null,null,null,null,null,null,null,null,null,null,null,null,null,null,null,null,null,null,null,null,null,null,null,null,null,null,null,null,null,null,null,null,0,null,null,null,null,null,"","","","","","","","","","","","","","","","","","","","","","","","","","","","","","","","","","","","","","","","",0]
[{"$f":"ข้อมูลนักเรียน!B207","v":0},195,{"$f":"ข้อมูลนักเรียน!D207","v":0},null,null,null,null,null,null,null,null,null,null,null,null,null,null,null,null,null,null,null,null,null,null,null,null,null,null,null,null,null,null,null,null,null,null,null,null,null,null,null,null,null,null,null,0,null,null,null,null,null,"","","","","","","","","","","","","","","","","","","","","","","","","","","","","","","","","","","","","","","","",0]
[{"$f":"ข้อมูลนักเรียน!B208","v":0},196,{"$f":"ข้อมูลนักเรียน!D208","v":0},null,null,null,null,null,null,null,null,null,null,null,null,null,null,null,null,null,null,null,null,null,null,null,null,null,null,null,null,null,null,null,null,null,null,null,null,null,null,null,null,null,null,null,0,null,null,null,null,null,"","","","","","","","","","","","","","","","","","","","","","","","","","","","","","","","","","","","","","","","",0]
[{"$f":"ข้อมูลนักเรียน!B209","v":0},197,{"$f":"ข้อมูลนักเรียน!D209","v":0},null,null,null,null,null,null,null,null,null,null,null,null,null,null,null,null,null,null,null,null,null,null,null,null,null,null,null,null,null,null,null,null,null,null,null,null,null,null,null,null,null,null,null,0,null,null,null,null,null,"","","","","","","","","","","","","","","","","","","","","","","","","","","","","","","","","","","","","","","","",0]
[{"$f":"ข้อมูลนักเรียน!B210","v":0},198,{"$f":"ข้อมูลนักเรียน!D210","v":0},null,null,null,null,null,null,null,null,null,null,null,null,null,null,null,null,null,null,null,null,null,null,null,null,null,null,null,null,null,null,null,null,null,null,null,null,null,null,null,null,null,null,null,0,null,null,null,null,null,"","","","","","","","","","","","","","","","","","","","","","","","","","","","","","","","","","","","","","","","",0]
[{"$f":"ข้อมูลนักเรียน!B211","v":0},199,{"$f":"ข้อมูลนักเรียน!D211","v":0},null,null,null,null,null,null,null,null,null,null,null,null,null,null,null,null,null,null,null,null,null,null,null,null,null,null,null,null,null,null,null,null,null,null,null,null,null,null,null,null,null,null,null,0,null,null,null,null,null,"","","","","","","","","","","","","","","","","","","","","","","","","","","","","","","","","","","","","","","","",0]
[{"$f":"ข้อมูลนักเรียน!B212","v":0},200,{"$f":"ข้อมูลนักเรียน!D212","v":0},null,null,null,null,null,null,null,null,null,null,null,null,null,null,null,null,null,null,null,null,null,null,null,null,null,null,null,null,null,null,null,null,null,null,null,null,null,null,null,null,null,null,null,0,null,null,null,null,null,"","","","","","","","","","","","","","","","","","","","","","","","","","","","","","","","","","","","","","","","",0]
[{"$f":"ข้อมูลนักเรียน!B213","v":0},201,{"$f":"ข้อมูลนักเรียน!D213","v":0},null,null,null,null,null,null,null,null,null,null,null,null,null,null,null,null,null,null,null,null,null,null,null,null,null,null,null,null,null,null,null,null,null,null,null,null,null,null,null,null,null,null,null,0,null,null,null,null,null,"","","","","","","","","","","","","","","","","","","","","","","","","","","","","","","","","","","","","","","","",0]
[{"$f":"ข้อมูลนักเรียน!B214","v":0},202,{"$f":"ข้อมูลนักเรียน!D214","v":0},null,null,null,null,null,null,null,null,null,null,null,null,null,null,null,null,null,null,null,null,null,null,null,null,null,null,null,null,null,null,null,null,null,null,null,null,null,null,null,null,null,null,null,0,null,null,null,null,null,"","","","","","","","","","","","","","","","","","","","","","","","","","","","","","","","","","","","","","","","",0]
[{"$f":"ข้อมูลนักเรียน!B215","v":0},203,{"$f":"ข้อมูลนักเรียน!D215","v":0},null,null,null,null,null,null,null,null,null,null,null,null,null,null,null,null,null,null,null,null,null,null,null,null,null,null,null,null,null,null,null,null,null,null,null,null,null,null,null,null,null,null,null,0,null,null,null,null,null,"","","","","","","","","","","","","","","","","","","","","","","","","","","","","","","","","","","","","","","","",0]
[{"$f":"ข้อมูลนักเรียน!B216","v":0},204,{"$f":"ข้อมูลนักเรียน!D216","v":0},null,null,null,null,null,null,null,null,null,null,null,null,null,null,null,null,null,null,null,null,null,null,null,null,null,null,null,null,null,null,null,null,null,null,null,null,null,null,null,null,null,null,null,0,null,null,null,null,null,"","","","","","","","","","","","","","","","","","","","","","","","","","","","","","","","","","","","","","","","",0]
[{"$f":"ข้อมูลนักเรียน!B217","v":0},205,{"$f":"ข้อมูลนักเรียน!D217","v":0},null,null,null,null,null,null,null,null,null,null,null,null,null,null,null,null,null,null,null,null,null,null,null,null,null,null,null,null,null,null,null,null,null,null,null,null,null,null,null,null,null,null,null,0,null,null,null,null,null,"","","","","","","","","","","","","","","","","","","","","","","","","","","","","","","","","","","","","","","","",0]
[{"$f":"ข้อมูลนักเรียน!B218","v":0},206,{"$f":"ข้อมูลนักเรียน!D218","v":0},null,null,null,null,null,null,null,null,null,null,null,null,null,null,null,null,null,null,null,null,null,null,null,null,null,null,null,null,null,null,null,null,null,null,null,null,null,null,null,null,null,null,null,0,null,null,null,null,null,"","","","","","","","","","","","","","","","","","","","","","","","","","","","","","","","","","","","","","","","",0]
[{"$f":"ข้อมูลนักเรียน!B219","v":0},207,{"$f":"ข้อมูลนักเรียน!D219","v":0},null,null,null,null,null,null,null,null,null,null,null,null,null,null,null,null,null,null,null,null,null,null,null,null,null,null,null,null,null,null,null,null,null,null,null,null,null,null,null,null,null,null,null,0,null,null,null,null,null,"","","","","","","","","","","","","","","","","","","","","","","","","","","","","","","","","","","","","","","","",0]
[{"$f":"ข้อมูลนักเรียน!B220","v":0},208,{"$f":"ข้อมูลนักเรียน!D220","v":0},null,null,null,null,null,null,null,null,null,null,null,null,null,null,null,null,null,null,null,null,null,null,null,null,null,null,null,null,null,null,null,null,null,null,null,null,null,null,null,null,null,null,null,0,null,null,null,null,null,"","","","","","","","","","","","","","","","","","","","","","","","","","","","","","","","","","","","","","","","",0]
[{"$f":"ข้อมูลนักเรียน!B221","v":0},209,{"$f":"ข้อมูลนักเรียน!D221","v":0},null,null,null,null,null,null,null,null,null,null,null,null,null,null,null,null,null,null,null,null,null,null,null,null,null,null,null,null,null,null,null,null,null,null,null,null,null,null,null,null,null,null,null,0,null,null,null,null,null,"","","","","","","","","","","","","","","","","","","","","","","","","","","","","","","","","","","","","","","","",0]
[{"$f":"ข้อมูลนักเรียน!B222","v":0},210,{"$f":"ข้อมูลนักเรียน!D222","v":0},null,null,null,null,null,null,null,null,null,null,null,null,null,null,null,null,null,null,null,null,null,null,null,null,null,null,null,null,null,null,null,null,null,null,null,null,null,null,null,null,null,null,null,0,null,null,null,null,null,"","","","","","","","","","","","","","","","","","","","","","","","","","","","","","","","","","","","","","","","",0]
[{"$f":"ข้อมูลนักเรียน!B223","v":0},211,{"$f":"ข้อมูลนักเรียน!D223","v":0},null,null,null,null,null,null,null,null,null,null,null,null,null,null,null,null,null,null,null,null,null,null,null,null,null,null,null,null,null,null,null,null,null,null,null,null,null,null,null,null,null,null,null,0,null,null,null,null,null,"","","","","","","","","","","","","","","","","","","","","","","","","","","","","","","","","","","","","","","","",0]
[{"$f":"ข้อมูลนักเรียน!B224","v":0},212,{"$f":"ข้อมูลนักเรียน!D224","v":0},null,null,null,null,null,null,null,null,null,null,null,null,null,null,null,null,null,null,null,null,null,null,null,null,null,null,null,null,null,null,null,null,null,null,null,null,null,null,null,null,null,null,null,0,null,null,null,null,null,"","","","","","","","","","","","","","","","","","","","","","","","","","","","","","","","","","","","","","","","",0]
[{"$f":"ข้อมูลนักเรียน!B225","v":0},213,{"$f":"ข้อมูลนักเรียน!D225","v":0},null,null,null,null,null,null,null,null,null,null,null,null,null,null,null,null,null,null,null,null,null,null,null,null,null,null,null,null,null,null,null,null,null,null,null,null,null,null,null,null,null,null,null,0,null,null,null,null,null,"","","","","","","","","","","","","","","","","","","","","","","","","","","","","","","","","","","","","","","","",0]
[{"$f":"ข้อมูลนักเรียน!B226","v":0},214,{"$f":"ข้อมูลนักเรียน!D226","v":0},null,null,null,null,null,null,null,null,null,null,null,null,null,null,null,null,null,null,null,null,null,null,null,null,null,null,null,null,null,null,null,null,null,null,null,null,null,null,null,null,null,null,null,0,null,null,null,null,null,"","","","","","","","","","","","","","","","","","","","","","","","","","","","","","","","","","","","","","","","",0]
[{"$f":"ข้อมูลนักเรียน!B227","v":0},215,{"$f":"ข้อมูลนักเรียน!D227","v":0},null,null,null,null,null,null,null,null,null,null,null,null,null,null,null,null,null,null,null,null,null,null,null,null,null,null,null,null,null,null,null,null,null,null,null,null,null,null,null,null,null,null,null,0,null,null,null,null,null,"","","","","","","","","","","","","","","","","","","","","","","","","","","","","","","","","","","","","","","","",0]
[{"$f":"ข้อมูลนักเรียน!B228","v":0},216,{"$f":"ข้อมูลนักเรียน!D228","v":0},null,null,null,null,null,null,null,null,null,null,null,null,null,null,null,null,null,null,null,null,null,null,null,null,null,null,null,null,null,null,null,null,null,null,null,null,null,null,null,null,null,null,null,0,null,null,null,null,null,"","","","","","","","","","","","","","","","","","","","","","","","","","","","","","","","","","","","","","","","",0]
[{"$f":"ข้อมูลนักเรียน!B229","v":0},217,{"$f":"ข้อมูลนักเรียน!D229","v":0},null,null,null,null,null,null,null,null,null,null,null,null,null,null,null,null,null,null,null,null,null,null,null,null,null,null,null,null,null,null,null,null,null,null,null,null,null,null,null,null,null,null,null,0,null,null,null,null,null,"","","","","","","","","","","","","","","","","","","","","","","","","","","","","","","","","","","","","","","","",0]
[{"$f":"ข้อมูลนักเรียน!B230","v":0},218,{"$f":"ข้อมูลนักเรียน!D230","v":0},null,null,null,null,null,null,null,null,null,null,null,null,null,null,null,null,null,null,null,null,null,null,null,null,null,null,null,null,null,null,null,null,null,null,null,null,null,null,null,null,null,null,null,0,null,null,null,null,null,"","","","","","","","","","","","","","","","","","","","","","","","","","","","","","","","","","","","","","","","",0]
[{"$f":"ข้อมูลนักเรียน!B231","v":0},219,{"$f":"ข้อมูลนักเรียน!D231","v":0},null,null,null,null,null,null,null,null,null,null,null,null,null,null,null,null,null,null,null,null,null,null,null,null,null,null,null,null,null,null,null,null,null,null,null,null,null,null,null,null,null,null,null,0,null,null,null,null,null,"","","","","","","","","","","","","","","","","","","","","","","","","","","","","","","","","","","","","","","","",0]
[{"$f":"ข้อมูลนักเรียน!B232","v":0},220,{"$f":"ข้อมูลนักเรียน!D232","v":0},null,null,null,null,null,null,null,null,null,null,null,null,null,null,null,null,null,null,null,null,null,null,null,null,null,null,null,null,null,null,null,null,null,null,null,null,null,null,null,null,null,null,null,0,null,null,null,null,null,"","","","","","","","","","","","","","","","","","","","","","","","","","","","","","","","","","","","","","","","",0]
[{"$f":"ข้อมูลนักเรียน!B233","v":0},221,{"$f":"ข้อมูลนักเรียน!D233","v":0},null,null,null,null,null,null,null,null,null,null,null,null,null,null,null,null,null,null,null,null,null,null,null,null,null,null,null,null,null,null,null,null,null,null,null,null,null,null,null,null,null,null,null,0,null,null,null,null,null,"","","","","","","","","","","","","","","","","","","","","","","","","","","","","","","","","","","","","","","","",0]
[{"$f":"ข้อมูลนักเรียน!B234","v":0},222,{"$f":"ข้อมูลนักเรียน!D234","v":0},null,null,null,null,null,null,null,null,null,null,null,null,null,null,null,null,null,null,null,null,null,null,null,null,null,null,null,null,null,null,null,null,null,null,null,null,null,null,null,null,null,null,null,0,null,null,null,null,null,"","","","","","","","","","","","","","","","","","","","","","","","","","","","","","","","","","","","","","","","",0]
[{"$f":"ข้อมูลนักเรียน!B235","v":0},223,{"$f":"ข้อมูลนักเรียน!D235","v":0},null,null,null,null,null,null,null,null,null,null,null,null,null,null,null,null,null,null,null,null,null,null,null,null,null,null,null,null,null,null,null,null,null,null,null,null,null,null,null,null,null,null,null,0,null,null,null,null,null,"","","","","","","","","","","","","","","","","","","","","","","","","","","","","","","","","","","","","","","","",0]
[{"$f":"ข้อมูลนักเรียน!B236","v":0},224,{"$f":"ข้อมูลนักเรียน!D236","v":0},null,null,null,null,null,null,null,null,null,null,null,null,null,null,null,null,null,null,null,null,null,null,null,null,null,null,null,null,null,null,null,null,null,null,null,null,null,null,null,null,null,null,null,0,null,null,null,null,null,"","","","","","","","","","","","","","","","","","","","","","","","","","","","","","","","","","","","","","","","",0]
[{"$f":"ข้อมูลนักเรียน!B237","v":0},225,{"$f":"ข้อมูลนักเรียน!D237","v":0},null,null,null,null,null,null,null,null,null,null,null,null,null,null,null,null,null,null,null,null,null,null,null,null,null,null,null,null,null,null,null,null,null,null,null,null,null,null,null,null,null,null,null,0,null,null,null,null,null,"","","","","","","","","","","","","","","","","","","","","","","","","","","","","","","","","","","","","","","","",0]
[{"$f":"ข้อมูลนักเรียน!B238","v":0},226,{"$f":"ข้อมูลนักเรียน!D238","v":0},null,null,null,null,null,null,null,null,null,null,null,null,null,null,null,null,null,null,null,null,null,null,null,null,null,null,null,null,null,null,null,null,null,null,null,null,null,null,null,null,null,null,null,0,null,null,null,null,null,"","","","","","","","","","","","","","","","","","","","","","","","","","","","","","","","","","","","","","","","",0]
[{"$f":"ข้อมูลนักเรียน!B239","v":0},227,{"$f":"ข้อมูลนักเรียน!D239","v":0},null,null,null,null,null,null,null,null,null,null,null,null,null,null,null,null,null,null,null,null,null,null,null,null,null,null,null,null,null,null,null,null,null,null,null,null,null,null,null,null,null,null,null,0,null,null,null,null,null,"","","","","","","","","","","","","","","","","","","","","","","","","","","","","","","","","","","","","","","","",0]
[{"$f":"ข้อมูลนักเรียน!B240","v":0},228,{"$f":"ข้อมูลนักเรียน!D240","v":0},null,null,null,null,null,null,null,null,null,null,null,null,null,null,null,null,null,null,null,null,null,null,null,null,null,null,null,null,null,null,null,null,null,null,null,null,null,null,null,null,null,null,null,0,null,null,null,null,null,"","","","","","","","","","","","","","","","","","","","","","","","","","","","","","","","","","","","","","","","",0]
[{"$f":"ข้อมูลนักเรียน!B241","v":0},229,{"$f":"ข้อมูลนักเรียน!D241","v":0},null,null,null,null,null,null,null,null,null,null,null,null,null,null,null,null,null,null,null,null,null,null,null,null,null,null,null,null,null,null,null,null,null,null,null,null,null,null,null,null,null,null,null,0,null,null,null,null,null,"","","","","","","","","","","","","","","","","","","","","","","","","","","","","","","","","","","","","","","","",0]
[{"$f":"ข้อมูลนักเรียน!B242","v":0},230,{"$f":"ข้อมูลนักเรียน!D242","v":0},null,null,null,null,null,null,null,null,null,null,null,null,null,null,null,null,null,null,null,null,null,null,null,null,null,null,null,null,null,null,null,null,null,null,null,null,null,null,null,null,null,null,null,0,null,null,null,null,null,"","","","","","","","","","","","","","","","","","","","","","","","","","","","","","","","","","","","","","","","",0]
[{"$f":"ข้อมูลนักเรียน!B243","v":0},231,{"$f":"ข้อมูลนักเรียน!D243","v":0},null,null,null,null,null,null,null,null,null,null,null,null,null,null,null,null,null,null,null,null,null,null,null,null,null,null,null,null,null,null,null,null,null,null,null,null,null,null,null,null,null,null,null,0,null,null,null,null,null,"","","","","","","","","","","","","","","","","","","","","","","","","","","","","","","","","","","","","","","","",0]
[{"$f":"ข้อมูลนักเรียน!B244","v":0},232,{"$f":"ข้อมูลนักเรียน!D244","v":0},null,null,null,null,null,null,null,null,null,null,null,null,null,null,null,null,null,null,null,null,null,null,null,null,null,null,null,null,null,null,null,null,null,null,null,null,null,null,null,null,null,null,null,0,null,null,null,null,null,"","","","","","","","","","","","","","","","","","","","","","","","","","","","","","","","","","","","","","","","",0]
[{"$f":"ข้อมูลนักเรียน!B245","v":0},233,{"$f":"ข้อมูลนักเรียน!D245","v":0},null,null,null,null,null,null,null,null,null,null,null,null,null,null,null,null,null,null,null,null,null,null,null,null,null,null,null,null,null,null,null,null,null,null,null,null,null,null,null,null,null,null,null,0,null,null,null,null,null,"","","","","","","","","","","","","","","","","","","","","","","","","","","","","","","","","","","","","","","","",0]
[{"$f":"ข้อมูลนักเรียน!B246","v":0},234,{"$f":"ข้อมูลนักเรียน!D246","v":0},null,null,null,null,null,null,null,null,null,null,null,null,null,null,null,null,null,null,null,null,null,null,null,null,null,null,null,null,null,null,null,null,null,null,null,null,null,null,null,null,null,null,null,0,null,null,null,null,null,"","","","","","","","","","","","","","","","","","","","","","","","","","","","","","","","","","","","","","","","",0]
[{"$f":"ข้อมูลนักเรียน!B247","v":0},235,{"$f":"ข้อมูลนักเรียน!D247","v":0},null,null,null,null,null,null,null,null,null,null,null,null,null,null,null,null,null,null,null,null,null,null,null,null,null,null,null,null,null,null,null,null,null,null,null,null,null,null,null,null,null,null,null,0,null,null,null,null,null,"","","","","","","","","","","","","","","","","","","","","","","","","","","","","","","","","","","","","","","","",0]
[{"$f":"ข้อมูลนักเรียน!B248","v":0},236,{"$f":"ข้อมูลนักเรียน!D248","v":0},null,null,null,null,null,null,null,null,null,null,null,null,null,null,null,null,null,null,null,null,null,null,null,null,null,null,null,null,null,null,null,null,null,null,null,null,null,null,null,null,null,null,null,0,null,null,null,null,null,"","","","","","","","","","","","","","","","","","","","","","","","","","","","","","","","","","","","","","","","",0]
[{"$f":"ข้อมูลนักเรียน!B249","v":0},237,{"$f":"ข้อมูลนักเรียน!D249","v":0},null,null,null,null,null,null,null,null,null,null,null,null,null,null,null,null,null,null,null,null,null,null,null,null,null,null,null,null,null,null,null,null,null,null,null,null,null,null,null,null,null,null,null,0,null,null,null,null,null,"","","","","","","","","","","","","","","","","","","","","","","","","","","","","","","","","","","","","","","","",0]
[{"$f":"ข้อมูลนักเรียน!B250","v":0},238,{"$f":"ข้อมูลนักเรียน!D250","v":0},null,null,null,null,null,null,null,null,null,null,null,null,null,null,null,null,null,null,null,null,null,null,null,null,null,null,null,null,null,null,null,null,null,null,null,null,null,null,null,null,null,null,null,0,null,null,null,null,null,"","","","","","","","","","","","","","","","","","","","","","","","","","","","","","","","","","","","","","","","",0]
[{"$f":"ข้อมูลนักเรียน!B251","v":0},239,{"$f":"ข้อมูลนักเรียน!D251","v":0},null,null,null,null,null,null,null,null,null,null,null,null,null,null,null,null,null,null,null,null,null,null,null,null,null,null,null,null,null,null,null,null,null,null,null,null,null,null,null,null,null,null,null,0,null,null,null,null,null,"","","","","","","","","","","","","","","","","","","","","","","","","","","","","","","","","","","","","","","","",0]
[{"$f":"ข้อมูลนักเรียน!B252","v":0},240,{"$f":"ข้อมูลนักเรียน!D252","v":0},null,null,null,null,null,null,null,null,null,null,null,null,null,null,null,null,null,null,null,null,null,null,null,null,null,null,null,null,null,null,null,null,null,null,null,null,null,null,null,null,null,null,null,0,null,null,null,null,null,"","","","","","","","","","","","","","","","","","","","","","","","","","","","","","","","","","","","","","","","",0]
[{"$f":"ข้อมูลนักเรียน!B253","v":0},241,{"$f":"ข้อมูลนักเรียน!D253","v":0},null,null,null,null,null,null,null,null,null,null,null,null,null,null,null,null,null,null,null,null,null,null,null,null,null,null,null,null,null,null,null,null,null,null,null,null,null,null,null,null,null,null,null,0,null,null,null,null,null,"","","","","","","","","","","","","","","","","","","","","","","","","","","","","","","","","","","","","","","","",0]
[{"$f":"ข้อมูลนักเรียน!B254","v":0},242,{"$f":"ข้อมูลนักเรียน!D254","v":0},null,null,null,null,null,null,null,null,null,null,null,null,null,null,null,null,null,null,null,null,null,null,null,null,null,null,null,null,null,null,null,null,null,null,null,null,null,null,null,null,null,null,null,0,null,null,null,null,null,"","","","","","","","","","","","","","","","","","","","","","","","","","","","","","","","","","","","","","","","",0]
[{"$f":"ข้อมูลนักเรียน!B255","v":0},243,{"$f":"ข้อมูลนักเรียน!D255","v":0},null,null,null,null,null,null,null,null,null,null,null,null,null,null,null,null,null,null,null,null,null,null,null,null,null,null,null,null,null,null,null,null,null,null,null,null,null,null,null,null,null,null,null,0,null,null,null,null,null,"","","","","","","","","","","","","","","","","","","","","","","","","","","","","","","","","","","","","","","","",0]
[{"$f":"ข้อมูลนักเรียน!B256","v":0},244,{"$f":"ข้อมูลนักเรียน!D256","v":0},null,null,null,null,null,null,null,null,null,null,null,null,null,null,null,null,null,null,null,null,null,null,null,null,null,null,null,null,null,null,null,null,null,null,null,null,null,null,null,null,null,null,null,0,null,null,null,null,null,"","","","","","","","","","","","","","","","","","","","","","","","","","","","","","","","","","","","","","","","",0]
[{"$f":"ข้อมูลนักเรียน!B257","v":0},245,{"$f":"ข้อมูลนักเรียน!D257","v":0},null,null,null,null,null,null,null,null,null,null,null,null,null,null,null,null,null,null,null,null,null,null,null,null,null,null,null,null,null,null,null,null,null,null,null,null,null,null,null,null,null,null,null,0,null,null,null,null,null,"","","","","","","","","","","","","","","","","","","","","","","","","","","","","","","","","","","","","","","","",0]
[{"$f":"ข้อมูลนักเรียน!B258","v":0},246,{"$f":"ข้อมูลนักเรียน!D258","v":0},null,null,null,null,null,null,null,null,null,null,null,null,null,null,null,null,null,null,null,null,null,null,null,null,null,null,null,null,null,null,null,null,null,null,null,null,null,null,null,null,null,null,null,0,null,null,null,null,null,"","","","","","","","","","","","","","","","","","","","","","","","","","","","","","","","","","","","","","","","",0]
[{"$f":"ข้อมูลนักเรียน!B259","v":0},247,{"$f":"ข้อมูลนักเรียน!D259","v":0},null,null,null,null,null,null,null,null,null,null,null,null,null,null,null,null,null,null,null,null,null,null,null,null,null,null,null,null,null,null,null,null,null,null,null,null,null,null,null,null,null,null,null,0,null,null,null,null,null,"","","","","","","","","","","","","","","","","","","","","","","","","","","","","","","","","","","","","","","","",0]
[{"$f":"ข้อมูลนักเรียน!B260","v":0},248,{"$f":"ข้อมูลนักเรียน!D260","v":0},null,null,null,null,null,null,null,null,null,null,null,null,null,null,null,null,null,null,null,null,null,null,null,null,null,null,null,null,null,null,null,null,null,null,null,null,null,null,null,null,null,null,null,0,null,null,null,null,null,"","","","","","","","","","","","","","","","","","","","","","","","","","","","","","","","","","","","","","","","",0]
[{"$f":"ข้อมูลนักเรียน!B261","v":0},249,{"$f":"ข้อมูลนักเรียน!D261","v":0},null,null,null,null,null,null,null,null,null,null,null,null,null,null,null,null,null,null,null,null,null,null,null,null,null,null,null,null,null,null,null,null,null,null,null,null,null,null,null,null,null,null,null,0,null,null,null,null,null,"","","","","","","","","","","","","","","","","","","","","","","","","","","","","","","","","","","","","","","","",0]
[{"$f":"ข้อมูลนักเรียน!B262","v":0},250,{"$f":"ข้อมูลนักเรียน!D262","v":0},null,null,null,null,null,null,null,null,null,null,null,null,null,null,null,null,null,null,null,null,null,null,null,null,null,null,null,null,null,null,null,null,null,null,null,null,null,null,null,null,null,null,null,0,null,null,null,null,null,"","","","","","","","","","","","","","","","","","","","","","","","","","","","","","","","","","","","","","","","",0]
[{"$f":"ข้อมูลนักเรียน!B263","v":0},251,{"$f":"ข้อมูลนักเรียน!D263","v":0},null,null,null,null,null,null,null,null,null,null,null,null,null,null,null,null,null,null,null,null,null,null,null,null,null,null,null,null,null,null,null,null,null,null,null,null,null,null,null,null,null,null,null,0,null,null,null,null,null,"","","","","","","","","","","","","","","","","","","","","","","","","","","","","","","","","","","","","","","","",0]
[{"$f":"ข้อมูลนักเรียน!B264","v":0},252,{"$f":"ข้อมูลนักเรียน!D264","v":0},null,null,null,null,null,null,null,null,null,null,null,null,null,null,null,null,null,null,null,null,null,null,null,null,null,null,null,null,null,null,null,null,null,null,null,null,null,null,null,null,null,null,null,0,null,null,null,null,null,"","","","","","","","","","","","","","","","","","","","","","","","","","","","","","","","","","","","","","","","",0]
[{"$f":"ข้อมูลนักเรียน!B265","v":0},253,{"$f":"ข้อมูลนักเรียน!D265","v":0},null,null,null,null,null,null,null,null,null,null,null,null,null,null,null,null,null,null,null,null,null,null,null,null,null,null,null,null,null,null,null,null,null,null,null,null,null,null,null,null,null,null,null,0,null,null,null,null,null,"","","","","","","","","","","","","","","","","","","","","","","","","","","","","","","","","","","","","","","","",0]
[{"$f":"ข้อมูลนักเรียน!B266","v":0},254,{"$f":"ข้อมูลนักเรียน!D266","v":0},null,null,null,null,null,null,null,null,null,null,null,null,null,null,null,null,null,null,null,null,null,null,null,null,null,null,null,null,null,null,null,null,null,null,null,null,null,null,null,null,null,null,null,0,null,null,null,null,null,"","","","","","","","","","","","","","","","","","","","","","","","","","","","","","","","","","","","","","","","",0]
[{"$f":"ข้อมูลนักเรียน!B267","v":0},255,{"$f":"ข้อมูลนักเรียน!D267","v":0},null,null,null,null,null,null,null,null,null,null,null,null,null,null,null,null,null,null,null,null,null,null,null,null,null,null,null,null,null,null,null,null,null,null,null,null,null,null,null,null,null,null,null,0,null,null,null,null,null,"","","","","","","","","","","","","","","","","","","","","","","","","","","","","","","","","","","","","","","","",0]
[{"$f":"ข้อมูลนักเรียน!B268","v":0},256,{"$f":"ข้อมูลนักเรียน!D268","v":0},null,null,null,null,null,null,null,null,null,null,null,null,null,null,null,null,null,null,null,null,null,null,null,null,null,null,null,null,null,null,null,null,null,null,null,null,null,null,null,null,null,null,null,0,null,null,null,null,null,"","","","","","","","","","","","","","","","","","","","","","","","","","","","","","","","","","","","","","","","",0]
[{"$f":"ข้อมูลนักเรียน!B269","v":0},257,{"$f":"ข้อมูลนักเรียน!D269","v":0},null,null,null,null,null,null,null,null,null,null,null,null,null,null,null,null,null,null,null,null,null,null,null,null,null,null,null,null,null,null,null,null,null,null,null,null,null,null,null,null,null,null,null,{"$f":"SUM(IF(G267=NumEn1,ScoreEn1),IF(H267=NumEn2,ScoreEn2),IF(I267=NumEn3,ScoreEn3),IF(J267=NumEn4,ScoreEn4),IF(K267=NumEn5,ScoreEn5),IF(L267=NumEn6,ScoreEn6),IF(M267=NumEn7,ScoreEn7),IF(N267=NumEn8,ScoreEn8),IF(O267=NumEn9,ScoreEn9),IF(P267=NumEn10,ScoreEn10),IF(Q267=NumEn11,ScoreEn11),IF(R267=NumEn12,ScoreEn12),IF(S267=NumEn13,ScoreEn13),IF(T267=NumEn14,ScoreEn14),IF(U267=NumEn15,ScoreEn15),IF(V267=NumEn16,ScoreEn16),IF(W267=NumEn17,ScoreEn17),IF(X267=NumEn18,ScoreEn18),IF(Y267=NumEn19,ScoreEn19),IF(Z267=NumEn20,ScoreEn20),IF(AA267=NumEn21,ScoreEn21),IF(AB267=NumEn22,ScoreEn22),IF(AC267=NumEn23,ScoreEn23),IF(AD267=NumEn24,ScoreEn24),IF(AE267=NumEn25,ScoreEn25),IF(AF267=NumEn26,ScoreEn26),IF(AG267=NumEn27,ScoreEn27),IF(AH267=NumEn28,ScoreEn28),IF(AI267=NumEn29,ScoreEn29),IF(AJ267=NumEn30,ScoreEn30),IF(AK267=NumEn31,ScoreEn31),IF(AL267=NumEn32,ScoreEn32),IF(AM267=NumEn33,ScoreEn33),IF(AN267=NumEn34,ScoreEn34),IF(AO267=NumEn35,ScoreEn35),IF(AP267=NumEn36,ScoreEn36),IF(AQ267=NumEn37,ScoreEn37),IF(AR267=NumEn38,ScoreEn38),IF(AS267=NumEn39,ScoreEn39),IF(AT267=NumEn40,ScoreEn40))","v":0},null,null,null,null,null,{"$f":"IF(G267=\"\",\"\",IF(G267=NumEn1,\"✓\",\"X\"))","v":""},{"$f":"IF(H267=\"\",\"\",IF(H267=NumEn2,\"✓\",\"X\"))","v":""},{"$f":"IF(I267=\"\",\"\",IF(I267=NumEn3,\"✓\",\"X\"))","v":""},{"$f":"IF(J267=\"\",\"\",IF(J267=NumEn4,\"✓\",\"X\"))","v":""},{"$f":"IF(K267=\"\",\"\",IF(K267=NumEn5,\"✓\",\"X\"))","v":""},{"$f":"IF(L267=\"\",\"\",IF(L267=NumEn6,\"✓\",\"X\"))","v":""},{"$f":"IF(M267=\"\",\"\",IF(M267=NumEn7,\"✓\",\"X\"))","v":""},{"$f":"IF(N267=\"\",\"\",IF(N267=NumEn8,\"✓\",\"X\"))","v":""},{"$f":"IF(O267=\"\",\"\",IF(O267=NumEn9,\"✓\",\"X\"))","v":""},{"$f":"IF(P267=\"\",\"\",IF(P267=NumEn10,\"✓\",\"X\"))","v":""},{"$f":"IF(Q267=\"\",\"\",IF(Q267=NumEn11,\"✓\",\"X\"))","v":""},{"$f":"IF(R267=\"\",\"\",IF(R267=NumEn12,\"✓\",\"X\"))","v":""},{"$f":"IF(S267=\"\",\"\",IF(S267=NumEn13,\"✓\",\"X\"))","v":""},{"$f":"IF(T267=\"\",\"\",IF(T267=NumEn14,\"✓\",\"X\"))","v":""},{"$f":"IF(U267=\"\",\"\",IF(U267=NumEn15,\"✓\",\"X\"))","v":""},{"$f":"IF(V267=\"\",\"\",IF(V267=NumEn16,\"✓\",\"X\"))","v":""},{"$f":"IF(W267=\"\",\"\",IF(W267=NumEn17,\"✓\",\"X\"))","v":""},{"$f":"IF(X267=\"\",\"\",IF(X267=NumEn18,\"✓\",\"X\"))","v":""},{"$f":"IF(Y267=\"\",\"\",IF(Y267=NumEn19,\"✓\",\"X\"))","v":""},{"$f":"IF(Z267=\"\",\"\",IF(Z267=NumEn20,\"✓\",\"X\"))","v":""},{"$f":"IF(AA267=\"\",\"\",IF(AA267=NumEn21,\"✓\",\"X\"))","v":""},{"$f":"IF(AB267=\"\",\"\",IF(AB267=NumEn22,\"✓\",\"X\"))","v":""},{"$f":"IF(AC267=\"\",\"\",IF(AC267=NumEn23,\"✓\",\"X\"))","v":""},{"$f":"IF(AD267=\"\",\"\",IF(AD267=NumEn24,\"✓\",\"X\"))","v":""},{"$f":"IF(AE267=\"\",\"\",IF(AE267=NumEn25,\"✓\",\"X\"))","v":""},{"$f":"IF(AF267=\"\",\"\",IF(AF267=NumEn26,\"✓\",\"X\"))","v":""},{"$f":"IF(AG267=\"\",\"\",IF(AG267=NumEn27,\"✓\",\"X\"))","v":""},{"$f":"IF(AH267=\"\",\"\",IF(AH267=NumEn28,\"✓\",\"X\"))","v":""},{"$f":"IF(AI267=\"\",\"\",IF(AI267=NumEn29,\"✓\",\"X\"))","v":""},{"$f":"IF(AJ267=\"\",\"\",IF(AJ267=NumEn30,\"✓\",\"X\"))","v":""},{"$f":"IF(AK267=\"\",\"\",IF(AK267=NumEn31,\"✓\",\"X\"))","v":""},{"$f":"IF(AL267=\"\",\"\",IF(AL267=NumEn32,\"✓\",\"X\"))","v":""},{"$f":"IF(AM267=\"\",\"\",IF(AM267=NumEn33,\"✓\",\"X\"))","v":""},{"$f":"IF(AN267=\"\",\"\",IF(AN267=NumEn34,\"✓\",\"X\"))","v":""},{"$f":"IF(AO267=\"\",\"\",IF(AO267=NumEn35,\"✓\",\"X\"))","v":""},{"$f":"IF(AP267=\"\",\"\",IF(AP267=NumEn36,\"✓\",\"X\"))","v":""},{"$f":"IF(AQ267=\"\",\"\",IF(AQ267=NumEn37,\"✓\",\"X\"))","v":""},{"$f":"IF(AR267=\"\",\"\",IF(AR267=NumEn38,\"✓\",\"X\"))","v":""},{"$f":"IF(AS267=\"\",\"\",IF(AS267=NumEn39,\"✓\",\"X\"))","v":""},{"$f":"IF(AT267=\"\",\"\",IF(AT267=NumEn40,\"✓\",\"X\"))","v":""},{"$f":"COUNTIF(BA267:CN267,\"✓\")","v":0}]
[{"$f":"ข้อมูลนักเรียน!B270","v":0},258,{"$f":"ข้อมูลนักเรียน!D270","v":0},null,null,null,null,null,null,null,null,null,null,null,null,null,null,null,null,null,null,null,null,null,null,null,null,null,null,null,null,null,null,null,null,null,null,null,null,null,null,null,null,null,null,null,0,null,null,null,null,null,"","","","","","","","","","","","","","","","","","","","","","","","","","","","","","","","","","","","","","","","",0]
[{"$f":"ข้อมูลนักเรียน!B271","v":0},259,{"$f":"ข้อมูลนักเรียน!D271","v":0},null,null,null,null,null,null,null,null,null,null,null,null,null,null,null,null,null,null,null,null,null,null,null,null,null,null,null,null,null,null,null,null,null,null,null,null,null,null,null,null,null,null,null,0,null,null,null,null,null,"","","","","","","","","","","","","","","","","","","","","","","","","","","","","","","","","","","","","","","","",0]
[{"$f":"ข้อมูลนักเรียน!B272","v":0},260,{"$f":"ข้อมูลนักเรียน!D272","v":0},null,null,null,null,null,null,null,null,null,null,null,null,null,null,null,null,null,null,null,null,null,null,null,null,null,null,null,null,null,null,null,null,null,null,null,null,null,null,null,null,null,null,null,0,null,null,null,null,null,"","","","","","","","","","","","","","","","","","","","","","","","","","","","","","","","","","","","","","","","",0]
[{"$f":"ข้อมูลนักเรียน!B273","v":0},261,{"$f":"ข้อมูลนักเรียน!D273","v":0},null,null,null,null,null,null,null,null,null,null,null,null,null,null,null,null,null,null,null,null,null,null,null,null,null,null,null,null,null,null,null,null,null,null,null,null,null,null,null,null,null,null,null,0,null,null,null,null,null,"","","","","","","","","","","","","","","","","","","","","","","","","","","","","","","","","","","","","","","","",0]
[{"$f":"ข้อมูลนักเรียน!B274","v":0},262,{"$f":"ข้อมูลนักเรียน!D274","v":0},null,null,null,null,null,null,null,null,null,null,null,null,null,null,null,null,null,null,null,null,null,null,null,null,null,null,null,null,null,null,null,null,null,null,null,null,null,null,null,null,null,null,null,0,null,null,null,null,null,"","","","","","","","","","","","","","","","","","","","","","","","","","","","","","","","","","","","","","","","",0]
[{"$f":"ข้อมูลนักเรียน!B275","v":0},263,{"$f":"ข้อมูลนักเรียน!D275","v":0},null,null,null,null,null,null,null,null,null,null,null,null,null,null,null,null,null,null,null,null,null,null,null,null,null,null,null,null,null,null,null,null,null,null,null,null,null,null,null,null,null,null,null,0,null,null,null,null,null,"","","","","","","","","","","","","","","","","","","","","","","","","","","","","","","","","","","","","","","","",0]
[{"$f":"ข้อมูลนักเรียน!B276","v":0},264,{"$f":"ข้อมูลนักเรียน!D276","v":0},null,null,null,null,null,null,null,null,null,null,null,null,null,null,null,null,null,null,null,null,null,null,null,null,null,null,null,null,null,null,null,null,null,null,null,null,null,null,null,null,null,null,null,0,null,null,null,null,null,"","","","","","","","","","","","","","","","","","","","","","","","","","","","","","","","","","","","","","","","",0]
[{"$f":"ข้อมูลนักเรียน!B277","v":0},265,{"$f":"ข้อมูลนักเรียน!D277","v":0},null,null,null,null,null,null,null,null,null,null,null,null,null,null,null,null,null,null,null,null,null,null,null,null,null,null,null,null,null,null,null,null,null,null,null,null,null,null,null,null,null,null,null,0,null,null,null,null,null,"","","","","","","","","","","","","","","","","","","","","","","","","","","","","","","","","","","","","","","","",0]
[{"$f":"ข้อมูลนักเรียน!B278","v":0},266,{"$f":"ข้อมูลนักเรียน!D278","v":0},null,null,null,null,null,null,null,null,null,null,null,null,null,null,null,null,null,null,null,null,null,null,null,null,null,null,null,null,null,null,null,null,null,null,null,null,null,null,null,null,null,null,null,0,null,null,null,null,null,"","","","","","","","","","","","","","","","","","","","","","","","","","","","","","","","","","","","","","","","",0]
[{"$f":"ข้อมูลนักเรียน!B279","v":0},267,{"$f":"ข้อมูลนักเรียน!D279","v":0},null,null,null,null,null,null,null,null,null,null,null,null,null,null,null,null,null,null,null,null,null,null,null,null,null,null,null,null,null,null,null,null,null,null,null,null,null,null,null,null,null,null,null,0,null,null,null,null,null,"","","","","","","","","","","","","","","","","","","","","","","","","","","","","","","","","","","","","","","","",0]
[{"$f":"ข้อมูลนักเรียน!B280","v":0},268,{"$f":"ข้อมูลนักเรียน!D280","v":0},null,null,null,null,null,null,null,null,null,null,null,null,null,null,null,null,null,null,null,null,null,null,null,null,null,null,null,null,null,null,null,null,null,null,null,null,null,null,null,null,null,null,null,0,null,null,null,null,null,"","","","","","","","","","","","","","","","","","","","","","","","","","","","","","","","","","","","","","","","",0]
[{"$f":"ข้อมูลนักเรียน!B281","v":0},269,{"$f":"ข้อมูลนักเรียน!D281","v":0},null,null,null,null,null,null,null,null,null,null,null,null,null,null,null,null,null,null,null,null,null,null,null,null,null,null,null,null,null,null,null,null,null,null,null,null,null,null,null,null,null,null,null,0,null,null,null,null,null,"","","","","","","","","","","","","","","","","","","","","","","","","","","","","","","","","","","","","","","","",0]
[{"$f":"ข้อมูลนักเรียน!B282","v":0},270,{"$f":"ข้อมูลนักเรียน!D282","v":0},null,null,null,null,null,null,null,null,null,null,null,null,null,null,null,null,null,null,null,null,null,null,null,null,null,null,null,null,null,null,null,null,null,null,null,null,null,null,null,null,null,null,null,0,null,null,null,null,null,"","","","","","","","","","","","","","","","","","","","","","","","","","","","","","","","","","","","","","","","",0]
[{"$f":"ข้อมูลนักเรียน!B283","v":0},271,{"$f":"ข้อมูลนักเรียน!D283","v":0},null,null,null,null,null,null,null,null,null,null,null,null,null,null,null,null,null,null,null,null,null,null,null,null,null,null,null,null,null,null,null,null,null,null,null,null,null,null,null,null,null,null,null,0,null,null,null,null,null,"","","","","","","","","","","","","","","","","","","","","","","","","","","","","","","","","","","","","","","","",0]
[{"$f":"ข้อมูลนักเรียน!B284","v":0},272,{"$f":"ข้อมูลนักเรียน!D284","v":0},null,null,null,null,null,null,null,null,null,null,null,null,null,null,null,null,null,null,null,null,null,null,null,null,null,null,null,null,null,null,null,null,null,null,null,null,null,null,null,null,null,null,null,0,null,null,null,null,null,"","","","","","","","","","","","","","","","","","","","","","","","","","","","","","","","","","","","","","","","",0]
[{"$f":"ข้อมูลนักเรียน!B285","v":0},273,{"$f":"ข้อมูลนักเรียน!D285","v":0},null,null,null,null,null,null,null,null,null,null,null,null,null,null,null,null,null,null,null,null,null,null,null,null,null,null,null,null,null,null,null,null,null,null,null,null,null,null,null,null,null,null,null,0,null,null,null,null,null,"","","","","","","","","","","","","","","","","","","","","","","","","","","","","","","","","","","","","","","","",0]
[{"$f":"ข้อมูลนักเรียน!B286","v":0},274,{"$f":"ข้อมูลนักเรียน!D286","v":0},null,null,null,null,null,null,null,null,null,null,null,null,null,null,null,null,null,null,null,null,null,null,null,null,null,null,null,null,null,null,null,null,null,null,null,null,null,null,null,null,null,null,null,0,null,null,null,null,null,"","","","","","","","","","","","","","","","","","","","","","","","","","","","","","","","","","","","","","","","",0]
[{"$f":"ข้อมูลนักเรียน!B287","v":0},275,{"$f":"ข้อมูลนักเรียน!D287","v":0},null,null,null,null,null,null,null,null,null,null,null,null,null,null,null,null,null,null,null,null,null,null,null,null,null,null,null,null,null,null,null,null,null,null,null,null,null,null,null,null,null,null,null,0,null,null,null,null,null,"","","","","","","","","","","","","","","","","","","","","","","","","","","","","","","","","","","","","","","","",0]
[{"$f":"ข้อมูลนักเรียน!B288","v":0},276,{"$f":"ข้อมูลนักเรียน!D288","v":0},null,null,null,null,null,null,null,null,null,null,null,null,null,null,null,null,null,null,null,null,null,null,null,null,null,null,null,null,null,null,null,null,null,null,null,null,null,null,null,null,null,null,null,0,null,null,null,null,null,"","","","","","","","","","","","","","","","","","","","","","","","","","","","","","","","","","","","","","","","",0]
[{"$f":"ข้อมูลนักเรียน!B289","v":0},277,{"$f":"ข้อมูลนักเรียน!D289","v":0},null,null,null,null,null,null,null,null,null,null,null,null,null,null,null,null,null,null,null,null,null,null,null,null,null,null,null,null,null,null,null,null,null,null,null,null,null,null,null,null,null,null,null,0,null,null,null,null,null,"","","","","","","","","","","","","","","","","","","","","","","","","","","","","","","","","","","","","","","","",0]
[{"$f":"ข้อมูลนักเรียน!B290","v":0},278,{"$f":"ข้อมูลนักเรียน!D290","v":0},null,null,null,null,null,null,null,null,null,null,null,null,null,null,null,null,null,null,null,null,null,null,null,null,null,null,null,null,null,null,null,null,null,null,null,null,null,null,null,null,null,null,null,0,null,null,null,null,null,"","","","","","","","","","","","","","","","","","","","","","","","","","","","","","","","","","","","","","","","",0]
[{"$f":"ข้อมูลนักเรียน!B291","v":0},279,{"$f":"ข้อมูลนักเรียน!D291","v":0},null,null,null,null,null,null,null,null,null,null,null,null,null,null,null,null,null,null,null,null,null,null,null,null,null,null,null,null,null,null,null,null,null,null,null,null,null,null,null,null,null,null,null,0,null,null,null,null,null,"","","","","","","","","","","","","","","","","","","","","","","","","","","","","","","","","","","","","","","","",0]
[{"$f":"ข้อมูลนักเรียน!B292","v":0},280,{"$f":"ข้อมูลนักเรียน!D292","v":0},null,null,null,null,null,null,null,null,null,null,null,null,null,null,null,null,null,null,null,null,null,null,null,null,null,null,null,null,null,null,null,null,null,null,null,null,null,null,null,null,null,null,null,0,null,null,null,null,null,"","","","","","","","","","","","","","","","","","","","","","","","","","","","","","","","","","","","","","","","",0]
[{"$f":"ข้อมูลนักเรียน!B293","v":0},281,{"$f":"ข้อมูลนักเรียน!D293","v":0},null,null,null,null,null,null,null,null,null,null,null,null,null,null,null,null,null,null,null,null,null,null,null,null,null,null,null,null,null,null,null,null,null,null,null,null,null,null,null,null,null,null,null,0,null,null,null,null,null,"","","","","","","","","","","","","","","","","","","","","","","","","","","","","","","","","","","","","","","","",0]
[{"$f":"ข้อมูลนักเรียน!B294","v":0},282,{"$f":"ข้อมูลนักเรียน!D294","v":0},null,null,null,null,null,null,null,null,null,null,null,null,null,null,null,null,null,null,null,null,null,null,null,null,null,null,null,null,null,null,null,null,null,null,null,null,null,null,null,null,null,null,null,0,null,null,null,null,null,"","","","","","","","","","","","","","","","","","","","","","","","","","","","","","","","","","","","","","","","",0]
[{"$f":"ข้อมูลนักเรียน!B295","v":0},283,{"$f":"ข้อมูลนักเรียน!D295","v":0},null,null,null,null,null,null,null,null,null,null,null,null,null,null,null,null,null,null,null,null,null,null,null,null,null,null,null,null,null,null,null,null,null,null,null,null,null,null,null,null,null,null,null,0,null,null,null,null,null,"","","","","","","","","","","","","","","","","","","","","","","","","","","","","","","","","","","","","","","","",0]
[{"$f":"ข้อมูลนักเรียน!B296","v":0},284,{"$f":"ข้อมูลนักเรียน!D296","v":0},null,null,null,null,null,null,null,null,null,null,null,null,null,null,null,null,null,null,null,null,null,null,null,null,null,null,null,null,null,null,null,null,null,null,null,null,null,null,null,null,null,null,null,0,null,null,null,null,null,"","","","","","","","","","","","","","","","","","","","","","","","","","","","","","","","","","","","","","","","",0]
[{"$f":"ข้อมูลนักเรียน!B297","v":0},285,{"$f":"ข้อมูลนักเรียน!D297","v":0},null,null,null,null,null,null,null,null,null,null,null,null,null,null,null,null,null,null,null,null,null,null,null,null,null,null,null,null,null,null,null,null,null,null,null,null,null,null,null,null,null,null,null,0,null,null,null,null,null,"","","","","","","","","","","","","","","","","","","","","","","","","","","","","","","","","","","","","","","","",0]
[{"$f":"ข้อมูลนักเรียน!B298","v":0},286,{"$f":"ข้อมูลนักเรียน!D298","v":0},null,null,null,null,null,null,null,null,null,null,null,null,null,null,null,null,null,null,null,null,null,null,null,null,null,null,null,null,null,null,null,null,null,null,null,null,null,null,null,null,null,null,null,0,null,null,null,null,null,"","","","","","","","","","","","","","","","","","","","","","","","","","","","","","","","","","","","","","","","",0]
[{"$f":"ข้อมูลนักเรียน!B299","v":0},287,{"$f":"ข้อมูลนักเรียน!D299","v":0},null,null,null,null,null,null,null,null,null,null,null,null,null,null,null,null,null,null,null,null,null,null,null,null,null,null,null,null,null,null,null,null,null,null,null,null,null,null,null,null,null,null,null,0,null,null,null,null,null,"","","","","","","","","","","","","","","","","","","","","","","","","","","","","","","","","","","","","","","","",0]
[{"$f":"ข้อมูลนักเรียน!B300","v":0},288,{"$f":"ข้อมูลนักเรียน!D300","v":0},null,null,null,null,null,null,null,null,null,null,null,null,null,null,null,null,null,null,null,null,null,null,null,null,null,null,null,null,null,null,null,null,null,null,null,null,null,null,null,null,null,null,null,0,null,null,null,null,null,"","","","","","","","","","","","","","","","","","","","","","","","","","","","","","","","","","","","","","","","",0]
[{"$f":"ข้อมูลนักเรียน!B301","v":0},289,{"$f":"ข้อมูลนักเรียน!D301","v":0},null,null,null,null,null,null,null,null,null,null,null,null,null,null,null,null,null,null,null,null,null,null,null,null,null,null,null,null,null,null,null,null,null,null,null,null,null,null,null,null,null,null,null,0,null,null,null,null,null,"","","","","","","","","","","","","","","","","","","","","","","","","","","","","","","","","","","","","","","","",0]
[{"$f":"ข้อมูลนักเรียน!B302","v":0},290,{"$f":"ข้อมูลนักเรียน!D302","v":0},null,null,null,null,null,null,null,null,null,null,null,null,null,null,null,null,null,null,null,null,null,null,null,null,null,null,null,null,null,null,null,null,null,null,null,null,null,null,null,null,null,null,null,0,null,null,null,null,null,"","","","","","","","","","","","","","","","","","","","","","","","","","","","","","","","","","","","","","","","",0]
[{"$f":"ข้อมูลนักเรียน!B303","v":0},291,{"$f":"ข้อมูลนักเรียน!D303","v":0},null,null,null,null,null,null,null,null,null,null,null,null,null,null,null,null,null,null,null,null,null,null,null,null,null,null,null,null,null,null,null,null,null,null,null,null,null,null,null,null,null,null,null,0,null,null,null,null,null,"","","","","","","","","","","","","","","","","","","","","","","","","","","","","","","","","","","","","","","","",0]
[{"$f":"ข้อมูลนักเรียน!B304","v":0},292,{"$f":"ข้อมูลนักเรียน!D304","v":0},null,null,null,null,null,null,null,null,null,null,null,null,null,null,null,null,null,null,null,null,null,null,null,null,null,null,null,null,null,null,null,null,null,null,null,null,null,null,null,null,null,null,null,0,null,null,null,null,null,"","","","","","","","","","","","","","","","","","","","","","","","","","","","","","","","","","","","","","","","",0]
[{"$f":"ข้อมูลนักเรียน!B305","v":0},293,{"$f":"ข้อมูลนักเรียน!D305","v":0},null,null,null,null,null,null,null,null,null,null,null,null,null,null,null,null,null,null,null,null,null,null,null,null,null,null,null,null,null,null,null,null,null,null,null,null,null,null,null,null,null,null,null,0,null,null,null,null,null,"","","","","","","","","","","","","","","","","","","","","","","","","","","","","","","","","","","","","","","","",0]
[{"$f":"ข้อมูลนักเรียน!B306","v":0},294,{"$f":"ข้อมูลนักเรียน!D306","v":0},null,null,null,null,null,null,null,null,null,null,null,null,null,null,null,null,null,null,null,null,null,null,null,null,null,null,null,null,null,null,null,null,null,null,null,null,null,null,null,null,null,null,null,0,null,null,null,null,null,"","","","","","","","","","","","","","","","","","","","","","","","","","","","","","","","","","","","","","","","",0]
[{"$f":"ข้อมูลนักเรียน!B307","v":0},295,{"$f":"ข้อมูลนักเรียน!D307","v":0},null,null,null,null,null,null,null,null,null,null,null,null,null,null,null,null,null,null,null,null,null,null,null,null,null,null,null,null,null,null,null,null,null,null,null,null,null,null,null,null,null,null,null,0,null,null,null,null,null,"","","","","","","","","","","","","","","","","","","","","","","","","","","","","","","","","","","","","","","","",0]
[{"$f":"ข้อมูลนักเรียน!B308","v":0},296,{"$f":"ข้อมูลนักเรียน!D308","v":0},null,null,null,null,null,null,null,null,null,null,null,null,null,null,null,null,null,null,null,null,null,null,null,null,null,null,null,null,null,null,null,null,null,null,null,null,null,null,null,null,null,null,null,0,null,null,null,null,null,"","","","","","","","","","","","","","","","","","","","","","","","","","","","","","","","","","","","","","","","",0]
[{"$f":"ข้อมูลนักเรียน!B309","v":0},297,{"$f":"ข้อมูลนักเรียน!D309","v":0},null,null,null,null,null,null,null,null,null,null,null,null,null,null,null,null,null,null,null,null,null,null,null,null,null,null,null,null,null,null,null,null,null,null,null,null,null,null,null,null,null,null,null,0,null,null,null,null,null,"","","","","","","","","","","","","","","","","","","","","","","","","","","","","","","","","","","","","","","","",0]
[{"$f":"ข้อมูลนักเรียน!B310","v":0},298,{"$f":"ข้อมูลนักเรียน!D310","v":0},null,null,null,null,null,null,null,null,null,null,null,null,null,null,null,null,null,null,null,null,null,null,null,null,null,null,null,null,null,null,null,null,null,null,null,null,null,null,null,null,null,null,null,0,null,null,null,null,null,"","","","","","","","","","","","","","","","","","","","","","","","","","","","","","","","","","","","","","","","",0]
[{"$f":"ข้อมูลนักเรียน!B311","v":0},299,{"$f":"ข้อมูลนักเรียน!D311","v":0},null,null,null,null,null,null,null,null,null,null,null,null,null,null,null,null,null,null,null,null,null,null,null,null,null,null,null,null,null,null,null,null,null,null,null,null,null,null,null,null,null,null,null,0,null,null,null,null,null,"","","","","","","","","","","","","","","","","","","","","","","","","","","","","","","","","","","","","","","","",0]
[{"$f":"ข้อมูลนักเรียน!B312","v":0},300,{"$f":"ข้อมูลนักเรียน!D312","v":0},null,null,null,null,null,null,null,null,null,null,null,null,null,null,null,null,null,null,null,null,null,null,null,null,null,null,null,null,null,null,null,null,null,null,null,null,null,null,null,null,null,null,null,0,null,null,null,null,null,"","","","","","","","","","","","","","","","","","","","","","","","","","","","","","","","","","","","","","","","",0]
[{"$f":"ข้อมูลนักเรียน!B313","v":0},301,{"$f":"ข้อมูลนักเรียน!D313","v":0},null,null,null,null,null,null,null,null,null,null,null,null,null,null,null,null,null,null,null,null,null,null,null,null,null,null,null,null,null,null,null,null,null,null,null,null,null,null,null,null,null,null,null,0,null,null,null,null,null,"","","","","","","","","","","","","","","","","","","","","","","","","","","","","","","","","","","","","","","","",0]
[{"$f":"ข้อมูลนักเรียน!B314","v":0},302,{"$f":"ข้อมูลนักเรียน!D314","v":0},null,null,null,null,null,null,null,null,null,null,null,null,null,null,null,null,null,null,null,null,null,null,null,null,null,null,null,null,null,null,null,null,null,null,null,null,null,null,null,null,null,null,null,0,null,null,null,null,null,"","","","","","","","","","","","","","","","","","","","","","","","","","","","","","","","","","","","","","","","",0]
[{"$f":"ข้อมูลนักเรียน!B315","v":0},303,{"$f":"ข้อมูลนักเรียน!D315","v":0},null,null,null,null,null,null,null,null,null,null,null,null,null,null,null,null,null,null,null,null,null,null,null,null,null,null,null,null,null,null,null,null,null,null,null,null,null,null,null,null,null,null,null,0,null,null,null,null,null,"","","","","","","","","","","","","","","","","","","","","","","","","","","","","","","","","","","","","","","","",0]
[{"$f":"ข้อมูลนักเรียน!B316","v":0},304,{"$f":"ข้อมูลนักเรียน!D316","v":0},null,null,null,null,null,null,null,null,null,null,null,null,null,null,null,null,null,null,null,null,null,null,null,null,null,null,null,null,null,null,null,null,null,null,null,null,null,null,null,null,null,null,null,0,null,null,null,null,null,"","","","","","","","","","","","","","","","","","","","","","","","","","","","","","","","","","","","","","","","",0]
[{"$f":"ข้อมูลนักเรียน!B317","v":0},305,{"$f":"ข้อมูลนักเรียน!D317","v":0},null,null,null,null,null,null,null,null,null,null,null,null,null,null,null,null,null,null,null,null,null,null,null,null,null,null,null,null,null,null,null,null,null,null,null,null,null,null,null,null,null,null,null,0,null,null,null,null,null,"","","","","","","","","","","","","","","","","","","","","","","","","","","","","","","","","","","","","","","","",0]
[{"$f":"ข้อมูลนักเรียน!B318","v":0},306,{"$f":"ข้อมูลนักเรียน!D318","v":0},null,null,null,null,null,null,null,null,null,null,null,null,null,null,null,null,null,null,null,null,null,null,null,null,null,null,null,null,null,null,null,null,null,null,null,null,null,null,null,null,null,null,null,0,null,null,null,null,null,"","","","","","","","","","","","","","","","","","","","","","","","","","","","","","","","","","","","","","","","",0]
[{"$f":"ข้อมูลนักเรียน!B319","v":0},307,{"$f":"ข้อมูลนักเรียน!D319","v":0},null,null,null,null,null,null,null,null,null,null,null,null,null,null,null,null,null,null,null,null,null,null,null,null,null,null,null,null,null,null,null,null,null,null,null,null,null,null,null,null,null,null,null,0,null,null,null,null,null,"","","","","","","","","","","","","","","","","","","","","","","","","","","","","","","","","","","","","","","","",0]
[{"$f":"ข้อมูลนักเรียน!B320","v":0},308,{"$f":"ข้อมูลนักเรียน!D320","v":0},null,null,null,null,null,null,null,null,null,null,null,null,null,null,null,null,null,null,null,null,null,null,null,null,null,null,null,null,null,null,null,null,null,null,null,null,null,null,null,null,null,null,null,0,null,null,null,null,null,"","","","","","","","","","","","","","","","","","","","","","","","","","","","","","","","","","","","","","","","",0]
[{"$f":"ข้อมูลนักเรียน!B321","v":0},309,{"$f":"ข้อมูลนักเรียน!D321","v":0},null,null,null,null,null,null,null,null,null,null,null,null,null,null,null,null,null,null,null,null,null,null,null,null,null,null,null,null,null,null,null,null,null,null,null,null,null,null,null,null,null,null,null,0,null,null,null,null,null,"","","","","","","","","","","","","","","","","","","","","","","","","","","","","","","","","","","","","","","","",0]
[{"$f":"ข้อมูลนักเรียน!B322","v":0},310,{"$f":"ข้อมูลนักเรียน!D322","v":0},null,null,null,null,null,null,null,null,null,null,null,null,null,null,null,null,null,null,null,null,null,null,null,null,null,null,null,null,null,null,null,null,null,null,null,null,null,null,null,null,null,null,null,0,null,null,null,null,null,"","","","","","","","","","","","","","","","","","","","","","","","","","","","","","","","","","","","","","","","",0]
[{"$f":"ข้อมูลนักเรียน!B323","v":0},311,{"$f":"ข้อมูลนักเรียน!D323","v":0},null,null,null,null,null,null,null,null,null,null,null,null,null,null,null,null,null,null,null,null,null,null,null,null,null,null,null,null,null,null,null,null,null,null,null,null,null,null,null,null,null,null,null,0,null,null,null,null,null,"","","","","","","","","","","","","","","","","","","","","","","","","","","","","","","","","","","","","","","","",0]
[{"$f":"ข้อมูลนักเรียน!B324","v":0},312,{"$f":"ข้อมูลนักเรียน!D324","v":0},null,null,null,null,null,null,null,null,null,null,null,null,null,null,null,null,null,null,null,null,null,null,null,null,null,null,null,null,null,null,null,null,null,null,null,null,null,null,null,null,null,null,null,0,null,null,null,null,null,"","","","","","","","","","","","","","","","","","","","","","","","","","","","","","","","","","","","","","","","",0]
[{"$f":"ข้อมูลนักเรียน!B325","v":0},313,{"$f":"ข้อมูลนักเรียน!D325","v":0},null,null,null,null,null,null,null,null,null,null,null,null,null,null,null,null,null,null,null,null,null,null,null,null,null,null,null,null,null,null,null,null,null,null,null,null,null,null,null,null,null,null,null,0,null,null,null,null,null,"","","","","","","","","","","","","","","","","","","","","","","","","","","","","","","","","","","","","","","","",0]
[{"$f":"ข้อมูลนักเรียน!B326","v":0},314,{"$f":"ข้อมูลนักเรียน!D326","v":0},null,null,null,null,null,null,null,null,null,null,null,null,null,null,null,null,null,null,null,null,null,null,null,null,null,null,null,null,null,null,null,null,null,null,null,null,null,null,null,null,null,null,null,0,null,null,null,null,null,"","","","","","","","","","","","","","","","","","","","","","","","","","","","","","","","","","","","","","","","",0]
[{"$f":"ข้อมูลนักเรียน!B327","v":0},315,{"$f":"ข้อมูลนักเรียน!D327","v":0},null,null,null,null,null,null,null,null,null,null,null,null,null,null,null,null,null,null,null,null,null,null,null,null,null,null,null,null,null,null,null,null,null,null,null,null,null,null,null,null,null,null,null,0,null,null,null,null,null,"","","","","","","","","","","","","","","","","","","","","","","","","","","","","","","","","","","","","","","","",0]
[{"$f":"ข้อมูลนักเรียน!B328","v":0},316,{"$f":"ข้อมูลนักเรียน!D328","v":0},null,null,null,null,null,null,null,null,null,null,null,null,null,null,null,null,null,null,null,null,null,null,null,null,null,null,null,null,null,null,null,null,null,null,null,null,null,null,null,null,null,null,null,0,null,null,null,null,null,"","","","","","","","","","","","","","","","","","","","","","","","","","","","","","","","","","","","","","","","",0]
[{"$f":"ข้อมูลนักเรียน!B329","v":0},317,{"$f":"ข้อมูลนักเรียน!D329","v":0},null,null,null,null,null,null,null,null,null,null,null,null,null,null,null,null,null,null,null,null,null,null,null,null,null,null,null,null,null,null,null,null,null,null,null,null,null,null,null,null,null,null,null,0,null,null,null,null,null,"","","","","","","","","","","","","","","","","","","","","","","","","","","","","","","","","","","","","","","","",0]
[{"$f":"ข้อมูลนักเรียน!B330","v":0},318,{"$f":"ข้อมูลนักเรียน!D330","v":0},null,null,null,null,null,null,null,null,null,null,null,null,null,null,null,null,null,null,null,null,null,null,null,null,null,null,null,null,null,null,null,null,null,null,null,null,null,null,null,null,null,null,null,0,null,null,null,null,null,"","","","","","","","","","","","","","","","","","","","","","","","","","","","","","","","","","","","","","","","",0]
[{"$f":"ข้อมูลนักเรียน!B331","v":0},319,{"$f":"ข้อมูลนักเรียน!D331","v":0},null,null,null,null,null,null,null,null,null,null,null,null,null,null,null,null,null,null,null,null,null,null,null,null,null,null,null,null,null,null,null,null,null,null,null,null,null,null,null,null,null,null,null,0,null,null,null,null,null,"","","","","","","","","","","","","","","","","","","","","","","","","","","","","","","","","","","","","","","","",0]
[{"$f":"ข้อมูลนักเรียน!B332","v":0},320,{"$f":"ข้อมูลนักเรียน!D332","v":0},null,null,null,null,null,null,null,null,null,null,null,null,null,null,null,null,null,null,null,null,null,null,null,null,null,null,null,null,null,null,null,null,null,null,null,null,null,null,null,null,null,null,null,0,null,null,null,null,null,"","","","","","","","","","","","","","","","","","","","","","","","","","","","","","","","","","","","","","","","",0]
[{"$f":"ข้อมูลนักเรียน!B333","v":0},321,{"$f":"ข้อมูลนักเรียน!D333","v":0},null,null,null,null,null,null,null,null,null,null,null,null,null,null,null,null,null,null,null,null,null,null,null,null,null,null,null,null,null,null,null,null,null,null,null,null,null,null,null,null,null,null,null,{"$f":"SUM(IF(G331=NumEn1,ScoreEn1),IF(H331=NumEn2,ScoreEn2),IF(I331=NumEn3,ScoreEn3),IF(J331=NumEn4,ScoreEn4),IF(K331=NumEn5,ScoreEn5),IF(L331=NumEn6,ScoreEn6),IF(M331=NumEn7,ScoreEn7),IF(N331=NumEn8,ScoreEn8),IF(O331=NumEn9,ScoreEn9),IF(P331=NumEn10,ScoreEn10),IF(Q331=NumEn11,ScoreEn11),IF(R331=NumEn12,ScoreEn12),IF(S331=NumEn13,ScoreEn13),IF(T331=NumEn14,ScoreEn14),IF(U331=NumEn15,ScoreEn15),IF(V331=NumEn16,ScoreEn16),IF(W331=NumEn17,ScoreEn17),IF(X331=NumEn18,ScoreEn18),IF(Y331=NumEn19,ScoreEn19),IF(Z331=NumEn20,ScoreEn20),IF(AA331=NumEn21,ScoreEn21),IF(AB331=NumEn22,ScoreEn22),IF(AC331=NumEn23,ScoreEn23),IF(AD331=NumEn24,ScoreEn24),IF(AE331=NumEn25,ScoreEn25),IF(AF331=NumEn26,ScoreEn26),IF(AG331=NumEn27,ScoreEn27),IF(AH331=NumEn28,ScoreEn28),IF(AI331=NumEn29,ScoreEn29),IF(AJ331=NumEn30,ScoreEn30),IF(AK331=NumEn31,ScoreEn31),IF(AL331=NumEn32,ScoreEn32),IF(AM331=NumEn33,ScoreEn33),IF(AN331=NumEn34,ScoreEn34),IF(AO331=NumEn35,ScoreEn35),IF(AP331=NumEn36,ScoreEn36),IF(AQ331=NumEn37,ScoreEn37),IF(AR331=NumEn38,ScoreEn38),IF(AS331=NumEn39,ScoreEn39),IF(AT331=NumEn40,ScoreEn40))","v":0},null,null,null,null,null,{"$f":"IF(G331=\"\",\"\",IF(G331=NumEn1,\"✓\",\"X\"))","v":""},{"$f":"IF(H331=\"\",\"\",IF(H331=NumEn2,\"✓\",\"X\"))","v":""},{"$f":"IF(I331=\"\",\"\",IF(I331=NumEn3,\"✓\",\"X\"))","v":""},{"$f":"IF(J331=\"\",\"\",IF(J331=NumEn4,\"✓\",\"X\"))","v":""},{"$f":"IF(K331=\"\",\"\",IF(K331=NumEn5,\"✓\",\"X\"))","v":""},{"$f":"IF(L331=\"\",\"\",IF(L331=NumEn6,\"✓\",\"X\"))","v":""},{"$f":"IF(M331=\"\",\"\",IF(M331=NumEn7,\"✓\",\"X\"))","v":""},{"$f":"IF(N331=\"\",\"\",IF(N331=NumEn8,\"✓\",\"X\"))","v":""},{"$f":"IF(O331=\"\",\"\",IF(O331=NumEn9,\"✓\",\"X\"))","v":""},{"$f":"IF(P331=\"\",\"\",IF(P331=NumEn10,\"✓\",\"X\"))","v":""},{"$f":"IF(Q331=\"\",\"\",IF(Q331=NumEn11,\"✓\",\"X\"))","v":""},{"$f":"IF(R331=\"\",\"\",IF(R331=NumEn12,\"✓\",\"X\"))","v":""},{"$f":"IF(S331=\"\",\"\",IF(S331=NumEn13,\"✓\",\"X\"))","v":""},{"$f":"IF(T331=\"\",\"\",IF(T331=NumEn14,\"✓\",\"X\"))","v":""},{"$f":"IF(U331=\"\",\"\",IF(U331=NumEn15,\"✓\",\"X\"))","v":""},{"$f":"IF(V331=\"\",\"\",IF(V331=NumEn16,\"✓\",\"X\"))","v":""},{"$f":"IF(W331=\"\",\"\",IF(W331=NumEn17,\"✓\",\"X\"))","v":""},{"$f":"IF(X331=\"\",\"\",IF(X331=NumEn18,\"✓\",\"X\"))","v":""},{"$f":"IF(Y331=\"\",\"\",IF(Y331=NumEn19,\"✓\",\"X\"))","v":""},{"$f":"IF(Z331=\"\",\"\",IF(Z331=NumEn20,\"✓\",\"X\"))","v":""},{"$f":"IF(AA331=\"\",\"\",IF(AA331=NumEn21,\"✓\",\"X\"))","v":""},{"$f":"IF(AB331=\"\",\"\",IF(AB331=NumEn22,\"✓\",\"X\"))","v":""},{"$f":"IF(AC331=\"\",\"\",IF(AC331=NumEn23,\"✓\",\"X\"))","v":""},{"$f":"IF(AD331=\"\",\"\",IF(AD331=NumEn24,\"✓\",\"X\"))","v":""},{"$f":"IF(AE331=\"\",\"\",IF(AE331=NumEn25,\"✓\",\"X\"))","v":""},{"$f":"IF(AF331=\"\",\"\",IF(AF331=NumEn26,\"✓\",\"X\"))","v":""},{"$f":"IF(AG331=\"\",\"\",IF(AG331=NumEn27,\"✓\",\"X\"))","v":""},{"$f":"IF(AH331=\"\",\"\",IF(AH331=NumEn28,\"✓\",\"X\"))","v":""},{"$f":"IF(AI331=\"\",\"\",IF(AI331=NumEn29,\"✓\",\"X\"))","v":""},{"$f":"IF(AJ331=\"\",\"\",IF(AJ331=NumEn30,\"✓\",\"X\"))","v":""},{"$f":"IF(AK331=\"\",\"\",IF(AK331=NumEn31,\"✓\",\"X\"))","v":""},{"$f":"IF(AL331=\"\",\"\",IF(AL331=NumEn32,\"✓\",\"X\"))","v":""},{"$f":"IF(AM331=\"\",\"\",IF(AM331=NumEn33,\"✓\",\"X\"))","v":""},{"$f":"IF(AN331=\"\",\"\",IF(AN331=NumEn34,\"✓\",\"X\"))","v":""},{"$f":"IF(AO331=\"\",\"\",IF(AO331=NumEn35,\"✓\",\"X\"))","v":""},{"$f":"IF(AP331=\"\",\"\",IF(AP331=NumEn36,\"✓\",\"X\"))","v":""},{"$f":"IF(AQ331=\"\",\"\",IF(AQ331=NumEn37,\"✓\",\"X\"))","v":""},{"$f":"IF(AR331=\"\",\"\",IF(AR331=NumEn38,\"✓\",\"X\"))","v":""},{"$f":"IF(AS331=\"\",\"\",IF(AS331=NumEn39,\"✓\",\"X\"))","v":""},{"$f":"IF(AT331=\"\",\"\",IF(AT331=NumEn40,\"✓\",\"X\"))","v":""},{"$f":"COUNTIF(BA331:CN331,\"✓\")","v":0}]
[{"$f":"ข้อมูลนักเรียน!B334","v":0},322,{"$f":"ข้อมูลนักเรียน!D334","v":0},null,null,null,null,null,null,null,null,null,null,null,null,null,null,null,null,null,null,null,null,null,null,null,null,null,null,null,null,null,null,null,null,null,null,null,null,null,null,null,null,null,null,null,0,null,null,null,null,null,"","","","","","","","","","","","","","","","","","","","","","","","","","","","","","","","","","","","","","","","",0]
[{"$f":"ข้อมูลนักเรียน!B335","v":0},323,{"$f":"ข้อมูลนักเรียน!D335","v":0},null,null,null,null,null,null,null,null,null,null,null,null,null,null,null,null,null,null,null,null,null,null,null,null,null,null,null,null,null,null,null,null,null,null,null,null,null,null,null,null,null,null,null,0,null,null,null,null,null,"","","","","","","","","","","","","","","","","","","","","","","","","","","","","","","","","","","","","","","","",0]
[{"$f":"ข้อมูลนักเรียน!B336","v":0},324,{"$f":"ข้อมูลนักเรียน!D336","v":0},null,null,null,null,null,null,null,null,null,null,null,null,null,null,null,null,null,null,null,null,null,null,null,null,null,null,null,null,null,null,null,null,null,null,null,null,null,null,null,null,null,null,null,0,null,null,null,null,null,"","","","","","","","","","","","","","","","","","","","","","","","","","","","","","","","","","","","","","","","",0]
[{"$f":"ข้อมูลนักเรียน!B337","v":0},325,{"$f":"ข้อมูลนักเรียน!D337","v":0},null,null,null,null,null,null,null,null,null,null,null,null,null,null,null,null,null,null,null,null,null,null,null,null,null,null,null,null,null,null,null,null,null,null,null,null,null,null,null,null,null,null,null,0,null,null,null,null,null,"","","","","","","","","","","","","","","","","","","","","","","","","","","","","","","","","","","","","","","","",0]
[{"$f":"ข้อมูลนักเรียน!B338","v":0},326,{"$f":"ข้อมูลนักเรียน!D338","v":0},null,null,null,null,null,null,null,null,null,null,null,null,null,null,null,null,null,null,null,null,null,null,null,null,null,null,null,null,null,null,null,null,null,null,null,null,null,null,null,null,null,null,null,0,null,null,null,null,null,"","","","","","","","","","","","","","","","","","","","","","","","","","","","","","","","","","","","","","","","",0]
[{"$f":"ข้อมูลนักเรียน!B339","v":0},327,{"$f":"ข้อมูลนักเรียน!D339","v":0},null,null,null,null,null,null,null,null,null,null,null,null,null,null,null,null,null,null,null,null,null,null,null,null,null,null,null,null,null,null,null,null,null,null,null,null,null,null,null,null,null,null,null,0,null,null,null,null,null,"","","","","","","","","","","","","","","","","","","","","","","","","","","","","","","","","","","","","","","","",0]
[{"$f":"ข้อมูลนักเรียน!B340","v":0},328,{"$f":"ข้อมูลนักเรียน!D340","v":0},null,null,null,null,null,null,null,null,null,null,null,null,null,null,null,null,null,null,null,null,null,null,null,null,null,null,null,null,null,null,null,null,null,null,null,null,null,null,null,null,null,null,null,0,null,null,null,null,null,"","","","","","","","","","","","","","","","","","","","","","","","","","","","","","","","","","","","","","","","",0]
[{"$f":"ข้อมูลนักเรียน!B341","v":0},329,{"$f":"ข้อมูลนักเรียน!D341","v":0},null,null,null,null,null,null,null,null,null,null,null,null,null,null,null,null,null,null,null,null,null,null,null,null,null,null,null,null,null,null,null,null,null,null,null,null,null,null,null,null,null,null,null,0,null,null,null,null,null,"","","","","","","","","","","","","","","","","","","","","","","","","","","","","","","","","","","","","","","","",0]
[{"$f":"ข้อมูลนักเรียน!B342","v":0},330,{"$f":"ข้อมูลนักเรียน!D342","v":0},null,null,null,null,null,null,null,null,null,null,null,null,null,null,null,null,null,null,null,null,null,null,null,null,null,null,null,null,null,null,null,null,null,null,null,null,null,null,null,null,null,null,null,0,null,null,null,null,null,"","","","","","","","","","","","","","","","","","","","","","","","","","","","","","","","","","","","","","","","",0]
[{"$f":"ข้อมูลนักเรียน!B343","v":0},331,{"$f":"ข้อมูลนักเรียน!D343","v":0},null,null,null,null,null,null,null,null,null,null,null,null,null,null,null,null,null,null,null,null,null,null,null,null,null,null,null,null,null,null,null,null,null,null,null,null,null,null,null,null,null,null,null,0,null,null,null,null,null,"","","","","","","","","","","","","","","","","","","","","","","","","","","","","","","","","","","","","","","","",0]
[{"$f":"ข้อมูลนักเรียน!B344","v":0},332,{"$f":"ข้อมูลนักเรียน!D344","v":0},null,null,null,null,null,null,null,null,null,null,null,null,null,null,null,null,null,null,null,null,null,null,null,null,null,null,null,null,null,null,null,null,null,null,null,null,null,null,null,null,null,null,null,0,null,null,null,null,null,"","","","","","","","","","","","","","","","","","","","","","","","","","","","","","","","","","","","","","","","",0]
[{"$f":"ข้อมูลนักเรียน!B345","v":0},333,{"$f":"ข้อมูลนักเรียน!D345","v":0},null,null,null,null,null,null,null,null,null,null,null,null,null,null,null,null,null,null,null,null,null,null,null,null,null,null,null,null,null,null,null,null,null,null,null,null,null,null,null,null,null,null,null,0,null,null,null,null,null,"","","","","","","","","","","","","","","","","","","","","","","","","","","","","","","","","","","","","","","","",0]
[{"$f":"ข้อมูลนักเรียน!B346","v":0},334,{"$f":"ข้อมูลนักเรียน!D346","v":0},null,null,null,null,null,null,null,null,null,null,null,null,null,null,null,null,null,null,null,null,null,null,null,null,null,null,null,null,null,null,null,null,null,null,null,null,null,null,null,null,null,null,null,0,null,null,null,null,null,"","","","","","","","","","","","","","","","","","","","","","","","","","","","","","","","","","","","","","","","",0]
[{"$f":"ข้อมูลนักเรียน!B347","v":0},335,{"$f":"ข้อมูลนักเรียน!D347","v":0},null,null,null,null,null,null,null,null,null,null,null,null,null,null,null,null,null,null,null,null,null,null,null,null,null,null,null,null,null,null,null,null,null,null,null,null,null,null,null,null,null,null,null,0,null,null,null,null,null,"","","","","","","","","","","","","","","","","","","","","","","","","","","","","","","","","","","","","","","","",0]
[{"$f":"ข้อมูลนักเรียน!B348","v":0},336,{"$f":"ข้อมูลนักเรียน!D348","v":0},null,null,null,null,null,null,null,null,null,null,null,null,null,null,null,null,null,null,null,null,null,null,null,null,null,null,null,null,null,null,null,null,null,null,null,null,null,null,null,null,null,null,null,0,null,null,null,null,null,"","","","","","","","","","","","","","","","","","","","","","","","","","","","","","","","","","","","","","","","",0]
[{"$f":"ข้อมูลนักเรียน!B349","v":0},337,{"$f":"ข้อมูลนักเรียน!D349","v":0},null,null,null,null,null,null,null,null,null,null,null,null,null,null,null,null,null,null,null,null,null,null,null,null,null,null,null,null,null,null,null,null,null,null,null,null,null,null,null,null,null,null,null,0,null,null,null,null,null,"","","","","","","","","","","","","","","","","","","","","","","","","","","","","","","","","","","","","","","","",0]
[{"$f":"ข้อมูลนักเรียน!B350","v":0},338,{"$f":"ข้อมูลนักเรียน!D350","v":0},null,null,null,null,null,null,null,null,null,null,null,null,null,null,null,null,null,null,null,null,null,null,null,null,null,null,null,null,null,null,null,null,null,null,null,null,null,null,null,null,null,null,null,0,null,null,null,null,null,"","","","","","","","","","","","","","","","","","","","","","","","","","","","","","","","","","","","","","","","",0]
[{"$f":"ข้อมูลนักเรียน!B351","v":0},339,{"$f":"ข้อมูลนักเรียน!D351","v":0},null,null,null,null,null,null,null,null,null,null,null,null,null,null,null,null,null,null,null,null,null,null,null,null,null,null,null,null,null,null,null,null,null,null,null,null,null,null,null,null,null,null,null,0,null,null,null,null,null,"","","","","","","","","","","","","","","","","","","","","","","","","","","","","","","","","","","","","","","","",0]
[{"$f":"ข้อมูลนักเรียน!B352","v":0},340,{"$f":"ข้อมูลนักเรียน!D352","v":0},null,null,null,null,null,null,null,null,null,null,null,null,null,null,null,null,null,null,null,null,null,null,null,null,null,null,null,null,null,null,null,null,null,null,null,null,null,null,null,null,null,null,null,0,null,null,null,null,null,"","","","","","","","","","","","","","","","","","","","","","","","","","","","","","","","","","","","","","","","",0]
[{"$f":"ข้อมูลนักเรียน!B353","v":0},341,{"$f":"ข้อมูลนักเรียน!D353","v":0},null,null,null,null,null,null,null,null,null,null,null,null,null,null,null,null,null,null,null,null,null,null,null,null,null,null,null,null,null,null,null,null,null,null,null,null,null,null,null,null,null,null,null,0,null,null,null,null,null,"","","","","","","","","","","","","","","","","","","","","","","","","","","","","","","","","","","","","","","","",0]
[{"$f":"ข้อมูลนักเรียน!B354","v":0},342,{"$f":"ข้อมูลนักเรียน!D354","v":0},null,null,null,null,null,null,null,null,null,null,null,null,null,null,null,null,null,null,null,null,null,null,null,null,null,null,null,null,null,null,null,null,null,null,null,null,null,null,null,null,null,null,null,0,null,null,null,null,null,"","","","","","","","","","","","","","","","","","","","","","","","","","","","","","","","","","","","","","","","",0]
[{"$f":"ข้อมูลนักเรียน!B355","v":0},343,{"$f":"ข้อมูลนักเรียน!D355","v":0},null,null,null,null,null,null,null,null,null,null,null,null,null,null,null,null,null,null,null,null,null,null,null,null,null,null,null,null,null,null,null,null,null,null,null,null,null,null,null,null,null,null,null,0,null,null,null,null,null,"","","","","","","","","","","","","","","","","","","","","","","","","","","","","","","","","","","","","","","","",0]
[{"$f":"ข้อมูลนักเรียน!B356","v":0},344,{"$f":"ข้อมูลนักเรียน!D356","v":0},null,null,null,null,null,null,null,null,null,null,null,null,null,null,null,null,null,null,null,null,null,null,null,null,null,null,null,null,null,null,null,null,null,null,null,null,null,null,null,null,null,null,null,0,null,null,null,null,null,"","","","","","","","","","","","","","","","","","","","","","","","","","","","","","","","","","","","","","","","",0]
[{"$f":"ข้อมูลนักเรียน!B357","v":0},345,{"$f":"ข้อมูลนักเรียน!D357","v":0},null,null,null,null,null,null,null,null,null,null,null,null,null,null,null,null,null,null,null,null,null,null,null,null,null,null,null,null,null,null,null,null,null,null,null,null,null,null,null,null,null,null,null,0,null,null,null,null,null,"","","","","","","","","","","","","","","","","","","","","","","","","","","","","","","","","","","","","","","","",0]
[{"$f":"ข้อมูลนักเรียน!B358","v":0},346,{"$f":"ข้อมูลนักเรียน!D358","v":0},null,null,null,null,null,null,null,null,null,null,null,null,null,null,null,null,null,null,null,null,null,null,null,null,null,null,null,null,null,null,null,null,null,null,null,null,null,null,null,null,null,null,null,0,null,null,null,null,null,"","","","","","","","","","","","","","","","","","","","","","","","","","","","","","","","","","","","","","","","",0]
[{"$f":"ข้อมูลนักเรียน!B359","v":0},347,{"$f":"ข้อมูลนักเรียน!D359","v":0},null,null,null,null,null,null,null,null,null,null,null,null,null,null,null,null,null,null,null,null,null,null,null,null,null,null,null,null,null,null,null,null,null,null,null,null,null,null,null,null,null,null,null,0,null,null,null,null,null,"","","","","","","","","","","","","","","","","","","","","","","","","","","","","","","","","","","","","","","","",0]
[{"$f":"ข้อมูลนักเรียน!B360","v":0},348,{"$f":"ข้อมูลนักเรียน!D360","v":0},null,null,null,null,null,null,null,null,null,null,null,null,null,null,null,null,null,null,null,null,null,null,null,null,null,null,null,null,null,null,null,null,null,null,null,null,null,null,null,null,null,null,null,0,null,null,null,null,null,"","","","","","","","","","","","","","","","","","","","","","","","","","","","","","","","","","","","","","","","",0]
[{"$f":"ข้อมูลนักเรียน!B361","v":0},349,{"$f":"ข้อมูลนักเรียน!D361","v":0},null,null,null,null,null,null,null,null,null,null,null,null,null,null,null,null,null,null,null,null,null,null,null,null,null,null,null,null,null,null,null,null,null,null,null,null,null,null,null,null,null,null,null,0,null,null,null,null,null,"","","","","","","","","","","","","","","","","","","","","","","","","","","","","","","","","","","","","","","","",0]
[{"$f":"ข้อมูลนักเรียน!B362","v":0},350,{"$f":"ข้อมูลนักเรียน!D362","v":0},null,null,null,null,null,null,null,null,null,null,null,null,null,null,null,null,null,null,null,null,null,null,null,null,null,null,null,null,null,null,null,null,null,null,null,null,null,null,null,null,null,null,null,0,null,null,null,null,null,"","","","","","","","","","","","","","","","","","","","","","","","","","","","","","","","","","","","","","","","",0]

{"sheet":"สรุปรายคน","index":6,"n_rows":357,"n_cols":8,"rows_kept":357,"cut":false,"hidden":false,"merged":[[0,1,0,7],[4,1,4,7],[3,1,3,7],[2,1,2,7],[1,1,1,7]]}
[]
[null,"คะแนนการทดสอบวินิจฉัยรายบุคคล  ปีการศึกษา 2562"]
[null,"ระดับชั้นประถมศึกษาปีที่ 6"]
[null,{"$f":"ข้อมูลนักเรียน!B4&\"\"&ข้อมูลนักเรียน!D4&\"   \"&ข้อมูลนักเรียน!B5&\"\"&ข้อมูลนักเรียน!D5","v":"โรงเรียนพิมพ์ชื่อโรงเรียน   ศูนย์อำนวยการเครือข่ายพิมพ์ชื่อศูนย์อำนวยการเครือข่าย"}]
[null,{"$f":"ข้อมูลนักเรียน!B8","v":"สำนักงานเขตพื้นที่การศึกษาประถมศึกษาสกลนคร  เขต 1"}]
[]
[null,"ที่","ชื่อ-สกุล","คณิตศาสตร์","ภาษาไทย","วิทยาศาสตร์","ภาษาอังกฤษ","คะแนนเฉลี่ย"]
[null,1,{"$f":"IF(ข้อมูลนักเรียน!D13=\"\",\"\",ข้อมูลนักเรียน!D13)","v":"นายก"},{"$f":"คณิตศาสตร์!AA11","v":0},{"$f":"ภาษาไทย!AO11","v":0},{"$f":"วิทยาศาสตร์!AM11","v":0},{"$f":"ภาษาอังกฤษ!AU11","v":0},{"$f":"(D8+E8+F8+G8)/4","v":0}]
[null,2,{"$f":"IF(ข้อมูลนักเรียน!D14=\"\",\"\",ข้อมูลนักเรียน!D14)","v":"นายข"},{"$f":"คณิตศาสตร์!AA12","v":0},{"$f":"ภาษาไทย!AO12","v":0},{"$f":"วิทยาศาสตร์!AM12","v":0},{"$f":"ภาษาอังกฤษ!AU12","v":0},{"$f":"(D9+E9+F9+G9)/4","v":0}]
[null,3,{"$f":"IF(ข้อมูลนักเรียน!D15=\"\",\"\",ข้อมูลนักเรียน!D15)","v":"นายพ"},{"$f":"คณิตศาสตร์!AA13","v":0},{"$f":"ภาษาไทย!AO13","v":0},{"$f":"วิทยาศาสตร์!AM13","v":0},{"$f":"ภาษาอังกฤษ!AU13","v":0},0]
[null,4,{"$f":"IF(ข้อมูลนักเรียน!D16=\"\",\"\",ข้อมูลนักเรียน!D16)","v":"นายขเร"},{"$f":"คณิตศาสตร์!AA14","v":0},{"$f":"ภาษาไทย!AO14","v":0},{"$f":"วิทยาศาสตร์!AM14","v":0},{"$f":"ภาษาอังกฤษ!AU14","v":0},0]
[null,5,{"$f":"IF(ข้อมูลนักเรียน!D17=\"\",\"\",ข้อมูลนักเรียน!D17)","v":"นางสาว"},{"$f":"คณิตศาสตร์!AA15","v":0},{"$f":"ภาษาไทย!AO15","v":0},{"$f":"วิทยาศาสตร์!AM15","v":0},{"$f":"ภาษาอังกฤษ!AU15","v":0},0]
[null,6,{"$f":"IF(ข้อมูลนักเรียน!D18=\"\",\"\",ข้อมูลนักเรียน!D18)","v":""},{"$f":"คณิตศาสตร์!AA16","v":0},{"$f":"ภาษาไทย!AO16","v":0},{"$f":"วิทยาศาสตร์!AM16","v":0},{"$f":"ภาษาอังกฤษ!AU16","v":0},0]
[null,7,{"$f":"IF(ข้อมูลนักเรียน!D19=\"\",\"\",ข้อมูลนักเรียน!D19)","v":""},{"$f":"คณิตศาสตร์!AA17","v":0},{"$f":"ภาษาไทย!AO17","v":0},{"$f":"วิทยาศาสตร์!AM17","v":0},{"$f":"ภาษาอังกฤษ!AU17","v":0},0]
[null,8,{"$f":"IF(ข้อมูลนักเรียน!D20=\"\",\"\",ข้อมูลนักเรียน!D20)","v":""},{"$f":"คณิตศาสตร์!AA18","v":0},{"$f":"ภาษาไทย!AO18","v":0},{"$f":"วิทยาศาสตร์!AM18","v":0},{"$f":"ภาษาอังกฤษ!AU18","v":0},0]
[null,9,{"$f":"IF(ข้อมูลนักเรียน!D21=\"\",\"\",ข้อมูลนักเรียน!D21)","v":""},{"$f":"คณิตศาสตร์!AA19","v":0},{"$f":"ภาษาไทย!AO19","v":0},{"$f":"วิทยาศาสตร์!AM19","v":0},{"$f":"ภาษาอังกฤษ!AU19","v":0},0]
[null,10,{"$f":"IF(ข้อมูลนักเรียน!D22=\"\",\"\",ข้อมูลนักเรียน!D22)","v":""},{"$f":"คณิตศาสตร์!AA20","v":0},{"$f":"ภาษาไทย!AO20","v":0},{"$f":"วิทยาศาสตร์!AM20","v":0},{"$f":"ภาษาอังกฤษ!AU20","v":0},0]
[null,11,{"$f":"IF(ข้อมูลนักเรียน!D23=\"\",\"\",ข้อมูลนักเรียน!D23)","v":""},{"$f":"คณิตศาสตร์!AA21","v":0},{"$f":"ภาษาไทย!AO21","v":0},{"$f":"วิทยาศาสตร์!AM21","v":0},{"$f":"ภาษาอังกฤษ!AU21","v":0},0]
[null,12,{"$f":"IF(ข้อมูลนักเรียน!D24=\"\",\"\",ข้อมูลนักเรียน!D24)","v":""},{"$f":"คณิตศาสตร์!AA22","v":0},{"$f":"ภาษาไทย!AO22","v":0},{"$f":"วิทยาศาสตร์!AM22","v":0},{"$f":"ภาษาอังกฤษ!AU22","v":0},0]
[null,13,{"$f":"IF(ข้อมูลนักเรียน!D25=\"\",\"\",ข้อมูลนักเรียน!D25)","v":""},{"$f":"คณิตศาสตร์!AA23","v":0},{"$f":"ภาษาไทย!AO23","v":0},{"$f":"วิทยาศาสตร์!AM23","v":0},{"$f":"ภาษาอังกฤษ!AU23","v":0},0]
[null,14,{"$f":"IF(ข้อมูลนักเรียน!D26=\"\",\"\",ข้อมูลนักเรียน!D26)","v":""},{"$f":"คณิตศาสตร์!AA24","v":0},{"$f":"ภาษาไทย!AO24","v":0},{"$f":"วิทยาศาสตร์!AM24","v":0},{"$f":"ภาษาอังกฤษ!AU24","v":0},0]
[null,15,{"$f":"IF(ข้อมูลนักเรียน!D27=\"\",\"\",ข้อมูลนักเรียน!D27)","v":""},{"$f":"คณิตศาสตร์!AA25","v":0},{"$f":"ภาษาไทย!AO25","v":0},{"$f":"วิทยาศาสตร์!AM25","v":0},{"$f":"ภาษาอังกฤษ!AU25","v":0},0]
[null,16,{"$f":"IF(ข้อมูลนักเรียน!D28=\"\",\"\",ข้อมูลนักเรียน!D28)","v":""},{"$f":"คณิตศาสตร์!AA26","v":0},{"$f":"ภาษาไทย!AO26","v":0},{"$f":"วิทยาศาสตร์!AM26","v":0},{"$f":"ภาษาอังกฤษ!AU26","v":0},0]
[null,17,{"$f":"IF(ข้อมูลนักเรียน!D29=\"\",\"\",ข้อมูลนักเรียน!D29)","v":""},{"$f":"คณิตศาสตร์!AA27","v":0},{"$f":"ภาษาไทย!AO27","v":0},{"$f":"วิทยาศาสตร์!AM27","v":0},{"$f":"ภาษาอังกฤษ!AU27","v":0},0]
[null,18,{"$f":"IF(ข้อมูลนักเรียน!D30=\"\",\"\",ข้อมูลนักเรียน!D30)","v":""},{"$f":"คณิตศาสตร์!AA28","v":0},{"$f":"ภาษาไทย!AO28","v":0},{"$f":"วิทยาศาสตร์!AM28","v":0},{"$f":"ภาษาอังกฤษ!AU28","v":0},0]
[null,19,{"$f":"IF(ข้อมูลนักเรียน!D31=\"\",\"\",ข้อมูลนักเรียน!D31)","v":""},{"$f":"คณิตศาสตร์!AA29","v":0},{"$f":"ภาษาไทย!AO29","v":0},{"$f":"วิทยาศาสตร์!AM29","v":0},{"$f":"ภาษาอังกฤษ!AU29","v":0},0]
[null,20,{"$f":"IF(ข้อมูลนักเรียน!D32=\"\",\"\",ข้อมูลนักเรียน!D32)","v":""},{"$f":"คณิตศาสตร์!AA30","v":0},{"$f":"ภาษาไทย!AO30","v":0},{"$f":"วิทยาศาสตร์!AM30","v":0},{"$f":"ภาษาอังกฤษ!AU30","v":0},0]
[null,21,{"$f":"IF(ข้อมูลนักเรียน!D33=\"\",\"\",ข้อมูลนักเรียน!D33)","v":""},{"$f":"คณิตศาสตร์!AA31","v":0},{"$f":"ภาษาไทย!AO31","v":0},{"$f":"วิทยาศาสตร์!AM31","v":0},{"$f":"ภาษาอังกฤษ!AU31","v":0},0]
[null,22,{"$f":"IF(ข้อมูลนักเรียน!D34=\"\",\"\",ข้อมูลนักเรียน!D34)","v":""},{"$f":"คณิตศาสตร์!AA32","v":0},{"$f":"ภาษาไทย!AO32","v":0},{"$f":"วิทยาศาสตร์!AM32","v":0},{"$f":"ภาษาอังกฤษ!AU32","v":0},0]
[null,23,{"$f":"IF(ข้อมูลนักเรียน!D35=\"\",\"\",ข้อมูลนักเรียน!D35)","v":""},{"$f":"คณิตศาสตร์!AA33","v":0},{"$f":"ภาษาไทย!AO33","v":0},{"$f":"วิทยาศาสตร์!AM33","v":0},{"$f":"ภาษาอังกฤษ!AU33","v":0},0]
[null,24,{"$f":"IF(ข้อมูลนักเรียน!D36=\"\",\"\",ข้อมูลนักเรียน!D36)","v":""},{"$f":"คณิตศาสตร์!AA34","v":0},{"$f":"ภาษาไทย!AO34","v":0},{"$f":"วิทยาศาสตร์!AM34","v":0},{"$f":"ภาษาอังกฤษ!AU34","v":0},0]
[null,25,{"$f":"IF(ข้อมูลนักเรียน!D37=\"\",\"\",ข้อมูลนักเรียน!D37)","v":""},{"$f":"คณิตศาสตร์!AA35","v":0},{"$f":"ภาษาไทย!AO35","v":0},{"$f":"วิทยาศาสตร์!AM35","v":0},{"$f":"ภาษาอังกฤษ!AU35","v":0},0]
[null,26,{"$f":"IF(ข้อมูลนักเรียน!D38=\"\",\"\",ข้อมูลนักเรียน!D38)","v":""},{"$f":"คณิตศาสตร์!AA36","v":0},{"$f":"ภาษาไทย!AO36","v":0},{"$f":"วิทยาศาสตร์!AM36","v":0},{"$f":"ภาษาอังกฤษ!AU36","v":0},0]
[null,27,{"$f":"IF(ข้อมูลนักเรียน!D39=\"\",\"\",ข้อมูลนักเรียน!D39)","v":""},{"$f":"คณิตศาสตร์!AA37","v":0},{"$f":"ภาษาไทย!AO37","v":0},{"$f":"วิทยาศาสตร์!AM37","v":0},{"$f":"ภาษาอังกฤษ!AU37","v":0},0]
[null,28,{"$f":"IF(ข้อมูลนักเรียน!D40=\"\",\"\",ข้อมูลนักเรียน!D40)","v":""},{"$f":"คณิตศาสตร์!AA38","v":0},{"$f":"ภาษาไทย!AO38","v":0},{"$f":"วิทยาศาสตร์!AM38","v":0},{"$f":"ภาษาอังกฤษ!AU38","v":0},0]
[null,29,{"$f":"IF(ข้อมูลนักเรียน!D41=\"\",\"\",ข้อมูลนักเรียน!D41)","v":""},{"$f":"คณิตศาสตร์!AA39","v":0},{"$f":"ภาษาไทย!AO39","v":0},{"$f":"วิทยาศาสตร์!AM39","v":0},{"$f":"ภาษาอังกฤษ!AU39","v":0},0]
[null,30,{"$f":"IF(ข้อมูลนักเรียน!D42=\"\",\"\",ข้อมูลนักเรียน!D42)","v":""},{"$f":"คณิตศาสตร์!AA40","v":0},{"$f":"ภาษาไทย!AO40","v":0},{"$f":"วิทยาศาสตร์!AM40","v":0},{"$f":"ภาษาอังกฤษ!AU40","v":0},0]
[null,31,{"$f":"IF(ข้อมูลนักเรียน!D43=\"\",\"\",ข้อมูลนักเรียน!D43)","v":""},{"$f":"คณิตศาสตร์!AA41","v":0},{"$f":"ภาษาไทย!AO41","v":0},{"$f":"วิทยาศาสตร์!AM41","v":0},{"$f":"ภาษาอังกฤษ!AU41","v":0},0]
[null,32,{"$f":"IF(ข้อมูลนักเรียน!D44=\"\",\"\",ข้อมูลนักเรียน!D44)","v":""},{"$f":"คณิตศาสตร์!AA42","v":0},{"$f":"ภาษาไทย!AO42","v":0},{"$f":"วิทยาศาสตร์!AM42","v":0},{"$f":"ภาษาอังกฤษ!AU42","v":0},0]
[null,33,{"$f":"IF(ข้อมูลนักเรียน!D45=\"\",\"\",ข้อมูลนักเรียน!D45)","v":""},{"$f":"คณิตศาสตร์!AA43","v":0},{"$f":"ภาษาไทย!AO43","v":0},{"$f":"วิทยาศาสตร์!AM43","v":0},{"$f":"ภาษาอังกฤษ!AU43","v":0},0]
[null,34,{"$f":"IF(ข้อมูลนักเรียน!D46=\"\",\"\",ข้อมูลนักเรียน!D46)","v":""},{"$f":"คณิตศาสตร์!AA44","v":0},{"$f":"ภาษาไทย!AO44","v":0},{"$f":"วิทยาศาสตร์!AM44","v":0},{"$f":"ภาษาอังกฤษ!AU44","v":0},0]
[null,35,{"$f":"IF(ข้อมูลนักเรียน!D47=\"\",\"\",ข้อมูลนักเรียน!D47)","v":""},{"$f":"คณิตศาสตร์!AA45","v":0},{"$f":"ภาษาไทย!AO45","v":0},{"$f":"วิทยาศาสตร์!AM45","v":0},{"$f":"ภาษาอังกฤษ!AU45","v":0},0]
[null,36,{"$f":"IF(ข้อมูลนักเรียน!D48=\"\",\"\",ข้อมูลนักเรียน!D48)","v":""},{"$f":"คณิตศาสตร์!AA46","v":0},{"$f":"ภาษาไทย!AO46","v":0},{"$f":"วิทยาศาสตร์!AM46","v":0},{"$f":"ภาษาอังกฤษ!AU46","v":0},0]
[null,37,{"$f":"IF(ข้อมูลนักเรียน!D49=\"\",\"\",ข้อมูลนักเรียน!D49)","v":""},{"$f":"คณิตศาสตร์!AA47","v":0},{"$f":"ภาษาไทย!AO47","v":0},{"$f":"วิทยาศาสตร์!AM47","v":0},{"$f":"ภาษาอังกฤษ!AU47","v":0},0]
[null,38,{"$f":"IF(ข้อมูลนักเรียน!D50=\"\",\"\",ข้อมูลนักเรียน!D50)","v":""},{"$f":"คณิตศาสตร์!AA48","v":0},{"$f":"ภาษาไทย!AO48","v":0},{"$f":"วิทยาศาสตร์!AM48","v":0},{"$f":"ภาษาอังกฤษ!AU48","v":0},0]
[null,39,{"$f":"IF(ข้อมูลนักเรียน!D51=\"\",\"\",ข้อมูลนักเรียน!D51)","v":""},{"$f":"คณิตศาสตร์!AA49","v":0},{"$f":"ภาษาไทย!AO49","v":0},{"$f":"วิทยาศาสตร์!AM49","v":0},{"$f":"ภาษาอังกฤษ!AU49","v":0},0]
[null,40,{"$f":"IF(ข้อมูลนักเรียน!D52=\"\",\"\",ข้อมูลนักเรียน!D52)","v":""},{"$f":"คณิตศาสตร์!AA50","v":0},{"$f":"ภาษาไทย!AO50","v":0},{"$f":"วิทยาศาสตร์!AM50","v":0},{"$f":"ภาษาอังกฤษ!AU50","v":0},0]
[null,41,{"$f":"IF(ข้อมูลนักเรียน!D53=\"\",\"\",ข้อมูลนักเรียน!D53)","v":""},{"$f":"คณิตศาสตร์!AA51","v":0},{"$f":"ภาษาไทย!AO51","v":0},{"$f":"วิทยาศาสตร์!AM51","v":0},{"$f":"ภาษาอังกฤษ!AU51","v":0},0]
[null,42,{"$f":"IF(ข้อมูลนักเรียน!D54=\"\",\"\",ข้อมูลนักเรียน!D54)","v":""},{"$f":"คณิตศาสตร์!AA52","v":0},{"$f":"ภาษาไทย!AO52","v":0},{"$f":"วิทยาศาสตร์!AM52","v":0},{"$f":"ภาษาอังกฤษ!AU52","v":0},0]
[null,43,{"$f":"IF(ข้อมูลนักเรียน!D55=\"\",\"\",ข้อมูลนักเรียน!D55)","v":""},{"$f":"คณิตศาสตร์!AA53","v":0},{"$f":"ภาษาไทย!AO53","v":0},{"$f":"วิทยาศาสตร์!AM53","v":0},{"$f":"ภาษาอังกฤษ!AU53","v":0},0]
[null,44,{"$f":"IF(ข้อมูลนักเรียน!D56=\"\",\"\",ข้อมูลนักเรียน!D56)","v":""},{"$f":"คณิตศาสตร์!AA54","v":0},{"$f":"ภาษาไทย!AO54","v":0},{"$f":"วิทยาศาสตร์!AM54","v":0},{"$f":"ภาษาอังกฤษ!AU54","v":0},0]
[null,45,{"$f":"IF(ข้อมูลนักเรียน!D57=\"\",\"\",ข้อมูลนักเรียน!D57)","v":""},{"$f":"คณิตศาสตร์!AA55","v":0},{"$f":"ภาษาไทย!AO55","v":0},{"$f":"วิทยาศาสตร์!AM55","v":0},{"$f":"ภาษาอังกฤษ!AU55","v":0},0]
[null,46,{"$f":"IF(ข้อมูลนักเรียน!D58=\"\",\"\",ข้อมูลนักเรียน!D58)","v":""},{"$f":"คณิตศาสตร์!AA56","v":0},{"$f":"ภาษาไทย!AO56","v":0},{"$f":"วิทยาศาสตร์!AM56","v":0},{"$f":"ภาษาอังกฤษ!AU56","v":0},0]
[null,47,{"$f":"IF(ข้อมูลนักเรียน!D59=\"\",\"\",ข้อมูลนักเรียน!D59)","v":""},{"$f":"คณิตศาสตร์!AA57","v":0},{"$f":"ภาษาไทย!AO57","v":0},{"$f":"วิทยาศาสตร์!AM57","v":0},{"$f":"ภาษาอังกฤษ!AU57","v":0},0]
[null,48,{"$f":"IF(ข้อมูลนักเรียน!D60=\"\",\"\",ข้อมูลนักเรียน!D60)","v":""},{"$f":"คณิตศาสตร์!AA58","v":0},{"$f":"ภาษาไทย!AO58","v":0},{"$f":"วิทยาศาสตร์!AM58","v":0},{"$f":"ภาษาอังกฤษ!AU58","v":0},0]
[null,49,{"$f":"IF(ข้อมูลนักเรียน!D61=\"\",\"\",ข้อมูลนักเรียน!D61)","v":""},{"$f":"คณิตศาสตร์!AA59","v":0},{"$f":"ภาษาไทย!AO59","v":0},{"$f":"วิทยาศาสตร์!AM59","v":0},{"$f":"ภาษาอังกฤษ!AU59","v":0},0]
[null,50,{"$f":"IF(ข้อมูลนักเรียน!D62=\"\",\"\",ข้อมูลนักเรียน!D62)","v":""},{"$f":"คณิตศาสตร์!AA60","v":0},{"$f":"ภาษาไทย!AO60","v":0},{"$f":"วิทยาศาสตร์!AM60","v":0},{"$f":"ภาษาอังกฤษ!AU60","v":0},0]
[null,51,{"$f":"IF(ข้อมูลนักเรียน!D63=\"\",\"\",ข้อมูลนักเรียน!D63)","v":""},{"$f":"คณิตศาสตร์!AA61","v":0},{"$f":"ภาษาไทย!AO61","v":0},{"$f":"วิทยาศาสตร์!AM61","v":0},{"$f":"ภาษาอังกฤษ!AU61","v":0},0]
[null,52,{"$f":"IF(ข้อมูลนักเรียน!D64=\"\",\"\",ข้อมูลนักเรียน!D64)","v":""},{"$f":"คณิตศาสตร์!AA62","v":0},{"$f":"ภาษาไทย!AO62","v":0},{"$f":"วิทยาศาสตร์!AM62","v":0},{"$f":"ภาษาอังกฤษ!AU62","v":0},0]
[null,53,{"$f":"IF(ข้อมูลนักเรียน!D65=\"\",\"\",ข้อมูลนักเรียน!D65)","v":""},{"$f":"คณิตศาสตร์!AA63","v":0},{"$f":"ภาษาไทย!AO63","v":0},{"$f":"วิทยาศาสตร์!AM63","v":0},{"$f":"ภาษาอังกฤษ!AU63","v":0},0]
[null,54,{"$f":"IF(ข้อมูลนักเรียน!D66=\"\",\"\",ข้อมูลนักเรียน!D66)","v":""},{"$f":"คณิตศาสตร์!AA64","v":0},{"$f":"ภาษาไทย!AO64","v":0},{"$f":"วิทยาศาสตร์!AM64","v":0},{"$f":"ภาษาอังกฤษ!AU64","v":0},0]
[null,55,{"$f":"IF(ข้อมูลนักเรียน!D67=\"\",\"\",ข้อมูลนักเรียน!D67)","v":""},{"$f":"คณิตศาสตร์!AA65","v":0},{"$f":"ภาษาไทย!AO65","v":0},{"$f":"วิทยาศาสตร์!AM65","v":0},{"$f":"ภาษาอังกฤษ!AU65","v":0},0]
[null,56,{"$f":"IF(ข้อมูลนักเรียน!D68=\"\",\"\",ข้อมูลนักเรียน!D68)","v":""},{"$f":"คณิตศาสตร์!AA66","v":0},{"$f":"ภาษาไทย!AO66","v":0},{"$f":"วิทยาศาสตร์!AM66","v":0},{"$f":"ภาษาอังกฤษ!AU66","v":0},0]
[null,57,{"$f":"IF(ข้อมูลนักเรียน!D69=\"\",\"\",ข้อมูลนักเรียน!D69)","v":""},{"$f":"คณิตศาสตร์!AA67","v":0},{"$f":"ภาษาไทย!AO67","v":0},{"$f":"วิทยาศาสตร์!AM67","v":0},{"$f":"ภาษาอังกฤษ!AU67","v":0},0]
[null,58,{"$f":"IF(ข้อมูลนักเรียน!D70=\"\",\"\",ข้อมูลนักเรียน!D70)","v":""},{"$f":"คณิตศาสตร์!AA68","v":0},{"$f":"ภาษาไทย!AO68","v":0},{"$f":"วิทยาศาสตร์!AM68","v":0},{"$f":"ภาษาอังกฤษ!AU68","v":0},0]
[null,59,{"$f":"IF(ข้อมูลนักเรียน!D71=\"\",\"\",ข้อมูลนักเรียน!D71)","v":""},{"$f":"คณิตศาสตร์!AA69","v":0},{"$f":"ภาษาไทย!AO69","v":0},{"$f":"วิทยาศาสตร์!AM69","v":0},{"$f":"ภาษาอังกฤษ!AU69","v":0},0]
[null,60,{"$f":"IF(ข้อมูลนักเรียน!D72=\"\",\"\",ข้อมูลนักเรียน!D72)","v":""},{"$f":"คณิตศาสตร์!AA70","v":0},{"$f":"ภาษาไทย!AO70","v":0},{"$f":"วิทยาศาสตร์!AM70","v":0},{"$f":"ภาษาอังกฤษ!AU70","v":0},0]
[null,61,{"$f":"IF(ข้อมูลนักเรียน!D73=\"\",\"\",ข้อมูลนักเรียน!D73)","v":""},{"$f":"คณิตศาสตร์!AA71","v":0},{"$f":"ภาษาไทย!AO71","v":0},{"$f":"วิทยาศาสตร์!AM71","v":0},{"$f":"ภาษาอังกฤษ!AU71","v":0},0]
[null,62,{"$f":"IF(ข้อมูลนักเรียน!D74=\"\",\"\",ข้อมูลนักเรียน!D74)","v":""},{"$f":"คณิตศาสตร์!AA72","v":0},{"$f":"ภาษาไทย!AO72","v":0},{"$f":"วิทยาศาสตร์!AM72","v":0},{"$f":"ภาษาอังกฤษ!AU72","v":0},0]
[null,63,{"$f":"IF(ข้อมูลนักเรียน!D75=\"\",\"\",ข้อมูลนักเรียน!D75)","v":""},{"$f":"คณิตศาสตร์!AA73","v":0},{"$f":"ภาษาไทย!AO73","v":0},{"$f":"วิทยาศาสตร์!AM73","v":0},{"$f":"ภาษาอังกฤษ!AU73","v":0},0]
[null,64,{"$f":"IF(ข้อมูลนักเรียน!D76=\"\",\"\",ข้อมูลนักเรียน!D76)","v":""},{"$f":"คณิตศาสตร์!AA74","v":0},{"$f":"ภาษาไทย!AO74","v":0},{"$f":"วิทยาศาสตร์!AM74","v":0},{"$f":"ภาษาอังกฤษ!AU74","v":0},0]
[null,65,{"$f":"IF(ข้อมูลนักเรียน!D77=\"\",\"\",ข้อมูลนักเรียน!D77)","v":""},{"$f":"คณิตศาสตร์!AA75","v":0},{"$f":"ภาษาไทย!AO75","v":0},{"$f":"วิทยาศาสตร์!AM75","v":0},{"$f":"ภาษาอังกฤษ!AU75","v":0},0]
[null,66,{"$f":"IF(ข้อมูลนักเรียน!D78=\"\",\"\",ข้อมูลนักเรียน!D78)","v":""},{"$f":"คณิตศาสตร์!AA76","v":0},{"$f":"ภาษาไทย!AO76","v":0},{"$f":"วิทยาศาสตร์!AM76","v":0},{"$f":"ภาษาอังกฤษ!AU76","v":0},{"$f":"(D73+E73+F73+G73)/4","v":0}]
[null,67,{"$f":"IF(ข้อมูลนักเรียน!D79=\"\",\"\",ข้อมูลนักเรียน!D79)","v":""},{"$f":"คณิตศาสตร์!AA77","v":0},{"$f":"ภาษาไทย!AO77","v":0},{"$f":"วิทยาศาสตร์!AM77","v":0},{"$f":"ภาษาอังกฤษ!AU77","v":0},0]
[null,68,{"$f":"IF(ข้อมูลนักเรียน!D80=\"\",\"\",ข้อมูลนักเรียน!D80)","v":""},{"$f":"คณิตศาสตร์!AA78","v":0},{"$f":"ภาษาไทย!AO78","v":0},{"$f":"วิทยาศาสตร์!AM78","v":0},{"$f":"ภาษาอังกฤษ!AU78","v":0},0]
[null,69,{"$f":"IF(ข้อมูลนักเรียน!D81=\"\",\"\",ข้อมูลนักเรียน!D81)","v":""},{"$f":"คณิตศาสตร์!AA79","v":0},{"$f":"ภาษาไทย!AO79","v":0},{"$f":"วิทยาศาสตร์!AM79","v":0},{"$f":"ภาษาอังกฤษ!AU79","v":0},0]
[null,70,{"$f":"IF(ข้อมูลนักเรียน!D82=\"\",\"\",ข้อมูลนักเรียน!D82)","v":""},{"$f":"คณิตศาสตร์!AA80","v":0},{"$f":"ภาษาไทย!AO80","v":0},{"$f":"วิทยาศาสตร์!AM80","v":0},{"$f":"ภาษาอังกฤษ!AU80","v":0},0]
[null,71,{"$f":"IF(ข้อมูลนักเรียน!D83=\"\",\"\",ข้อมูลนักเรียน!D83)","v":""},{"$f":"คณิตศาสตร์!AA81","v":0},{"$f":"ภาษาไทย!AO81","v":0},{"$f":"วิทยาศาสตร์!AM81","v":0},{"$f":"ภาษาอังกฤษ!AU81","v":0},0]
[null,72,{"$f":"IF(ข้อมูลนักเรียน!D84=\"\",\"\",ข้อมูลนักเรียน!D84)","v":""},{"$f":"คณิตศาสตร์!AA82","v":0},{"$f":"ภาษาไทย!AO82","v":0},{"$f":"วิทยาศาสตร์!AM82","v":0},{"$f":"ภาษาอังกฤษ!AU82","v":0},0]
[null,73,{"$f":"IF(ข้อมูลนักเรียน!D85=\"\",\"\",ข้อมูลนักเรียน!D85)","v":""},{"$f":"คณิตศาสตร์!AA83","v":0},{"$f":"ภาษาไทย!AO83","v":0},{"$f":"วิทยาศาสตร์!AM83","v":0},{"$f":"ภาษาอังกฤษ!AU83","v":0},0]
[null,74,{"$f":"IF(ข้อมูลนักเรียน!D86=\"\",\"\",ข้อมูลนักเรียน!D86)","v":""},{"$f":"คณิตศาสตร์!AA84","v":0},{"$f":"ภาษาไทย!AO84","v":0},{"$f":"วิทยาศาสตร์!AM84","v":0},{"$f":"ภาษาอังกฤษ!AU84","v":0},0]
[null,75,{"$f":"IF(ข้อมูลนักเรียน!D87=\"\",\"\",ข้อมูลนักเรียน!D87)","v":""},{"$f":"คณิตศาสตร์!AA85","v":0},{"$f":"ภาษาไทย!AO85","v":0},{"$f":"วิทยาศาสตร์!AM85","v":0},{"$f":"ภาษาอังกฤษ!AU85","v":0},0]
[null,76,{"$f":"IF(ข้อมูลนักเรียน!D88=\"\",\"\",ข้อมูลนักเรียน!D88)","v":""},{"$f":"คณิตศาสตร์!AA86","v":0},{"$f":"ภาษาไทย!AO86","v":0},{"$f":"วิทยาศาสตร์!AM86","v":0},{"$f":"ภาษาอังกฤษ!AU86","v":0},0]
[null,77,{"$f":"IF(ข้อมูลนักเรียน!D89=\"\",\"\",ข้อมูลนักเรียน!D89)","v":""},{"$f":"คณิตศาสตร์!AA87","v":0},{"$f":"ภาษาไทย!AO87","v":0},{"$f":"วิทยาศาสตร์!AM87","v":0},{"$f":"ภาษาอังกฤษ!AU87","v":0},0]
[null,78,{"$f":"IF(ข้อมูลนักเรียน!D90=\"\",\"\",ข้อมูลนักเรียน!D90)","v":""},{"$f":"คณิตศาสตร์!AA88","v":0},{"$f":"ภาษาไทย!AO88","v":0},{"$f":"วิทยาศาสตร์!AM88","v":0},{"$f":"ภาษาอังกฤษ!AU88","v":0},0]
[null,79,{"$f":"IF(ข้อมูลนักเรียน!D91=\"\",\"\",ข้อมูลนักเรียน!D91)","v":""},{"$f":"คณิตศาสตร์!AA89","v":0},{"$f":"ภาษาไทย!AO89","v":0},{"$f":"วิทยาศาสตร์!AM89","v":0},{"$f":"ภาษาอังกฤษ!AU89","v":0},0]
[null,80,{"$f":"IF(ข้อมูลนักเรียน!D92=\"\",\"\",ข้อมูลนักเรียน!D92)","v":""},{"$f":"คณิตศาสตร์!AA90","v":0},{"$f":"ภาษาไทย!AO90","v":0},{"$f":"วิทยาศาสตร์!AM90","v":0},{"$f":"ภาษาอังกฤษ!AU90","v":0},0]
[null,81,{"$f":"IF(ข้อมูลนักเรียน!D93=\"\",\"\",ข้อมูลนักเรียน!D93)","v":""},{"$f":"คณิตศาสตร์!AA91","v":0},{"$f":"ภาษาไทย!AO91","v":0},{"$f":"วิทยาศาสตร์!AM91","v":0},{"$f":"ภาษาอังกฤษ!AU91","v":0},0]
[null,82,{"$f":"IF(ข้อมูลนักเรียน!D94=\"\",\"\",ข้อมูลนักเรียน!D94)","v":""},{"$f":"คณิตศาสตร์!AA92","v":0},{"$f":"ภาษาไทย!AO92","v":0},{"$f":"วิทยาศาสตร์!AM92","v":0},{"$f":"ภาษาอังกฤษ!AU92","v":0},0]
[null,83,{"$f":"IF(ข้อมูลนักเรียน!D95=\"\",\"\",ข้อมูลนักเรียน!D95)","v":""},{"$f":"คณิตศาสตร์!AA93","v":0},{"$f":"ภาษาไทย!AO93","v":0},{"$f":"วิทยาศาสตร์!AM93","v":0},{"$f":"ภาษาอังกฤษ!AU93","v":0},0]
[null,84,{"$f":"IF(ข้อมูลนักเรียน!D96=\"\",\"\",ข้อมูลนักเรียน!D96)","v":""},{"$f":"คณิตศาสตร์!AA94","v":0},{"$f":"ภาษาไทย!AO94","v":0},{"$f":"วิทยาศาสตร์!AM94","v":0},{"$f":"ภาษาอังกฤษ!AU94","v":0},0]
[null,85,{"$f":"IF(ข้อมูลนักเรียน!D97=\"\",\"\",ข้อมูลนักเรียน!D97)","v":""},{"$f":"คณิตศาสตร์!AA95","v":0},{"$f":"ภาษาไทย!AO95","v":0},{"$f":"วิทยาศาสตร์!AM95","v":0},{"$f":"ภาษาอังกฤษ!AU95","v":0},0]
[null,86,{"$f":"IF(ข้อมูลนักเรียน!D98=\"\",\"\",ข้อมูลนักเรียน!D98)","v":""},{"$f":"คณิตศาสตร์!AA96","v":0},{"$f":"ภาษาไทย!AO96","v":0},{"$f":"วิทยาศาสตร์!AM96","v":0},{"$f":"ภาษาอังกฤษ!AU96","v":0},0]
[null,87,{"$f":"IF(ข้อมูลนักเรียน!D99=\"\",\"\",ข้อมูลนักเรียน!D99)","v":""},{"$f":"คณิตศาสตร์!AA97","v":0},{"$f":"ภาษาไทย!AO97","v":0},{"$f":"วิทยาศาสตร์!AM97","v":0},{"$f":"ภาษาอังกฤษ!AU97","v":0},0]
[null,88,{"$f":"IF(ข้อมูลนักเรียน!D100=\"\",\"\",ข้อมูลนักเรียน!D100)","v":""},{"$f":"คณิตศาสตร์!AA98","v":0},{"$f":"ภาษาไทย!AO98","v":0},{"$f":"วิทยาศาสตร์!AM98","v":0},{"$f":"ภาษาอังกฤษ!AU98","v":0},0]
[null,89,{"$f":"IF(ข้อมูลนักเรียน!D101=\"\",\"\",ข้อมูลนักเรียน!D101)","v":""},{"$f":"คณิตศาสตร์!AA99","v":0},{"$f":"ภาษาไทย!AO99","v":0},{"$f":"วิทยาศาสตร์!AM99","v":0},{"$f":"ภาษาอังกฤษ!AU99","v":0},0]
[null,90,{"$f":"IF(ข้อมูลนักเรียน!D102=\"\",\"\",ข้อมูลนักเรียน!D102)","v":""},{"$f":"คณิตศาสตร์!AA100","v":0},{"$f":"ภาษาไทย!AO100","v":0},{"$f":"วิทยาศาสตร์!AM100","v":0},{"$f":"ภาษาอังกฤษ!AU100","v":0},0]
[null,91,{"$f":"IF(ข้อมูลนักเรียน!D103=\"\",\"\",ข้อมูลนักเรียน!D103)","v":""},{"$f":"คณิตศาสตร์!AA101","v":0},{"$f":"ภาษาไทย!AO101","v":0},{"$f":"วิทยาศาสตร์!AM101","v":0},{"$f":"ภาษาอังกฤษ!AU101","v":0},0]
[null,92,{"$f":"IF(ข้อมูลนักเรียน!D104=\"\",\"\",ข้อมูลนักเรียน!D104)","v":""},{"$f":"คณิตศาสตร์!AA102","v":0},{"$f":"ภาษาไทย!AO102","v":0},{"$f":"วิทยาศาสตร์!AM102","v":0},{"$f":"ภาษาอังกฤษ!AU102","v":0},0]
[null,93,{"$f":"IF(ข้อมูลนักเรียน!D105=\"\",\"\",ข้อมูลนักเรียน!D105)","v":""},{"$f":"คณิตศาสตร์!AA103","v":0},{"$f":"ภาษาไทย!AO103","v":0},{"$f":"วิทยาศาสตร์!AM103","v":0},{"$f":"ภาษาอังกฤษ!AU103","v":0},0]
[null,94,{"$f":"IF(ข้อมูลนักเรียน!D106=\"\",\"\",ข้อมูลนักเรียน!D106)","v":""},{"$f":"คณิตศาสตร์!AA104","v":0},{"$f":"ภาษาไทย!AO104","v":0},{"$f":"วิทยาศาสตร์!AM104","v":0},{"$f":"ภาษาอังกฤษ!AU104","v":0},0]
[null,95,{"$f":"IF(ข้อมูลนักเรียน!D107=\"\",\"\",ข้อมูลนักเรียน!D107)","v":""},{"$f":"คณิตศาสตร์!AA105","v":0},{"$f":"ภาษาไทย!AO105","v":0},{"$f":"วิทยาศาสตร์!AM105","v":0},{"$f":"ภาษาอังกฤษ!AU105","v":0},0]
[null,96,{"$f":"IF(ข้อมูลนักเรียน!D108=\"\",\"\",ข้อมูลนักเรียน!D108)","v":""},{"$f":"คณิตศาสตร์!AA106","v":0},{"$f":"ภาษาไทย!AO106","v":0},{"$f":"วิทยาศาสตร์!AM106","v":0},{"$f":"ภาษาอังกฤษ!AU106","v":0},0]
[null,97,{"$f":"IF(ข้อมูลนักเรียน!D109=\"\",\"\",ข้อมูลนักเรียน!D109)","v":""},{"$f":"คณิตศาสตร์!AA107","v":0},{"$f":"ภาษาไทย!AO107","v":0},{"$f":"วิทยาศาสตร์!AM107","v":0},{"$f":"ภาษาอังกฤษ!AU107","v":0},0]
[null,98,{"$f":"IF(ข้อมูลนักเรียน!D110=\"\",\"\",ข้อมูลนักเรียน!D110)","v":""},{"$f":"คณิตศาสตร์!AA108","v":0},{"$f":"ภาษาไทย!AO108","v":0},{"$f":"วิทยาศาสตร์!AM108","v":0},{"$f":"ภาษาอังกฤษ!AU108","v":0},0]
[null,99,{"$f":"IF(ข้อมูลนักเรียน!D111=\"\",\"\",ข้อมูลนักเรียน!D111)","v":""},{"$f":"คณิตศาสตร์!AA109","v":0},{"$f":"ภาษาไทย!AO109","v":0},{"$f":"วิทยาศาสตร์!AM109","v":0},{"$f":"ภาษาอังกฤษ!AU109","v":0},0]
[null,100,{"$f":"IF(ข้อมูลนักเรียน!D112=\"\",\"\",ข้อมูลนักเรียน!D112)","v":""},{"$f":"คณิตศาสตร์!AA110","v":0},{"$f":"ภาษาไทย!AO110","v":0},{"$f":"วิทยาศาสตร์!AM110","v":0},{"$f":"ภาษาอังกฤษ!AU110","v":0},0]
[null,101,{"$f":"IF(ข้อมูลนักเรียน!D113=\"\",\"\",ข้อมูลนักเรียน!D113)","v":""},{"$f":"คณิตศาสตร์!AA111","v":0},{"$f":"ภาษาไทย!AO111","v":0},{"$f":"วิทยาศาสตร์!AM111","v":0},{"$f":"ภาษาอังกฤษ!AU111","v":0},0]
[null,102,{"$f":"IF(ข้อมูลนักเรียน!D114=\"\",\"\",ข้อมูลนักเรียน!D114)","v":""},{"$f":"คณิตศาสตร์!AA112","v":0},{"$f":"ภาษาไทย!AO112","v":0},{"$f":"วิทยาศาสตร์!AM112","v":0},{"$f":"ภาษาอังกฤษ!AU112","v":0},0]
[null,103,{"$f":"IF(ข้อมูลนักเรียน!D115=\"\",\"\",ข้อมูลนักเรียน!D115)","v":""},{"$f":"คณิตศาสตร์!AA113","v":0},{"$f":"ภาษาไทย!AO113","v":0},{"$f":"วิทยาศาสตร์!AM113","v":0},{"$f":"ภาษาอังกฤษ!AU113","v":0},0]
[null,104,{"$f":"IF(ข้อมูลนักเรียน!D116=\"\",\"\",ข้อมูลนักเรียน!D116)","v":""},{"$f":"คณิตศาสตร์!AA114","v":0},{"$f":"ภาษาไทย!AO114","v":0},{"$f":"วิทยาศาสตร์!AM114","v":0},{"$f":"ภาษาอังกฤษ!AU114","v":0},0]
[null,105,{"$f":"IF(ข้อมูลนักเรียน!D117=\"\",\"\",ข้อมูลนักเรียน!D117)","v":""},{"$f":"คณิตศาสตร์!AA115","v":0},{"$f":"ภาษาไทย!AO115","v":0},{"$f":"วิทยาศาสตร์!AM115","v":0},{"$f":"ภาษาอังกฤษ!AU115","v":0},0]
[null,106,{"$f":"IF(ข้อมูลนักเรียน!D118=\"\",\"\",ข้อมูลนักเรียน!D118)","v":""},{"$f":"คณิตศาสตร์!AA116","v":0},{"$f":"ภาษาไทย!AO116","v":0},{"$f":"วิทยาศาสตร์!AM116","v":0},{"$f":"ภาษาอังกฤษ!AU116","v":0},0]
[null,107,{"$f":"IF(ข้อมูลนักเรียน!D119=\"\",\"\",ข้อมูลนักเรียน!D119)","v":""},{"$f":"คณิตศาสตร์!AA117","v":0},{"$f":"ภาษาไทย!AO117","v":0},{"$f":"วิทยาศาสตร์!AM117","v":0},{"$f":"ภาษาอังกฤษ!AU117","v":0},0]
[null,108,{"$f":"IF(ข้อมูลนักเรียน!D120=\"\",\"\",ข้อมูลนักเรียน!D120)","v":""},{"$f":"คณิตศาสตร์!AA118","v":0},{"$f":"ภาษาไทย!AO118","v":0},{"$f":"วิทยาศาสตร์!AM118","v":0},{"$f":"ภาษาอังกฤษ!AU118","v":0},0]
[null,109,{"$f":"IF(ข้อมูลนักเรียน!D121=\"\",\"\",ข้อมูลนักเรียน!D121)","v":""},{"$f":"คณิตศาสตร์!AA119","v":0},{"$f":"ภาษาไทย!AO119","v":0},{"$f":"วิทยาศาสตร์!AM119","v":0},{"$f":"ภาษาอังกฤษ!AU119","v":0},0]
[null,110,{"$f":"IF(ข้อมูลนักเรียน!D122=\"\",\"\",ข้อมูลนักเรียน!D122)","v":""},{"$f":"คณิตศาสตร์!AA120","v":0},{"$f":"ภาษาไทย!AO120","v":0},{"$f":"วิทยาศาสตร์!AM120","v":0},{"$f":"ภาษาอังกฤษ!AU120","v":0},0]
[null,111,{"$f":"IF(ข้อมูลนักเรียน!D123=\"\",\"\",ข้อมูลนักเรียน!D123)","v":""},{"$f":"คณิตศาสตร์!AA121","v":0},{"$f":"ภาษาไทย!AO121","v":0},{"$f":"วิทยาศาสตร์!AM121","v":0},{"$f":"ภาษาอังกฤษ!AU121","v":0},0]
[null,112,{"$f":"IF(ข้อมูลนักเรียน!D124=\"\",\"\",ข้อมูลนักเรียน!D124)","v":""},{"$f":"คณิตศาสตร์!AA122","v":0},{"$f":"ภาษาไทย!AO122","v":0},{"$f":"วิทยาศาสตร์!AM122","v":0},{"$f":"ภาษาอังกฤษ!AU122","v":0},0]
[null,113,{"$f":"IF(ข้อมูลนักเรียน!D125=\"\",\"\",ข้อมูลนักเรียน!D125)","v":""},{"$f":"คณิตศาสตร์!AA123","v":0},{"$f":"ภาษาไทย!AO123","v":0},{"$f":"วิทยาศาสตร์!AM123","v":0},{"$f":"ภาษาอังกฤษ!AU123","v":0},0]
[null,114,{"$f":"IF(ข้อมูลนักเรียน!D126=\"\",\"\",ข้อมูลนักเรียน!D126)","v":""},{"$f":"คณิตศาสตร์!AA124","v":0},{"$f":"ภาษาไทย!AO124","v":0},{"$f":"วิทยาศาสตร์!AM124","v":0},{"$f":"ภาษาอังกฤษ!AU124","v":0},0]
[null,115,{"$f":"IF(ข้อมูลนักเรียน!D127=\"\",\"\",ข้อมูลนักเรียน!D127)","v":""},{"$f":"คณิตศาสตร์!AA125","v":0},{"$f":"ภาษาไทย!AO125","v":0},{"$f":"วิทยาศาสตร์!AM125","v":0},{"$f":"ภาษาอังกฤษ!AU125","v":0},0]
[null,116,{"$f":"IF(ข้อมูลนักเรียน!D128=\"\",\"\",ข้อมูลนักเรียน!D128)","v":""},{"$f":"คณิตศาสตร์!AA126","v":0},{"$f":"ภาษาไทย!AO126","v":0},{"$f":"วิทยาศาสตร์!AM126","v":0},{"$f":"ภาษาอังกฤษ!AU126","v":0},0]
[null,117,{"$f":"IF(ข้อมูลนักเรียน!D129=\"\",\"\",ข้อมูลนักเรียน!D129)","v":""},{"$f":"คณิตศาสตร์!AA127","v":0},{"$f":"ภาษาไทย!AO127","v":0},{"$f":"วิทยาศาสตร์!AM127","v":0},{"$f":"ภาษาอังกฤษ!AU127","v":0},0]
[null,118,{"$f":"IF(ข้อมูลนักเรียน!D130=\"\",\"\",ข้อมูลนักเรียน!D130)","v":""},{"$f":"คณิตศาสตร์!AA128","v":0},{"$f":"ภาษาไทย!AO128","v":0},{"$f":"วิทยาศาสตร์!AM128","v":0},{"$f":"ภาษาอังกฤษ!AU128","v":0},0]
[null,119,{"$f":"IF(ข้อมูลนักเรียน!D131=\"\",\"\",ข้อมูลนักเรียน!D131)","v":""},{"$f":"คณิตศาสตร์!AA129","v":0},{"$f":"ภาษาไทย!AO129","v":0},{"$f":"วิทยาศาสตร์!AM129","v":0},{"$f":"ภาษาอังกฤษ!AU129","v":0},0]
[null,120,{"$f":"IF(ข้อมูลนักเรียน!D132=\"\",\"\",ข้อมูลนักเรียน!D132)","v":""},{"$f":"คณิตศาสตร์!AA130","v":0},{"$f":"ภาษาไทย!AO130","v":0},{"$f":"วิทยาศาสตร์!AM130","v":0},{"$f":"ภาษาอังกฤษ!AU130","v":0},0]
[null,121,{"$f":"IF(ข้อมูลนักเรียน!D133=\"\",\"\",ข้อมูลนักเรียน!D133)","v":""},{"$f":"คณิตศาสตร์!AA131","v":0},{"$f":"ภาษาไทย!AO131","v":0},{"$f":"วิทยาศาสตร์!AM131","v":0},{"$f":"ภาษาอังกฤษ!AU131","v":0},0]
[null,122,{"$f":"IF(ข้อมูลนักเรียน!D134=\"\",\"\",ข้อมูลนักเรียน!D134)","v":""},{"$f":"คณิตศาสตร์!AA132","v":0},{"$f":"ภาษาไทย!AO132","v":0},{"$f":"วิทยาศาสตร์!AM132","v":0},{"$f":"ภาษาอังกฤษ!AU132","v":0},0]
[null,123,{"$f":"IF(ข้อมูลนักเรียน!D135=\"\",\"\",ข้อมูลนักเรียน!D135)","v":""},{"$f":"คณิตศาสตร์!AA133","v":0},{"$f":"ภาษาไทย!AO133","v":0},{"$f":"วิทยาศาสตร์!AM133","v":0},{"$f":"ภาษาอังกฤษ!AU133","v":0},0]
[null,124,{"$f":"IF(ข้อมูลนักเรียน!D136=\"\",\"\",ข้อมูลนักเรียน!D136)","v":""},{"$f":"คณิตศาสตร์!AA134","v":0},{"$f":"ภาษาไทย!AO134","v":0},{"$f":"วิทยาศาสตร์!AM134","v":0},{"$f":"ภาษาอังกฤษ!AU134","v":0},0]
[null,125,{"$f":"IF(ข้อมูลนักเรียน!D137=\"\",\"\",ข้อมูลนักเรียน!D137)","v":""},{"$f":"คณิตศาสตร์!AA135","v":0},{"$f":"ภาษาไทย!AO135","v":0},{"$f":"วิทยาศาสตร์!AM135","v":0},{"$f":"ภาษาอังกฤษ!AU135","v":0},0]
[null,126,{"$f":"IF(ข้อมูลนักเรียน!D138=\"\",\"\",ข้อมูลนักเรียน!D138)","v":""},{"$f":"คณิตศาสตร์!AA136","v":0},{"$f":"ภาษาไทย!AO136","v":0},{"$f":"วิทยาศาสตร์!AM136","v":0},{"$f":"ภาษาอังกฤษ!AU136","v":0},0]
[null,127,{"$f":"IF(ข้อมูลนักเรียน!D139=\"\",\"\",ข้อมูลนักเรียน!D139)","v":""},{"$f":"คณิตศาสตร์!AA137","v":0},{"$f":"ภาษาไทย!AO137","v":0},{"$f":"วิทยาศาสตร์!AM137","v":0},{"$f":"ภาษาอังกฤษ!AU137","v":0},0]
[null,128,{"$f":"IF(ข้อมูลนักเรียน!D140=\"\",\"\",ข้อมูลนักเรียน!D140)","v":""},{"$f":"คณิตศาสตร์!AA138","v":0},{"$f":"ภาษาไทย!AO138","v":0},{"$f":"วิทยาศาสตร์!AM138","v":0},{"$f":"ภาษาอังกฤษ!AU138","v":0},0]
[null,129,{"$f":"IF(ข้อมูลนักเรียน!D141=\"\",\"\",ข้อมูลนักเรียน!D141)","v":""},{"$f":"คณิตศาสตร์!AA139","v":0},{"$f":"ภาษาไทย!AO139","v":0},{"$f":"วิทยาศาสตร์!AM139","v":0},{"$f":"ภาษาอังกฤษ!AU139","v":0},0]
[null,130,{"$f":"IF(ข้อมูลนักเรียน!D142=\"\",\"\",ข้อมูลนักเรียน!D142)","v":""},{"$f":"คณิตศาสตร์!AA140","v":0},{"$f":"ภาษาไทย!AO140","v":0},{"$f":"วิทยาศาสตร์!AM140","v":0},{"$f":"ภาษาอังกฤษ!AU140","v":0},{"$f":"(D137+E137+F137+G137)/4","v":0}]
[null,131,{"$f":"IF(ข้อมูลนักเรียน!D143=\"\",\"\",ข้อมูลนักเรียน!D143)","v":""},{"$f":"คณิตศาสตร์!AA141","v":0},{"$f":"ภาษาไทย!AO141","v":0},{"$f":"วิทยาศาสตร์!AM141","v":0},{"$f":"ภาษาอังกฤษ!AU141","v":0},0]
[null,132,{"$f":"IF(ข้อมูลนักเรียน!D144=\"\",\"\",ข้อมูลนักเรียน!D144)","v":""},{"$f":"คณิตศาสตร์!AA142","v":0},{"$f":"ภาษาไทย!AO142","v":0},{"$f":"วิทยาศาสตร์!AM142","v":0},{"$f":"ภาษาอังกฤษ!AU142","v":0},0]
[null,133,{"$f":"IF(ข้อมูลนักเรียน!D145=\"\",\"\",ข้อมูลนักเรียน!D145)","v":""},{"$f":"คณิตศาสตร์!AA143","v":0},{"$f":"ภาษาไทย!AO143","v":0},{"$f":"วิทยาศาสตร์!AM143","v":0},{"$f":"ภาษาอังกฤษ!AU143","v":0},0]
[null,134,{"$f":"IF(ข้อมูลนักเรียน!D146=\"\",\"\",ข้อมูลนักเรียน!D146)","v":""},{"$f":"คณิตศาสตร์!AA144","v":0},{"$f":"ภาษาไทย!AO144","v":0},{"$f":"วิทยาศาสตร์!AM144","v":0},{"$f":"ภาษาอังกฤษ!AU144","v":0},0]
[null,135,{"$f":"IF(ข้อมูลนักเรียน!D147=\"\",\"\",ข้อมูลนักเรียน!D147)","v":""},{"$f":"คณิตศาสตร์!AA145","v":0},{"$f":"ภาษาไทย!AO145","v":0},{"$f":"วิทยาศาสตร์!AM145","v":0},{"$f":"ภาษาอังกฤษ!AU145","v":0},0]
[null,136,{"$f":"IF(ข้อมูลนักเรียน!D148=\"\",\"\",ข้อมูลนักเรียน!D148)","v":""},{"$f":"คณิตศาสตร์!AA146","v":0},{"$f":"ภาษาไทย!AO146","v":0},{"$f":"วิทยาศาสตร์!AM146","v":0},{"$f":"ภาษาอังกฤษ!AU146","v":0},0]
[null,137,{"$f":"IF(ข้อมูลนักเรียน!D149=\"\",\"\",ข้อมูลนักเรียน!D149)","v":""},{"$f":"คณิตศาสตร์!AA147","v":0},{"$f":"ภาษาไทย!AO147","v":0},{"$f":"วิทยาศาสตร์!AM147","v":0},{"$f":"ภาษาอังกฤษ!AU147","v":0},0]
[null,138,{"$f":"IF(ข้อมูลนักเรียน!D150=\"\",\"\",ข้อมูลนักเรียน!D150)","v":""},{"$f":"คณิตศาสตร์!AA148","v":0},{"$f":"ภาษาไทย!AO148","v":0},{"$f":"วิทยาศาสตร์!AM148","v":0},{"$f":"ภาษาอังกฤษ!AU148","v":0},0]
[null,139,{"$f":"IF(ข้อมูลนักเรียน!D151=\"\",\"\",ข้อมูลนักเรียน!D151)","v":""},{"$f":"คณิตศาสตร์!AA149","v":0},{"$f":"ภาษาไทย!AO149","v":0},{"$f":"วิทยาศาสตร์!AM149","v":0},{"$f":"ภาษาอังกฤษ!AU149","v":0},0]
[null,140,{"$f":"IF(ข้อมูลนักเรียน!D152=\"\",\"\",ข้อมูลนักเรียน!D152)","v":""},{"$f":"คณิตศาสตร์!AA150","v":0},{"$f":"ภาษาไทย!AO150","v":0},{"$f":"วิทยาศาสตร์!AM150","v":0},{"$f":"ภาษาอังกฤษ!AU150","v":0},0]
[null,141,{"$f":"IF(ข้อมูลนักเรียน!D153=\"\",\"\",ข้อมูลนักเรียน!D153)","v":""},{"$f":"คณิตศาสตร์!AA151","v":0},{"$f":"ภาษาไทย!AO151","v":0},{"$f":"วิทยาศาสตร์!AM151","v":0},{"$f":"ภาษาอังกฤษ!AU151","v":0},0]
[null,142,{"$f":"IF(ข้อมูลนักเรียน!D154=\"\",\"\",ข้อมูลนักเรียน!D154)","v":""},{"$f":"คณิตศาสตร์!AA152","v":0},{"$f":"ภาษาไทย!AO152","v":0},{"$f":"วิทยาศาสตร์!AM152","v":0},{"$f":"ภาษาอังกฤษ!AU152","v":0},0]
[null,143,{"$f":"IF(ข้อมูลนักเรียน!D155=\"\",\"\",ข้อมูลนักเรียน!D155)","v":""},{"$f":"คณิตศาสตร์!AA153","v":0},{"$f":"ภาษาไทย!AO153","v":0},{"$f":"วิทยาศาสตร์!AM153","v":0},{"$f":"ภาษาอังกฤษ!AU153","v":0},0]
[null,144,{"$f":"IF(ข้อมูลนักเรียน!D156=\"\",\"\",ข้อมูลนักเรียน!D156)","v":""},{"$f":"คณิตศาสตร์!AA154","v":0},{"$f":"ภาษาไทย!AO154","v":0},{"$f":"วิทยาศาสตร์!AM154","v":0},{"$f":"ภาษาอังกฤษ!AU154","v":0},0]
[null,145,{"$f":"IF(ข้อมูลนักเรียน!D157=\"\",\"\",ข้อมูลนักเรียน!D157)","v":""},{"$f":"คณิตศาสตร์!AA155","v":0},{"$f":"ภาษาไทย!AO155","v":0},{"$f":"วิทยาศาสตร์!AM155","v":0},{"$f":"ภาษาอังกฤษ!AU155","v":0},0]
[null,146,{"$f":"IF(ข้อมูลนักเรียน!D158=\"\",\"\",ข้อมูลนักเรียน!D158)","v":""},{"$f":"คณิตศาสตร์!AA156","v":0},{"$f":"ภาษาไทย!AO156","v":0},{"$f":"วิทยาศาสตร์!AM156","v":0},{"$f":"ภาษาอังกฤษ!AU156","v":0},0]
[null,147,{"$f":"IF(ข้อมูลนักเรียน!D159=\"\",\"\",ข้อมูลนักเรียน!D159)","v":""},{"$f":"คณิตศาสตร์!AA157","v":0},{"$f":"ภาษาไทย!AO157","v":0},{"$f":"วิทยาศาสตร์!AM157","v":0},{"$f":"ภาษาอังกฤษ!AU157","v":0},0]
[null,148,{"$f":"IF(ข้อมูลนักเรียน!D160=\"\",\"\",ข้อมูลนักเรียน!D160)","v":""},{"$f":"คณิตศาสตร์!AA158","v":0},{"$f":"ภาษาไทย!AO158","v":0},{"$f":"วิทยาศาสตร์!AM158","v":0},{"$f":"ภาษาอังกฤษ!AU158","v":0},0]
[null,149,{"$f":"IF(ข้อมูลนักเรียน!D161=\"\",\"\",ข้อมูลนักเรียน!D161)","v":""},{"$f":"คณิตศาสตร์!AA159","v":0},{"$f":"ภาษาไทย!AO159","v":0},{"$f":"วิทยาศาสตร์!AM159","v":0},{"$f":"ภาษาอังกฤษ!AU159","v":0},0]
[null,150,{"$f":"IF(ข้อมูลนักเรียน!D162=\"\",\"\",ข้อมูลนักเรียน!D162)","v":""},{"$f":"คณิตศาสตร์!AA160","v":0},{"$f":"ภาษาไทย!AO160","v":0},{"$f":"วิทยาศาสตร์!AM160","v":0},{"$f":"ภาษาอังกฤษ!AU160","v":0},0]
[null,151,{"$f":"IF(ข้อมูลนักเรียน!D163=\"\",\"\",ข้อมูลนักเรียน!D163)","v":""},{"$f":"คณิตศาสตร์!AA161","v":0},{"$f":"ภาษาไทย!AO161","v":0},{"$f":"วิทยาศาสตร์!AM161","v":0},{"$f":"ภาษาอังกฤษ!AU161","v":0},0]
[null,152,{"$f":"IF(ข้อมูลนักเรียน!D164=\"\",\"\",ข้อมูลนักเรียน!D164)","v":""},{"$f":"คณิตศาสตร์!AA162","v":0},{"$f":"ภาษาไทย!AO162","v":0},{"$f":"วิทยาศาสตร์!AM162","v":0},{"$f":"ภาษาอังกฤษ!AU162","v":0},0]
[null,153,{"$f":"IF(ข้อมูลนักเรียน!D165=\"\",\"\",ข้อมูลนักเรียน!D165)","v":""},{"$f":"คณิตศาสตร์!AA163","v":0},{"$f":"ภาษาไทย!AO163","v":0},{"$f":"วิทยาศาสตร์!AM163","v":0},{"$f":"ภาษาอังกฤษ!AU163","v":0},0]
[null,154,{"$f":"IF(ข้อมูลนักเรียน!D166=\"\",\"\",ข้อมูลนักเรียน!D166)","v":""},{"$f":"คณิตศาสตร์!AA164","v":0},{"$f":"ภาษาไทย!AO164","v":0},{"$f":"วิทยาศาสตร์!AM164","v":0},{"$f":"ภาษาอังกฤษ!AU164","v":0},0]
[null,155,{"$f":"IF(ข้อมูลนักเรียน!D167=\"\",\"\",ข้อมูลนักเรียน!D167)","v":""},{"$f":"คณิตศาสตร์!AA165","v":0},{"$f":"ภาษาไทย!AO165","v":0},{"$f":"วิทยาศาสตร์!AM165","v":0},{"$f":"ภาษาอังกฤษ!AU165","v":0},0]
[null,156,{"$f":"IF(ข้อมูลนักเรียน!D168=\"\",\"\",ข้อมูลนักเรียน!D168)","v":""},{"$f":"คณิตศาสตร์!AA166","v":0},{"$f":"ภาษาไทย!AO166","v":0},{"$f":"วิทยาศาสตร์!AM166","v":0},{"$f":"ภาษาอังกฤษ!AU166","v":0},0]
[null,157,{"$f":"IF(ข้อมูลนักเรียน!D169=\"\",\"\",ข้อมูลนักเรียน!D169)","v":""},{"$f":"คณิตศาสตร์!AA167","v":0},{"$f":"ภาษาไทย!AO167","v":0},{"$f":"วิทยาศาสตร์!AM167","v":0},{"$f":"ภาษาอังกฤษ!AU167","v":0},0]
[null,158,{"$f":"IF(ข้อมูลนักเรียน!D170=\"\",\"\",ข้อมูลนักเรียน!D170)","v":""},{"$f":"คณิตศาสตร์!AA168","v":0},{"$f":"ภาษาไทย!AO168","v":0},{"$f":"วิทยาศาสตร์!AM168","v":0},{"$f":"ภาษาอังกฤษ!AU168","v":0},0]
[null,159,{"$f":"IF(ข้อมูลนักเรียน!D171=\"\",\"\",ข้อมูลนักเรียน!D171)","v":""},{"$f":"คณิตศาสตร์!AA169","v":0},{"$f":"ภาษาไทย!AO169","v":0},{"$f":"วิทยาศาสตร์!AM169","v":0},{"$f":"ภาษาอังกฤษ!AU169","v":0},0]
[null,160,{"$f":"IF(ข้อมูลนักเรียน!D172=\"\",\"\",ข้อมูลนักเรียน!D172)","v":""},{"$f":"คณิตศาสตร์!AA170","v":0},{"$f":"ภาษาไทย!AO170","v":0},{"$f":"วิทยาศาสตร์!AM170","v":0},{"$f":"ภาษาอังกฤษ!AU170","v":0},0]
[null,161,{"$f":"IF(ข้อมูลนักเรียน!D173=\"\",\"\",ข้อมูลนักเรียน!D173)","v":""},{"$f":"คณิตศาสตร์!AA171","v":0},{"$f":"ภาษาไทย!AO171","v":0},{"$f":"วิทยาศาสตร์!AM171","v":0},{"$f":"ภาษาอังกฤษ!AU171","v":0},0]
[null,162,{"$f":"IF(ข้อมูลนักเรียน!D174=\"\",\"\",ข้อมูลนักเรียน!D174)","v":""},{"$f":"คณิตศาสตร์!AA172","v":0},{"$f":"ภาษาไทย!AO172","v":0},{"$f":"วิทยาศาสตร์!AM172","v":0},{"$f":"ภาษาอังกฤษ!AU172","v":0},0]
[null,163,{"$f":"IF(ข้อมูลนักเรียน!D175=\"\",\"\",ข้อมูลนักเรียน!D175)","v":""},{"$f":"คณิตศาสตร์!AA173","v":0},{"$f":"ภาษาไทย!AO173","v":0},{"$f":"วิทยาศาสตร์!AM173","v":0},{"$f":"ภาษาอังกฤษ!AU173","v":0},0]
[null,164,{"$f":"IF(ข้อมูลนักเรียน!D176=\"\",\"\",ข้อมูลนักเรียน!D176)","v":""},{"$f":"คณิตศาสตร์!AA174","v":0},{"$f":"ภาษาไทย!AO174","v":0},{"$f":"วิทยาศาสตร์!AM174","v":0},{"$f":"ภาษาอังกฤษ!AU174","v":0},0]
[null,165,{"$f":"IF(ข้อมูลนักเรียน!D177=\"\",\"\",ข้อมูลนักเรียน!D177)","v":""},{"$f":"คณิตศาสตร์!AA175","v":0},{"$f":"ภาษาไทย!AO175","v":0},{"$f":"วิทยาศาสตร์!AM175","v":0},{"$f":"ภาษาอังกฤษ!AU175","v":0},0]
[null,166,{"$f":"IF(ข้อมูลนักเรียน!D178=\"\",\"\",ข้อมูลนักเรียน!D178)","v":""},{"$f":"คณิตศาสตร์!AA176","v":0},{"$f":"ภาษาไทย!AO176","v":0},{"$f":"วิทยาศาสตร์!AM176","v":0},{"$f":"ภาษาอังกฤษ!AU176","v":0},0]
[null,167,{"$f":"IF(ข้อมูลนักเรียน!D179=\"\",\"\",ข้อมูลนักเรียน!D179)","v":""},{"$f":"คณิตศาสตร์!AA177","v":0},{"$f":"ภาษาไทย!AO177","v":0},{"$f":"วิทยาศาสตร์!AM177","v":0},{"$f":"ภาษาอังกฤษ!AU177","v":0},0]
[null,168,{"$f":"IF(ข้อมูลนักเรียน!D180=\"\",\"\",ข้อมูลนักเรียน!D180)","v":""},{"$f":"คณิตศาสตร์!AA178","v":0},{"$f":"ภาษาไทย!AO178","v":0},{"$f":"วิทยาศาสตร์!AM178","v":0},{"$f":"ภาษาอังกฤษ!AU178","v":0},0]
[null,169,{"$f":"IF(ข้อมูลนักเรียน!D181=\"\",\"\",ข้อมูลนักเรียน!D181)","v":""},{"$f":"คณิตศาสตร์!AA179","v":0},{"$f":"ภาษาไทย!AO179","v":0},{"$f":"วิทยาศาสตร์!AM179","v":0},{"$f":"ภาษาอังกฤษ!AU179","v":0},0]
[null,170,{"$f":"IF(ข้อมูลนักเรียน!D182=\"\",\"\",ข้อมูลนักเรียน!D182)","v":""},{"$f":"คณิตศาสตร์!AA180","v":0},{"$f":"ภาษาไทย!AO180","v":0},{"$f":"วิทยาศาสตร์!AM180","v":0},{"$f":"ภาษาอังกฤษ!AU180","v":0},0]
[null,171,{"$f":"IF(ข้อมูลนักเรียน!D183=\"\",\"\",ข้อมูลนักเรียน!D183)","v":""},{"$f":"คณิตศาสตร์!AA181","v":0},{"$f":"ภาษาไทย!AO181","v":0},{"$f":"วิทยาศาสตร์!AM181","v":0},{"$f":"ภาษาอังกฤษ!AU181","v":0},0]
[null,172,{"$f":"IF(ข้อมูลนักเรียน!D184=\"\",\"\",ข้อมูลนักเรียน!D184)","v":""},{"$f":"คณิตศาสตร์!AA182","v":0},{"$f":"ภาษาไทย!AO182","v":0},{"$f":"วิทยาศาสตร์!AM182","v":0},{"$f":"ภาษาอังกฤษ!AU182","v":0},0]
[null,173,{"$f":"IF(ข้อมูลนักเรียน!D185=\"\",\"\",ข้อมูลนักเรียน!D185)","v":""},{"$f":"คณิตศาสตร์!AA183","v":0},{"$f":"ภาษาไทย!AO183","v":0},{"$f":"วิทยาศาสตร์!AM183","v":0},{"$f":"ภาษาอังกฤษ!AU183","v":0},0]
[null,174,{"$f":"IF(ข้อมูลนักเรียน!D186=\"\",\"\",ข้อมูลนักเรียน!D186)","v":""},{"$f":"คณิตศาสตร์!AA184","v":0},{"$f":"ภาษาไทย!AO184","v":0},{"$f":"วิทยาศาสตร์!AM184","v":0},{"$f":"ภาษาอังกฤษ!AU184","v":0},0]
[null,175,{"$f":"IF(ข้อมูลนักเรียน!D187=\"\",\"\",ข้อมูลนักเรียน!D187)","v":""},{"$f":"คณิตศาสตร์!AA185","v":0},{"$f":"ภาษาไทย!AO185","v":0},{"$f":"วิทยาศาสตร์!AM185","v":0},{"$f":"ภาษาอังกฤษ!AU185","v":0},0]
[null,176,{"$f":"IF(ข้อมูลนักเรียน!D188=\"\",\"\",ข้อมูลนักเรียน!D188)","v":""},{"$f":"คณิตศาสตร์!AA186","v":0},{"$f":"ภาษาไทย!AO186","v":0},{"$f":"วิทยาศาสตร์!AM186","v":0},{"$f":"ภาษาอังกฤษ!AU186","v":0},0]
[null,177,{"$f":"IF(ข้อมูลนักเรียน!D189=\"\",\"\",ข้อมูลนักเรียน!D189)","v":""},{"$f":"คณิตศาสตร์!AA187","v":0},{"$f":"ภาษาไทย!AO187","v":0},{"$f":"วิทยาศาสตร์!AM187","v":0},{"$f":"ภาษาอังกฤษ!AU187","v":0},0]
[null,178,{"$f":"IF(ข้อมูลนักเรียน!D190=\"\",\"\",ข้อมูลนักเรียน!D190)","v":""},{"$f":"คณิตศาสตร์!AA188","v":0},{"$f":"ภาษาไทย!AO188","v":0},{"$f":"วิทยาศาสตร์!AM188","v":0},{"$f":"ภาษาอังกฤษ!AU188","v":0},0]
[null,179,{"$f":"IF(ข้อมูลนักเรียน!D191=\"\",\"\",ข้อมูลนักเรียน!D191)","v":""},{"$f":"คณิตศาสตร์!AA189","v":0},{"$f":"ภาษาไทย!AO189","v":0},{"$f":"วิทยาศาสตร์!AM189","v":0},{"$f":"ภาษาอังกฤษ!AU189","v":0},0]
[null,180,{"$f":"IF(ข้อมูลนักเรียน!D192=\"\",\"\",ข้อมูลนักเรียน!D192)","v":""},{"$f":"คณิตศาสตร์!AA190","v":0},{"$f":"ภาษาไทย!AO190","v":0},{"$f":"วิทยาศาสตร์!AM190","v":0},{"$f":"ภาษาอังกฤษ!AU190","v":0},0]
[null,181,{"$f":"IF(ข้อมูลนักเรียน!D193=\"\",\"\",ข้อมูลนักเรียน!D193)","v":""},{"$f":"คณิตศาสตร์!AA191","v":0},{"$f":"ภาษาไทย!AO191","v":0},{"$f":"วิทยาศาสตร์!AM191","v":0},{"$f":"ภาษาอังกฤษ!AU191","v":0},0]
[null,182,{"$f":"IF(ข้อมูลนักเรียน!D194=\"\",\"\",ข้อมูลนักเรียน!D194)","v":""},{"$f":"คณิตศาสตร์!AA192","v":0},{"$f":"ภาษาไทย!AO192","v":0},{"$f":"วิทยาศาสตร์!AM192","v":0},{"$f":"ภาษาอังกฤษ!AU192","v":0},0]
[null,183,{"$f":"IF(ข้อมูลนักเรียน!D195=\"\",\"\",ข้อมูลนักเรียน!D195)","v":""},{"$f":"คณิตศาสตร์!AA193","v":0},{"$f":"ภาษาไทย!AO193","v":0},{"$f":"วิทยาศาสตร์!AM193","v":0},{"$f":"ภาษาอังกฤษ!AU193","v":0},0]
[null,184,{"$f":"IF(ข้อมูลนักเรียน!D196=\"\",\"\",ข้อมูลนักเรียน!D196)","v":""},{"$f":"คณิตศาสตร์!AA194","v":0},{"$f":"ภาษาไทย!AO194","v":0},{"$f":"วิทยาศาสตร์!AM194","v":0},{"$f":"ภาษาอังกฤษ!AU194","v":0},0]
[null,185,{"$f":"IF(ข้อมูลนักเรียน!D197=\"\",\"\",ข้อมูลนักเรียน!D197)","v":""},{"$f":"คณิตศาสตร์!AA195","v":0},{"$f":"ภาษาไทย!AO195","v":0},{"$f":"วิทยาศาสตร์!AM195","v":0},{"$f":"ภาษาอังกฤษ!AU195","v":0},0]
[null,186,{"$f":"IF(ข้อมูลนักเรียน!D198=\"\",\"\",ข้อมูลนักเรียน!D198)","v":""},{"$f":"คณิตศาสตร์!AA196","v":0},{"$f":"ภาษาไทย!AO196","v":0},{"$f":"วิทยาศาสตร์!AM196","v":0},{"$f":"ภาษาอังกฤษ!AU196","v":0},0]
[null,187,{"$f":"IF(ข้อมูลนักเรียน!D199=\"\",\"\",ข้อมูลนักเรียน!D199)","v":""},{"$f":"คณิตศาสตร์!AA197","v":0},{"$f":"ภาษาไทย!AO197","v":0},{"$f":"วิทยาศาสตร์!AM197","v":0},{"$f":"ภาษาอังกฤษ!AU197","v":0},0]
[null,188,{"$f":"IF(ข้อมูลนักเรียน!D200=\"\",\"\",ข้อมูลนักเรียน!D200)","v":""},{"$f":"คณิตศาสตร์!AA198","v":0},{"$f":"ภาษาไทย!AO198","v":0},{"$f":"วิทยาศาสตร์!AM198","v":0},{"$f":"ภาษาอังกฤษ!AU198","v":0},0]
[null,189,{"$f":"IF(ข้อมูลนักเรียน!D201=\"\",\"\",ข้อมูลนักเรียน!D201)","v":""},{"$f":"คณิตศาสตร์!AA199","v":0},{"$f":"ภาษาไทย!AO199","v":0},{"$f":"วิทยาศาสตร์!AM199","v":0},{"$f":"ภาษาอังกฤษ!AU199","v":0},0]
[null,190,{"$f":"IF(ข้อมูลนักเรียน!D202=\"\",\"\",ข้อมูลนักเรียน!D202)","v":""},{"$f":"คณิตศาสตร์!AA200","v":0},{"$f":"ภาษาไทย!AO200","v":0},{"$f":"วิทยาศาสตร์!AM200","v":0},{"$f":"ภาษาอังกฤษ!AU200","v":0},0]
[null,191,{"$f":"IF(ข้อมูลนักเรียน!D203=\"\",\"\",ข้อมูลนักเรียน!D203)","v":""},{"$f":"คณิตศาสตร์!AA201","v":0},{"$f":"ภาษาไทย!AO201","v":0},{"$f":"วิทยาศาสตร์!AM201","v":0},{"$f":"ภาษาอังกฤษ!AU201","v":0},0]
[null,192,{"$f":"IF(ข้อมูลนักเรียน!D204=\"\",\"\",ข้อมูลนักเรียน!D204)","v":""},{"$f":"คณิตศาสตร์!AA202","v":0},{"$f":"ภาษาไทย!AO202","v":0},{"$f":"วิทยาศาสตร์!AM202","v":0},{"$f":"ภาษาอังกฤษ!AU202","v":0},0]
[null,193,{"$f":"IF(ข้อมูลนักเรียน!D205=\"\",\"\",ข้อมูลนักเรียน!D205)","v":""},{"$f":"คณิตศาสตร์!AA203","v":0},{"$f":"ภาษาไทย!AO203","v":0},{"$f":"วิทยาศาสตร์!AM203","v":0},{"$f":"ภาษาอังกฤษ!AU203","v":0},0]
[null,194,{"$f":"IF(ข้อมูลนักเรียน!D206=\"\",\"\",ข้อมูลนักเรียน!D206)","v":""},{"$f":"คณิตศาสตร์!AA204","v":0},{"$f":"ภาษาไทย!AO204","v":0},{"$f":"วิทยาศาสตร์!AM204","v":0},{"$f":"ภาษาอังกฤษ!AU204","v":0},{"$f":"(D201+E201+F201+G201)/4","v":0}]
[null,195,{"$f":"IF(ข้อมูลนักเรียน!D207=\"\",\"\",ข้อมูลนักเรียน!D207)","v":""},{"$f":"คณิตศาสตร์!AA205","v":0},{"$f":"ภาษาไทย!AO205","v":0},{"$f":"วิทยาศาสตร์!AM205","v":0},{"$f":"ภาษาอังกฤษ!AU205","v":0},0]
[null,196,{"$f":"IF(ข้อมูลนักเรียน!D208=\"\",\"\",ข้อมูลนักเรียน!D208)","v":""},{"$f":"คณิตศาสตร์!AA206","v":0},{"$f":"ภาษาไทย!AO206","v":0},{"$f":"วิทยาศาสตร์!AM206","v":0},{"$f":"ภาษาอังกฤษ!AU206","v":0},0]
[null,197,{"$f":"IF(ข้อมูลนักเรียน!D209=\"\",\"\",ข้อมูลนักเรียน!D209)","v":""},{"$f":"คณิตศาสตร์!AA207","v":0},{"$f":"ภาษาไทย!AO207","v":0},{"$f":"วิทยาศาสตร์!AM207","v":0},{"$f":"ภาษาอังกฤษ!AU207","v":0},0]
[null,198,{"$f":"IF(ข้อมูลนักเรียน!D210=\"\",\"\",ข้อมูลนักเรียน!D210)","v":""},{"$f":"คณิตศาสตร์!AA208","v":0},{"$f":"ภาษาไทย!AO208","v":0},{"$f":"วิทยาศาสตร์!AM208","v":0},{"$f":"ภาษาอังกฤษ!AU208","v":0},0]
[null,199,{"$f":"IF(ข้อมูลนักเรียน!D211=\"\",\"\",ข้อมูลนักเรียน!D211)","v":""},{"$f":"คณิตศาสตร์!AA209","v":0},{"$f":"ภาษาไทย!AO209","v":0},{"$f":"วิทยาศาสตร์!AM209","v":0},{"$f":"ภาษาอังกฤษ!AU209","v":0},0]
[null,200,{"$f":"IF(ข้อมูลนักเรียน!D212=\"\",\"\",ข้อมูลนักเรียน!D212)","v":""},{"$f":"คณิตศาสตร์!AA210","v":0},{"$f":"ภาษาไทย!AO210","v":0},{"$f":"วิทยาศาสตร์!AM210","v":0},{"$f":"ภาษาอังกฤษ!AU210","v":0},0]
[null,201,{"$f":"IF(ข้อมูลนักเรียน!D213=\"\",\"\",ข้อมูลนักเรียน!D213)","v":""},{"$f":"คณิตศาสตร์!AA211","v":0},{"$f":"ภาษาไทย!AO211","v":0},{"$f":"วิทยาศาสตร์!AM211","v":0},{"$f":"ภาษาอังกฤษ!AU211","v":0},0]
[null,202,{"$f":"IF(ข้อมูลนักเรียน!D214=\"\",\"\",ข้อมูลนักเรียน!D214)","v":""},{"$f":"คณิตศาสตร์!AA212","v":0},{"$f":"ภาษาไทย!AO212","v":0},{"$f":"วิทยาศาสตร์!AM212","v":0},{"$f":"ภาษาอังกฤษ!AU212","v":0},0]
[null,203,{"$f":"IF(ข้อมูลนักเรียน!D215=\"\",\"\",ข้อมูลนักเรียน!D215)","v":""},{"$f":"คณิตศาสตร์!AA213","v":0},{"$f":"ภาษาไทย!AO213","v":0},{"$f":"วิทยาศาสตร์!AM213","v":0},{"$f":"ภาษาอังกฤษ!AU213","v":0},0]
[null,204,{"$f":"IF(ข้อมูลนักเรียน!D216=\"\",\"\",ข้อมูลนักเรียน!D216)","v":""},{"$f":"คณิตศาสตร์!AA214","v":0},{"$f":"ภาษาไทย!AO214","v":0},{"$f":"วิทยาศาสตร์!AM214","v":0},{"$f":"ภาษาอังกฤษ!AU214","v":0},0]
[null,205,{"$f":"IF(ข้อมูลนักเรียน!D217=\"\",\"\",ข้อมูลนักเรียน!D217)","v":""},{"$f":"คณิตศาสตร์!AA215","v":0},{"$f":"ภาษาไทย!AO215","v":0},{"$f":"วิทยาศาสตร์!AM215","v":0},{"$f":"ภาษาอังกฤษ!AU215","v":0},0]
[null,206,{"$f":"IF(ข้อมูลนักเรียน!D218=\"\",\"\",ข้อมูลนักเรียน!D218)","v":""},{"$f":"คณิตศาสตร์!AA216","v":0},{"$f":"ภาษาไทย!AO216","v":0},{"$f":"วิทยาศาสตร์!AM216","v":0},{"$f":"ภาษาอังกฤษ!AU216","v":0},0]
[null,207,{"$f":"IF(ข้อมูลนักเรียน!D219=\"\",\"\",ข้อมูลนักเรียน!D219)","v":""},{"$f":"คณิตศาสตร์!AA217","v":0},{"$f":"ภาษาไทย!AO217","v":0},{"$f":"วิทยาศาสตร์!AM217","v":0},{"$f":"ภาษาอังกฤษ!AU217","v":0},0]
[null,208,{"$f":"IF(ข้อมูลนักเรียน!D220=\"\",\"\",ข้อมูลนักเรียน!D220)","v":""},{"$f":"คณิตศาสตร์!AA218","v":0},{"$f":"ภาษาไทย!AO218","v":0},{"$f":"วิทยาศาสตร์!AM218","v":0},{"$f":"ภาษาอังกฤษ!AU218","v":0},0]
[null,209,{"$f":"IF(ข้อมูลนักเรียน!D221=\"\",\"\",ข้อมูลนักเรียน!D221)","v":""},{"$f":"คณิตศาสตร์!AA219","v":0},{"$f":"ภาษาไทย!AO219","v":0},{"$f":"วิทยาศาสตร์!AM219","v":0},{"$f":"ภาษาอังกฤษ!AU219","v":0},0]
[null,210,{"$f":"IF(ข้อมูลนักเรียน!D222=\"\",\"\",ข้อมูลนักเรียน!D222)","v":""},{"$f":"คณิตศาสตร์!AA220","v":0},{"$f":"ภาษาไทย!AO220","v":0},{"$f":"วิทยาศาสตร์!AM220","v":0},{"$f":"ภาษาอังกฤษ!AU220","v":0},0]
[null,211,{"$f":"IF(ข้อมูลนักเรียน!D223=\"\",\"\",ข้อมูลนักเรียน!D223)","v":""},{"$f":"คณิตศาสตร์!AA221","v":0},{"$f":"ภาษาไทย!AO221","v":0},{"$f":"วิทยาศาสตร์!AM221","v":0},{"$f":"ภาษาอังกฤษ!AU221","v":0},0]
[null,212,{"$f":"IF(ข้อมูลนักเรียน!D224=\"\",\"\",ข้อมูลนักเรียน!D224)","v":""},{"$f":"คณิตศาสตร์!AA222","v":0},{"$f":"ภาษาไทย!AO222","v":0},{"$f":"วิทยาศาสตร์!AM222","v":0},{"$f":"ภาษาอังกฤษ!AU222","v":0},0]
[null,213,{"$f":"IF(ข้อมูลนักเรียน!D225=\"\",\"\",ข้อมูลนักเรียน!D225)","v":""},{"$f":"คณิตศาสตร์!AA223","v":0},{"$f":"ภาษาไทย!AO223","v":0},{"$f":"วิทยาศาสตร์!AM223","v":0},{"$f":"ภาษาอังกฤษ!AU223","v":0},0]
[null,214,{"$f":"IF(ข้อมูลนักเรียน!D226=\"\",\"\",ข้อมูลนักเรียน!D226)","v":""},{"$f":"คณิตศาสตร์!AA224","v":0},{"$f":"ภาษาไทย!AO224","v":0},{"$f":"วิทยาศาสตร์!AM224","v":0},{"$f":"ภาษาอังกฤษ!AU224","v":0},0]
[null,215,{"$f":"IF(ข้อมูลนักเรียน!D227=\"\",\"\",ข้อมูลนักเรียน!D227)","v":""},{"$f":"คณิตศาสตร์!AA225","v":0},{"$f":"ภาษาไทย!AO225","v":0},{"$f":"วิทยาศาสตร์!AM225","v":0},{"$f":"ภาษาอังกฤษ!AU225","v":0},0]
[null,216,{"$f":"IF(ข้อมูลนักเรียน!D228=\"\",\"\",ข้อมูลนักเรียน!D228)","v":""},{"$f":"คณิตศาสตร์!AA226","v":0},{"$f":"ภาษาไทย!AO226","v":0},{"$f":"วิทยาศาสตร์!AM226","v":0},{"$f":"ภาษาอังกฤษ!AU226","v":0},0]
[null,217,{"$f":"IF(ข้อมูลนักเรียน!D229=\"\",\"\",ข้อมูลนักเรียน!D229)","v":""},{"$f":"คณิตศาสตร์!AA227","v":0},{"$f":"ภาษาไทย!AO227","v":0},{"$f":"วิทยาศาสตร์!AM227","v":0},{"$f":"ภาษาอังกฤษ!AU227","v":0},0]
[null,218,{"$f":"IF(ข้อมูลนักเรียน!D230=\"\",\"\",ข้อมูลนักเรียน!D230)","v":""},{"$f":"คณิตศาสตร์!AA228","v":0},{"$f":"ภาษาไทย!AO228","v":0},{"$f":"วิทยาศาสตร์!AM228","v":0},{"$f":"ภาษาอังกฤษ!AU228","v":0},0]
[null,219,{"$f":"IF(ข้อมูลนักเรียน!D231=\"\",\"\",ข้อมูลนักเรียน!D231)","v":""},{"$f":"คณิตศาสตร์!AA229","v":0},{"$f":"ภาษาไทย!AO229","v":0},{"$f":"วิทยาศาสตร์!AM229","v":0},{"$f":"ภาษาอังกฤษ!AU229","v":0},0]
[null,220,{"$f":"IF(ข้อมูลนักเรียน!D232=\"\",\"\",ข้อมูลนักเรียน!D232)","v":""},{"$f":"คณิตศาสตร์!AA230","v":0},{"$f":"ภาษาไทย!AO230","v":0},{"$f":"วิทยาศาสตร์!AM230","v":0},{"$f":"ภาษาอังกฤษ!AU230","v":0},0]
[null,221,{"$f":"IF(ข้อมูลนักเรียน!D233=\"\",\"\",ข้อมูลนักเรียน!D233)","v":""},{"$f":"คณิตศาสตร์!AA231","v":0},{"$f":"ภาษาไทย!AO231","v":0},{"$f":"วิทยาศาสตร์!AM231","v":0},{"$f":"ภาษาอังกฤษ!AU231","v":0},0]
[null,222,{"$f":"IF(ข้อมูลนักเรียน!D234=\"\",\"\",ข้อมูลนักเรียน!D234)","v":""},{"$f":"คณิตศาสตร์!AA232","v":0},{"$f":"ภาษาไทย!AO232","v":0},{"$f":"วิทยาศาสตร์!AM232","v":0},{"$f":"ภาษาอังกฤษ!AU232","v":0},0]
[null,223,{"$f":"IF(ข้อมูลนักเรียน!D235=\"\",\"\",ข้อมูลนักเรียน!D235)","v":""},{"$f":"คณิตศาสตร์!AA233","v":0},{"$f":"ภาษาไทย!AO233","v":0},{"$f":"วิทยาศาสตร์!AM233","v":0},{"$f":"ภาษาอังกฤษ!AU233","v":0},0]
[null,224,{"$f":"IF(ข้อมูลนักเรียน!D236=\"\",\"\",ข้อมูลนักเรียน!D236)","v":""},{"$f":"คณิตศาสตร์!AA234","v":0},{"$f":"ภาษาไทย!AO234","v":0},{"$f":"วิทยาศาสตร์!AM234","v":0},{"$f":"ภาษาอังกฤษ!AU234","v":0},0]
[null,225,{"$f":"IF(ข้อมูลนักเรียน!D237=\"\",\"\",ข้อมูลนักเรียน!D237)","v":""},{"$f":"คณิตศาสตร์!AA235","v":0},{"$f":"ภาษาไทย!AO235","v":0},{"$f":"วิทยาศาสตร์!AM235","v":0},{"$f":"ภาษาอังกฤษ!AU235","v":0},0]
[null,226,{"$f":"IF(ข้อมูลนักเรียน!D238=\"\",\"\",ข้อมูลนักเรียน!D238)","v":""},{"$f":"คณิตศาสตร์!AA236","v":0},{"$f":"ภาษาไทย!AO236","v":0},{"$f":"วิทยาศาสตร์!AM236","v":0},{"$f":"ภาษาอังกฤษ!AU236","v":0},0]
[null,227,{"$f":"IF(ข้อมูลนักเรียน!D239=\"\",\"\",ข้อมูลนักเรียน!D239)","v":""},{"$f":"คณิตศาสตร์!AA237","v":0},{"$f":"ภาษาไทย!AO237","v":0},{"$f":"วิทยาศาสตร์!AM237","v":0},{"$f":"ภาษาอังกฤษ!AU237","v":0},0]
[null,228,{"$f":"IF(ข้อมูลนักเรียน!D240=\"\",\"\",ข้อมูลนักเรียน!D240)","v":""},{"$f":"คณิตศาสตร์!AA238","v":0},{"$f":"ภาษาไทย!AO238","v":0},{"$f":"วิทยาศาสตร์!AM238","v":0},{"$f":"ภาษาอังกฤษ!AU238","v":0},0]
[null,229,{"$f":"IF(ข้อมูลนักเรียน!D241=\"\",\"\",ข้อมูลนักเรียน!D241)","v":""},{"$f":"คณิตศาสตร์!AA239","v":0},{"$f":"ภาษาไทย!AO239","v":0},{"$f":"วิทยาศาสตร์!AM239","v":0},{"$f":"ภาษาอังกฤษ!AU239","v":0},0]
[null,230,{"$f":"IF(ข้อมูลนักเรียน!D242=\"\",\"\",ข้อมูลนักเรียน!D242)","v":""},{"$f":"คณิตศาสตร์!AA240","v":0},{"$f":"ภาษาไทย!AO240","v":0},{"$f":"วิทยาศาสตร์!AM240","v":0},{"$f":"ภาษาอังกฤษ!AU240","v":0},0]
[null,231,{"$f":"IF(ข้อมูลนักเรียน!D243=\"\",\"\",ข้อมูลนักเรียน!D243)","v":""},{"$f":"คณิตศาสตร์!AA241","v":0},{"$f":"ภาษาไทย!AO241","v":0},{"$f":"วิทยาศาสตร์!AM241","v":0},{"$f":"ภาษาอังกฤษ!AU241","v":0},0]
[null,232,{"$f":"IF(ข้อมูลนักเรียน!D244=\"\",\"\",ข้อมูลนักเรียน!D244)","v":""},{"$f":"คณิตศาสตร์!AA242","v":0},{"$f":"ภาษาไทย!AO242","v":0},{"$f":"วิทยาศาสตร์!AM242","v":0},{"$f":"ภาษาอังกฤษ!AU242","v":0},0]
[null,233,{"$f":"IF(ข้อมูลนักเรียน!D245=\"\",\"\",ข้อมูลนักเรียน!D245)","v":""},{"$f":"คณิตศาสตร์!AA243","v":0},{"$f":"ภาษาไทย!AO243","v":0},{"$f":"วิทยาศาสตร์!AM243","v":0},{"$f":"ภาษาอังกฤษ!AU243","v":0},0]
[null,234,{"$f":"IF(ข้อมูลนักเรียน!D246=\"\",\"\",ข้อมูลนักเรียน!D246)","v":""},{"$f":"คณิตศาสตร์!AA244","v":0},{"$f":"ภาษาไทย!AO244","v":0},{"$f":"วิทยาศาสตร์!AM244","v":0},{"$f":"ภาษาอังกฤษ!AU244","v":0},0]
[null,235,{"$f":"IF(ข้อมูลนักเรียน!D247=\"\",\"\",ข้อมูลนักเรียน!D247)","v":""},{"$f":"คณิตศาสตร์!AA245","v":0},{"$f":"ภาษาไทย!AO245","v":0},{"$f":"วิทยาศาสตร์!AM245","v":0},{"$f":"ภาษาอังกฤษ!AU245","v":0},0]
[null,236,{"$f":"IF(ข้อมูลนักเรียน!D248=\"\",\"\",ข้อมูลนักเรียน!D248)","v":""},{"$f":"คณิตศาสตร์!AA246","v":0},{"$f":"ภาษาไทย!AO246","v":0},{"$f":"วิทยาศาสตร์!AM246","v":0},{"$f":"ภาษาอังกฤษ!AU246","v":0},0]
[null,237,{"$f":"IF(ข้อมูลนักเรียน!D249=\"\",\"\",ข้อมูลนักเรียน!D249)","v":""},{"$f":"คณิตศาสตร์!AA247","v":0},{"$f":"ภาษาไทย!AO247","v":0},{"$f":"วิทยาศาสตร์!AM247","v":0},{"$f":"ภาษาอังกฤษ!AU247","v":0},0]
[null,238,{"$f":"IF(ข้อมูลนักเรียน!D250=\"\",\"\",ข้อมูลนักเรียน!D250)","v":""},{"$f":"คณิตศาสตร์!AA248","v":0},{"$f":"ภาษาไทย!AO248","v":0},{"$f":"วิทยาศาสตร์!AM248","v":0},{"$f":"ภาษาอังกฤษ!AU248","v":0},0]
[null,239,{"$f":"IF(ข้อมูลนักเรียน!D251=\"\",\"\",ข้อมูลนักเรียน!D251)","v":""},{"$f":"คณิตศาสตร์!AA249","v":0},{"$f":"ภาษาไทย!AO249","v":0},{"$f":"วิทยาศาสตร์!AM249","v":0},{"$f":"ภาษาอังกฤษ!AU249","v":0},0]
[null,240,{"$f":"IF(ข้อมูลนักเรียน!D252=\"\",\"\",ข้อมูลนักเรียน!D252)","v":""},{"$f":"คณิตศาสตร์!AA250","v":0},{"$f":"ภาษาไทย!AO250","v":0},{"$f":"วิทยาศาสตร์!AM250","v":0},{"$f":"ภาษาอังกฤษ!AU250","v":0},0]
[null,241,{"$f":"IF(ข้อมูลนักเรียน!D253=\"\",\"\",ข้อมูลนักเรียน!D253)","v":""},{"$f":"คณิตศาสตร์!AA251","v":0},{"$f":"ภาษาไทย!AO251","v":0},{"$f":"วิทยาศาสตร์!AM251","v":0},{"$f":"ภาษาอังกฤษ!AU251","v":0},0]
[null,242,{"$f":"IF(ข้อมูลนักเรียน!D254=\"\",\"\",ข้อมูลนักเรียน!D254)","v":""},{"$f":"คณิตศาสตร์!AA252","v":0},{"$f":"ภาษาไทย!AO252","v":0},{"$f":"วิทยาศาสตร์!AM252","v":0},{"$f":"ภาษาอังกฤษ!AU252","v":0},0]
[null,243,{"$f":"IF(ข้อมูลนักเรียน!D255=\"\",\"\",ข้อมูลนักเรียน!D255)","v":""},{"$f":"คณิตศาสตร์!AA253","v":0},{"$f":"ภาษาไทย!AO253","v":0},{"$f":"วิทยาศาสตร์!AM253","v":0},{"$f":"ภาษาอังกฤษ!AU253","v":0},0]
[null,244,{"$f":"IF(ข้อมูลนักเรียน!D256=\"\",\"\",ข้อมูลนักเรียน!D256)","v":""},{"$f":"คณิตศาสตร์!AA254","v":0},{"$f":"ภาษาไทย!AO254","v":0},{"$f":"วิทยาศาสตร์!AM254","v":0},{"$f":"ภาษาอังกฤษ!AU254","v":0},0]
[null,245,{"$f":"IF(ข้อมูลนักเรียน!D257=\"\",\"\",ข้อมูลนักเรียน!D257)","v":""},{"$f":"คณิตศาสตร์!AA255","v":0},{"$f":"ภาษาไทย!AO255","v":0},{"$f":"วิทยาศาสตร์!AM255","v":0},{"$f":"ภาษาอังกฤษ!AU255","v":0},0]
[null,246,{"$f":"IF(ข้อมูลนักเรียน!D258=\"\",\"\",ข้อมูลนักเรียน!D258)","v":""},{"$f":"คณิตศาสตร์!AA256","v":0},{"$f":"ภาษาไทย!AO256","v":0},{"$f":"วิทยาศาสตร์!AM256","v":0},{"$f":"ภาษาอังกฤษ!AU256","v":0},0]
[null,247,{"$f":"IF(ข้อมูลนักเรียน!D259=\"\",\"\",ข้อมูลนักเรียน!D259)","v":""},{"$f":"คณิตศาสตร์!AA257","v":0},{"$f":"ภาษาไทย!AO257","v":0},{"$f":"วิทยาศาสตร์!AM257","v":0},{"$f":"ภาษาอังกฤษ!AU257","v":0},0]
[null,248,{"$f":"IF(ข้อมูลนักเรียน!D260=\"\",\"\",ข้อมูลนักเรียน!D260)","v":""},{"$f":"คณิตศาสตร์!AA258","v":0},{"$f":"ภาษาไทย!AO258","v":0},{"$f":"วิทยาศาสตร์!AM258","v":0},{"$f":"ภาษาอังกฤษ!AU258","v":0},0]
[null,249,{"$f":"IF(ข้อมูลนักเรียน!D261=\"\",\"\",ข้อมูลนักเรียน!D261)","v":""},{"$f":"คณิตศาสตร์!AA259","v":0},{"$f":"ภาษาไทย!AO259","v":0},{"$f":"วิทยาศาสตร์!AM259","v":0},{"$f":"ภาษาอังกฤษ!AU259","v":0},0]
[null,250,{"$f":"IF(ข้อมูลนักเรียน!D262=\"\",\"\",ข้อมูลนักเรียน!D262)","v":""},{"$f":"คณิตศาสตร์!AA260","v":0},{"$f":"ภาษาไทย!AO260","v":0},{"$f":"วิทยาศาสตร์!AM260","v":0},{"$f":"ภาษาอังกฤษ!AU260","v":0},0]
[null,251,{"$f":"IF(ข้อมูลนักเรียน!D263=\"\",\"\",ข้อมูลนักเรียน!D263)","v":""},{"$f":"คณิตศาสตร์!AA261","v":0},{"$f":"ภาษาไทย!AO261","v":0},{"$f":"วิทยาศาสตร์!AM261","v":0},{"$f":"ภาษาอังกฤษ!AU261","v":0},0]
[null,252,{"$f":"IF(ข้อมูลนักเรียน!D264=\"\",\"\",ข้อมูลนักเรียน!D264)","v":""},{"$f":"คณิตศาสตร์!AA262","v":0},{"$f":"ภาษาไทย!AO262","v":0},{"$f":"วิทยาศาสตร์!AM262","v":0},{"$f":"ภาษาอังกฤษ!AU262","v":0},0]
[null,253,{"$f":"IF(ข้อมูลนักเรียน!D265=\"\",\"\",ข้อมูลนักเรียน!D265)","v":""},{"$f":"คณิตศาสตร์!AA263","v":0},{"$f":"ภาษาไทย!AO263","v":0},{"$f":"วิทยาศาสตร์!AM263","v":0},{"$f":"ภาษาอังกฤษ!AU263","v":0},0]
[null,254,{"$f":"IF(ข้อมูลนักเรียน!D266=\"\",\"\",ข้อมูลนักเรียน!D266)","v":""},{"$f":"คณิตศาสตร์!AA264","v":0},{"$f":"ภาษาไทย!AO264","v":0},{"$f":"วิทยาศาสตร์!AM264","v":0},{"$f":"ภาษาอังกฤษ!AU264","v":0},0]
[null,255,{"$f":"IF(ข้อมูลนักเรียน!D267=\"\",\"\",ข้อมูลนักเรียน!D267)","v":""},{"$f":"คณิตศาสตร์!AA265","v":0},{"$f":"ภาษาไทย!AO265","v":0},{"$f":"วิทยาศาสตร์!AM265","v":0},{"$f":"ภาษาอังกฤษ!AU265","v":0},0]
[null,256,{"$f":"IF(ข้อมูลนักเรียน!D268=\"\",\"\",ข้อมูลนักเรียน!D268)","v":""},{"$f":"คณิตศาสตร์!AA266","v":0},{"$f":"ภาษาไทย!AO266","v":0},{"$f":"วิทยาศาสตร์!AM266","v":0},{"$f":"ภาษาอังกฤษ!AU266","v":0},0]
[null,257,{"$f":"IF(ข้อมูลนักเรียน!D269=\"\",\"\",ข้อมูลนักเรียน!D269)","v":""},{"$f":"คณิตศาสตร์!AA267","v":0},{"$f":"ภาษาไทย!AO267","v":0},{"$f":"วิทยาศาสตร์!AM267","v":0},{"$f":"ภาษาอังกฤษ!AU267","v":0},0]
[null,258,{"$f":"IF(ข้อมูลนักเรียน!D270=\"\",\"\",ข้อมูลนักเรียน!D270)","v":""},{"$f":"คณิตศาสตร์!AA268","v":0},{"$f":"ภาษาไทย!AO268","v":0},{"$f":"วิทยาศาสตร์!AM268","v":0},{"$f":"ภาษาอังกฤษ!AU268","v":0},{"$f":"(D265+E265+F265+G265)/4","v":0}]
[null,259,{"$f":"IF(ข้อมูลนักเรียน!D271=\"\",\"\",ข้อมูลนักเรียน!D271)","v":""},{"$f":"คณิตศาสตร์!AA269","v":0},{"$f":"ภาษาไทย!AO269","v":0},{"$f":"วิทยาศาสตร์!AM269","v":0},{"$f":"ภาษาอังกฤษ!AU269","v":0},0]
[null,260,{"$f":"IF(ข้อมูลนักเรียน!D272=\"\",\"\",ข้อมูลนักเรียน!D272)","v":""},{"$f":"คณิตศาสตร์!AA270","v":0},{"$f":"ภาษาไทย!AO270","v":0},{"$f":"วิทยาศาสตร์!AM270","v":0},{"$f":"ภาษาอังกฤษ!AU270","v":0},0]
[null,261,{"$f":"IF(ข้อมูลนักเรียน!D273=\"\",\"\",ข้อมูลนักเรียน!D273)","v":""},{"$f":"คณิตศาสตร์!AA271","v":0},{"$f":"ภาษาไทย!AO271","v":0},{"$f":"วิทยาศาสตร์!AM271","v":0},{"$f":"ภาษาอังกฤษ!AU271","v":0},0]
[null,262,{"$f":"IF(ข้อมูลนักเรียน!D274=\"\",\"\",ข้อมูลนักเรียน!D274)","v":""},{"$f":"คณิตศาสตร์!AA272","v":0},{"$f":"ภาษาไทย!AO272","v":0},{"$f":"วิทยาศาสตร์!AM272","v":0},{"$f":"ภาษาอังกฤษ!AU272","v":0},0]
[null,263,{"$f":"IF(ข้อมูลนักเรียน!D275=\"\",\"\",ข้อมูลนักเรียน!D275)","v":""},{"$f":"คณิตศาสตร์!AA273","v":0},{"$f":"ภาษาไทย!AO273","v":0},{"$f":"วิทยาศาสตร์!AM273","v":0},{"$f":"ภาษาอังกฤษ!AU273","v":0},0]
[null,264,{"$f":"IF(ข้อมูลนักเรียน!D276=\"\",\"\",ข้อมูลนักเรียน!D276)","v":""},{"$f":"คณิตศาสตร์!AA274","v":0},{"$f":"ภาษาไทย!AO274","v":0},{"$f":"วิทยาศาสตร์!AM274","v":0},{"$f":"ภาษาอังกฤษ!AU274","v":0},0]
[null,265,{"$f":"IF(ข้อมูลนักเรียน!D277=\"\",\"\",ข้อมูลนักเรียน!D277)","v":""},{"$f":"คณิตศาสตร์!AA275","v":0},{"$f":"ภาษาไทย!AO275","v":0},{"$f":"วิทยาศาสตร์!AM275","v":0},{"$f":"ภาษาอังกฤษ!AU275","v":0},0]
[null,266,{"$f":"IF(ข้อมูลนักเรียน!D278=\"\",\"\",ข้อมูลนักเรียน!D278)","v":""},{"$f":"คณิตศาสตร์!AA276","v":0},{"$f":"ภาษาไทย!AO276","v":0},{"$f":"วิทยาศาสตร์!AM276","v":0},{"$f":"ภาษาอังกฤษ!AU276","v":0},0]
[null,267,{"$f":"IF(ข้อมูลนักเรียน!D279=\"\",\"\",ข้อมูลนักเรียน!D279)","v":""},{"$f":"คณิตศาสตร์!AA277","v":0},{"$f":"ภาษาไทย!AO277","v":0},{"$f":"วิทยาศาสตร์!AM277","v":0},{"$f":"ภาษาอังกฤษ!AU277","v":0},0]
[null,268,{"$f":"IF(ข้อมูลนักเรียน!D280=\"\",\"\",ข้อมูลนักเรียน!D280)","v":""},{"$f":"คณิตศาสตร์!AA278","v":0},{"$f":"ภาษาไทย!AO278","v":0},{"$f":"วิทยาศาสตร์!AM278","v":0},{"$f":"ภาษาอังกฤษ!AU278","v":0},0]
[null,269,{"$f":"IF(ข้อมูลนักเรียน!D281=\"\",\"\",ข้อมูลนักเรียน!D281)","v":""},{"$f":"คณิตศาสตร์!AA279","v":0},{"$f":"ภาษาไทย!AO279","v":0},{"$f":"วิทยาศาสตร์!AM279","v":0},{"$f":"ภาษาอังกฤษ!AU279","v":0},0]
[null,270,{"$f":"IF(ข้อมูลนักเรียน!D282=\"\",\"\",ข้อมูลนักเรียน!D282)","v":""},{"$f":"คณิตศาสตร์!AA280","v":0},{"$f":"ภาษาไทย!AO280","v":0},{"$f":"วิทยาศาสตร์!AM280","v":0},{"$f":"ภาษาอังกฤษ!AU280","v":0},0]
[null,271,{"$f":"IF(ข้อมูลนักเรียน!D283=\"\",\"\",ข้อมูลนักเรียน!D283)","v":""},{"$f":"คณิตศาสตร์!AA281","v":0},{"$f":"ภาษาไทย!AO281","v":0},{"$f":"วิทยาศาสตร์!AM281","v":0},{"$f":"ภาษาอังกฤษ!AU281","v":0},0]
[null,272,{"$f":"IF(ข้อมูลนักเรียน!D284=\"\",\"\",ข้อมูลนักเรียน!D284)","v":""},{"$f":"คณิตศาสตร์!AA282","v":0},{"$f":"ภาษาไทย!AO282","v":0},{"$f":"วิทยาศาสตร์!AM282","v":0},{"$f":"ภาษาอังกฤษ!AU282","v":0},0]
[null,273,{"$f":"IF(ข้อมูลนักเรียน!D285=\"\",\"\",ข้อมูลนักเรียน!D285)","v":""},{"$f":"คณิตศาสตร์!AA283","v":0},{"$f":"ภาษาไทย!AO283","v":0},{"$f":"วิทยาศาสตร์!AM283","v":0},{"$f":"ภาษาอังกฤษ!AU283","v":0},0]
[null,274,{"$f":"IF(ข้อมูลนักเรียน!D286=\"\",\"\",ข้อมูลนักเรียน!D286)","v":""},{"$f":"คณิตศาสตร์!AA284","v":0},{"$f":"ภาษาไทย!AO284","v":0},{"$f":"วิทยาศาสตร์!AM284","v":0},{"$f":"ภาษาอังกฤษ!AU284","v":0},0]
[null,275,{"$f":"IF(ข้อมูลนักเรียน!D287=\"\",\"\",ข้อมูลนักเรียน!D287)","v":""},{"$f":"คณิตศาสตร์!AA285","v":0},{"$f":"ภาษาไทย!AO285","v":0},{"$f":"วิทยาศาสตร์!AM285","v":0},{"$f":"ภาษาอังกฤษ!AU285","v":0},0]
[null,276,{"$f":"IF(ข้อมูลนักเรียน!D288=\"\",\"\",ข้อมูลนักเรียน!D288)","v":""},{"$f":"คณิตศาสตร์!AA286","v":0},{"$f":"ภาษาไทย!AO286","v":0},{"$f":"วิทยาศาสตร์!AM286","v":0},{"$f":"ภาษาอังกฤษ!AU286","v":0},0]
[null,277,{"$f":"IF(ข้อมูลนักเรียน!D289=\"\",\"\",ข้อมูลนักเรียน!D289)","v":""},{"$f":"คณิตศาสตร์!AA287","v":0},{"$f":"ภาษาไทย!AO287","v":0},{"$f":"วิทยาศาสตร์!AM287","v":0},{"$f":"ภาษาอังกฤษ!AU287","v":0},0]
[null,278,{"$f":"IF(ข้อมูลนักเรียน!D290=\"\",\"\",ข้อมูลนักเรียน!D290)","v":""},{"$f":"คณิตศาสตร์!AA288","v":0},{"$f":"ภาษาไทย!AO288","v":0},{"$f":"วิทยาศาสตร์!AM288","v":0},{"$f":"ภาษาอังกฤษ!AU288","v":0},0]
[null,279,{"$f":"IF(ข้อมูลนักเรียน!D291=\"\",\"\",ข้อมูลนักเรียน!D291)","v":""},{"$f":"คณิตศาสตร์!AA289","v":0},{"$f":"ภาษาไทย!AO289","v":0},{"$f":"วิทยาศาสตร์!AM289","v":0},{"$f":"ภาษาอังกฤษ!AU289","v":0},0]
[null,280,{"$f":"IF(ข้อมูลนักเรียน!D292=\"\",\"\",ข้อมูลนักเรียน!D292)","v":""},{"$f":"คณิตศาสตร์!AA290","v":0},{"$f":"ภาษาไทย!AO290","v":0},{"$f":"วิทยาศาสตร์!AM290","v":0},{"$f":"ภาษาอังกฤษ!AU290","v":0},0]
[null,281,{"$f":"IF(ข้อมูลนักเรียน!D293=\"\",\"\",ข้อมูลนักเรียน!D293)","v":""},{"$f":"คณิตศาสตร์!AA291","v":0},{"$f":"ภาษาไทย!AO291","v":0},{"$f":"วิทยาศาสตร์!AM291","v":0},{"$f":"ภาษาอังกฤษ!AU291","v":0},0]
[null,282,{"$f":"IF(ข้อมูลนักเรียน!D294=\"\",\"\",ข้อมูลนักเรียน!D294)","v":""},{"$f":"คณิตศาสตร์!AA292","v":0},{"$f":"ภาษาไทย!AO292","v":0},{"$f":"วิทยาศาสตร์!AM292","v":0},{"$f":"ภาษาอังกฤษ!AU292","v":0},0]
[null,283,{"$f":"IF(ข้อมูลนักเรียน!D295=\"\",\"\",ข้อมูลนักเรียน!D295)","v":""},{"$f":"คณิตศาสตร์!AA293","v":0},{"$f":"ภาษาไทย!AO293","v":0},{"$f":"วิทยาศาสตร์!AM293","v":0},{"$f":"ภาษาอังกฤษ!AU293","v":0},0]
[null,284,{"$f":"IF(ข้อมูลนักเรียน!D296=\"\",\"\",ข้อมูลนักเรียน!D296)","v":""},{"$f":"คณิตศาสตร์!AA294","v":0},{"$f":"ภาษาไทย!AO294","v":0},{"$f":"วิทยาศาสตร์!AM294","v":0},{"$f":"ภาษาอังกฤษ!AU294","v":0},0]
[null,285,{"$f":"IF(ข้อมูลนักเรียน!D297=\"\",\"\",ข้อมูลนักเรียน!D297)","v":""},{"$f":"คณิตศาสตร์!AA295","v":0},{"$f":"ภาษาไทย!AO295","v":0},{"$f":"วิทยาศาสตร์!AM295","v":0},{"$f":"ภาษาอังกฤษ!AU295","v":0},0]
[null,286,{"$f":"IF(ข้อมูลนักเรียน!D298=\"\",\"\",ข้อมูลนักเรียน!D298)","v":""},{"$f":"คณิตศาสตร์!AA296","v":0},{"$f":"ภาษาไทย!AO296","v":0},{"$f":"วิทยาศาสตร์!AM296","v":0},{"$f":"ภาษาอังกฤษ!AU296","v":0},0]
[null,287,{"$f":"IF(ข้อมูลนักเรียน!D299=\"\",\"\",ข้อมูลนักเรียน!D299)","v":""},{"$f":"คณิตศาสตร์!AA297","v":0},{"$f":"ภาษาไทย!AO297","v":0},{"$f":"วิทยาศาสตร์!AM297","v":0},{"$f":"ภาษาอังกฤษ!AU297","v":0},0]
[null,288,{"$f":"IF(ข้อมูลนักเรียน!D300=\"\",\"\",ข้อมูลนักเรียน!D300)","v":""},{"$f":"คณิตศาสตร์!AA298","v":0},{"$f":"ภาษาไทย!AO298","v":0},{"$f":"วิทยาศาสตร์!AM298","v":0},{"$f":"ภาษาอังกฤษ!AU298","v":0},0]
[null,289,{"$f":"IF(ข้อมูลนักเรียน!D301=\"\",\"\",ข้อมูลนักเรียน!D301)","v":""},{"$f":"คณิตศาสตร์!AA299","v":0},{"$f":"ภาษาไทย!AO299","v":0},{"$f":"วิทยาศาสตร์!AM299","v":0},{"$f":"ภาษาอังกฤษ!AU299","v":0},0]
[null,290,{"$f":"IF(ข้อมูลนักเรียน!D302=\"\",\"\",ข้อมูลนักเรียน!D302)","v":""},{"$f":"คณิตศาสตร์!AA300","v":0},{"$f":"ภาษาไทย!AO300","v":0},{"$f":"วิทยาศาสตร์!AM300","v":0},{"$f":"ภาษาอังกฤษ!AU300","v":0},0]
[null,291,{"$f":"IF(ข้อมูลนักเรียน!D303=\"\",\"\",ข้อมูลนักเรียน!D303)","v":""},{"$f":"คณิตศาสตร์!AA301","v":0},{"$f":"ภาษาไทย!AO301","v":0},{"$f":"วิทยาศาสตร์!AM301","v":0},{"$f":"ภาษาอังกฤษ!AU301","v":0},0]
[null,292,{"$f":"IF(ข้อมูลนักเรียน!D304=\"\",\"\",ข้อมูลนักเรียน!D304)","v":""},{"$f":"คณิตศาสตร์!AA302","v":0},{"$f":"ภาษาไทย!AO302","v":0},{"$f":"วิทยาศาสตร์!AM302","v":0},{"$f":"ภาษาอังกฤษ!AU302","v":0},0]
[null,293,{"$f":"IF(ข้อมูลนักเรียน!D305=\"\",\"\",ข้อมูลนักเรียน!D305)","v":""},{"$f":"คณิตศาสตร์!AA303","v":0},{"$f":"ภาษาไทย!AO303","v":0},{"$f":"วิทยาศาสตร์!AM303","v":0},{"$f":"ภาษาอังกฤษ!AU303","v":0},0]
[null,294,{"$f":"IF(ข้อมูลนักเรียน!D306=\"\",\"\",ข้อมูลนักเรียน!D306)","v":""},{"$f":"คณิตศาสตร์!AA304","v":0},{"$f":"ภาษาไทย!AO304","v":0},{"$f":"วิทยาศาสตร์!AM304","v":0},{"$f":"ภาษาอังกฤษ!AU304","v":0},0]
[null,295,{"$f":"IF(ข้อมูลนักเรียน!D307=\"\",\"\",ข้อมูลนักเรียน!D307)","v":""},{"$f":"คณิตศาสตร์!AA305","v":0},{"$f":"ภาษาไทย!AO305","v":0},{"$f":"วิทยาศาสตร์!AM305","v":0},{"$f":"ภาษาอังกฤษ!AU305","v":0},0]
[null,296,{"$f":"IF(ข้อมูลนักเรียน!D308=\"\",\"\",ข้อมูลนักเรียน!D308)","v":""},{"$f":"คณิตศาสตร์!AA306","v":0},{"$f":"ภาษาไทย!AO306","v":0},{"$f":"วิทยาศาสตร์!AM306","v":0},{"$f":"ภาษาอังกฤษ!AU306","v":0},0]
[null,297,{"$f":"IF(ข้อมูลนักเรียน!D309=\"\",\"\",ข้อมูลนักเรียน!D309)","v":""},{"$f":"คณิตศาสตร์!AA307","v":0},{"$f":"ภาษาไทย!AO307","v":0},{"$f":"วิทยาศาสตร์!AM307","v":0},{"$f":"ภาษาอังกฤษ!AU307","v":0},0]
[null,298,{"$f":"IF(ข้อมูลนักเรียน!D310=\"\",\"\",ข้อมูลนักเรียน!D310)","v":""},{"$f":"คณิตศาสตร์!AA308","v":0},{"$f":"ภาษาไทย!AO308","v":0},{"$f":"วิทยาศาสตร์!AM308","v":0},{"$f":"ภาษาอังกฤษ!AU308","v":0},0]
[null,299,{"$f":"IF(ข้อมูลนักเรียน!D311=\"\",\"\",ข้อมูลนักเรียน!D311)","v":""},{"$f":"คณิตศาสตร์!AA309","v":0},{"$f":"ภาษาไทย!AO309","v":0},{"$f":"วิทยาศาสตร์!AM309","v":0},{"$f":"ภาษาอังกฤษ!AU309","v":0},0]
[null,300,{"$f":"IF(ข้อมูลนักเรียน!D312=\"\",\"\",ข้อมูลนักเรียน!D312)","v":""},{"$f":"คณิตศาสตร์!AA310","v":0},{"$f":"ภาษาไทย!AO310","v":0},{"$f":"วิทยาศาสตร์!AM310","v":0},{"$f":"ภาษาอังกฤษ!AU310","v":0},0]
[null,301,{"$f":"IF(ข้อมูลนักเรียน!D313=\"\",\"\",ข้อมูลนักเรียน!D313)","v":""},{"$f":"คณิตศาสตร์!AA311","v":0},{"$f":"ภาษาไทย!AO311","v":0},{"$f":"วิทยาศาสตร์!AM311","v":0},{"$f":"ภาษาอังกฤษ!AU311","v":0},0]
[null,302,{"$f":"IF(ข้อมูลนักเรียน!D314=\"\",\"\",ข้อมูลนักเรียน!D314)","v":""},{"$f":"คณิตศาสตร์!AA312","v":0},{"$f":"ภาษาไทย!AO312","v":0},{"$f":"วิทยาศาสตร์!AM312","v":0},{"$f":"ภาษาอังกฤษ!AU312","v":0},0]
[null,303,{"$f":"IF(ข้อมูลนักเรียน!D315=\"\",\"\",ข้อมูลนักเรียน!D315)","v":""},{"$f":"คณิตศาสตร์!AA313","v":0},{"$f":"ภาษาไทย!AO313","v":0},{"$f":"วิทยาศาสตร์!AM313","v":0},{"$f":"ภาษาอังกฤษ!AU313","v":0},0]
[null,304,{"$f":"IF(ข้อมูลนักเรียน!D316=\"\",\"\",ข้อมูลนักเรียน!D316)","v":""},{"$f":"คณิตศาสตร์!AA314","v":0},{"$f":"ภาษาไทย!AO314","v":0},{"$f":"วิทยาศาสตร์!AM314","v":0},{"$f":"ภาษาอังกฤษ!AU314","v":0},0]
[null,305,{"$f":"IF(ข้อมูลนักเรียน!D317=\"\",\"\",ข้อมูลนักเรียน!D317)","v":""},{"$f":"คณิตศาสตร์!AA315","v":0},{"$f":"ภาษาไทย!AO315","v":0},{"$f":"วิทยาศาสตร์!AM315","v":0},{"$f":"ภาษาอังกฤษ!AU315","v":0},0]
[null,306,{"$f":"IF(ข้อมูลนักเรียน!D318=\"\",\"\",ข้อมูลนักเรียน!D318)","v":""},{"$f":"คณิตศาสตร์!AA316","v":0},{"$f":"ภาษาไทย!AO316","v":0},{"$f":"วิทยาศาสตร์!AM316","v":0},{"$f":"ภาษาอังกฤษ!AU316","v":0},0]
[null,307,{"$f":"IF(ข้อมูลนักเรียน!D319=\"\",\"\",ข้อมูลนักเรียน!D319)","v":""},{"$f":"คณิตศาสตร์!AA317","v":0},{"$f":"ภาษาไทย!AO317","v":0},{"$f":"วิทยาศาสตร์!AM317","v":0},{"$f":"ภาษาอังกฤษ!AU317","v":0},0]
[null,308,{"$f":"IF(ข้อมูลนักเรียน!D320=\"\",\"\",ข้อมูลนักเรียน!D320)","v":""},{"$f":"คณิตศาสตร์!AA318","v":0},{"$f":"ภาษาไทย!AO318","v":0},{"$f":"วิทยาศาสตร์!AM318","v":0},{"$f":"ภาษาอังกฤษ!AU318","v":0},0]
[null,309,{"$f":"IF(ข้อมูลนักเรียน!D321=\"\",\"\",ข้อมูลนักเรียน!D321)","v":""},{"$f":"คณิตศาสตร์!AA319","v":0},{"$f":"ภาษาไทย!AO319","v":0},{"$f":"วิทยาศาสตร์!AM319","v":0},{"$f":"ภาษาอังกฤษ!AU319","v":0},0]
[null,310,{"$f":"IF(ข้อมูลนักเรียน!D322=\"\",\"\",ข้อมูลนักเรียน!D322)","v":""},{"$f":"คณิตศาสตร์!AA320","v":0},{"$f":"ภาษาไทย!AO320","v":0},{"$f":"วิทยาศาสตร์!AM320","v":0},{"$f":"ภาษาอังกฤษ!AU320","v":0},0]
[null,311,{"$f":"IF(ข้อมูลนักเรียน!D323=\"\",\"\",ข้อมูลนักเรียน!D323)","v":""},{"$f":"คณิตศาสตร์!AA321","v":0},{"$f":"ภาษาไทย!AO321","v":0},{"$f":"วิทยาศาสตร์!AM321","v":0},{"$f":"ภาษาอังกฤษ!AU321","v":0},0]
[null,312,{"$f":"IF(ข้อมูลนักเรียน!D324=\"\",\"\",ข้อมูลนักเรียน!D324)","v":""},{"$f":"คณิตศาสตร์!AA322","v":0},{"$f":"ภาษาไทย!AO322","v":0},{"$f":"วิทยาศาสตร์!AM322","v":0},{"$f":"ภาษาอังกฤษ!AU322","v":0},0]
[null,313,{"$f":"IF(ข้อมูลนักเรียน!D325=\"\",\"\",ข้อมูลนักเรียน!D325)","v":""},{"$f":"คณิตศาสตร์!AA323","v":0},{"$f":"ภาษาไทย!AO323","v":0},{"$f":"วิทยาศาสตร์!AM323","v":0},{"$f":"ภาษาอังกฤษ!AU323","v":0},0]
[null,314,{"$f":"IF(ข้อมูลนักเรียน!D326=\"\",\"\",ข้อมูลนักเรียน!D326)","v":""},{"$f":"คณิตศาสตร์!AA324","v":0},{"$f":"ภาษาไทย!AO324","v":0},{"$f":"วิทยาศาสตร์!AM324","v":0},{"$f":"ภาษาอังกฤษ!AU324","v":0},0]
[null,315,{"$f":"IF(ข้อมูลนักเรียน!D327=\"\",\"\",ข้อมูลนักเรียน!D327)","v":""},{"$f":"คณิตศาสตร์!AA325","v":0},{"$f":"ภาษาไทย!AO325","v":0},{"$f":"วิทยาศาสตร์!AM325","v":0},{"$f":"ภาษาอังกฤษ!AU325","v":0},0]
[null,316,{"$f":"IF(ข้อมูลนักเรียน!D328=\"\",\"\",ข้อมูลนักเรียน!D328)","v":""},{"$f":"คณิตศาสตร์!AA326","v":0},{"$f":"ภาษาไทย!AO326","v":0},{"$f":"วิทยาศาสตร์!AM326","v":0},{"$f":"ภาษาอังกฤษ!AU326","v":0},0]
[null,317,{"$f":"IF(ข้อมูลนักเรียน!D329=\"\",\"\",ข้อมูลนักเรียน!D329)","v":""},{"$f":"คณิตศาสตร์!AA327","v":0},{"$f":"ภาษาไทย!AO327","v":0},{"$f":"วิทยาศาสตร์!AM327","v":0},{"$f":"ภาษาอังกฤษ!AU327","v":0},0]
[null,318,{"$f":"IF(ข้อมูลนักเรียน!D330=\"\",\"\",ข้อมูลนักเรียน!D330)","v":""},{"$f":"คณิตศาสตร์!AA328","v":0},{"$f":"ภาษาไทย!AO328","v":0},{"$f":"วิทยาศาสตร์!AM328","v":0},{"$f":"ภาษาอังกฤษ!AU328","v":0},0]
[null,319,{"$f":"IF(ข้อมูลนักเรียน!D331=\"\",\"\",ข้อมูลนักเรียน!D331)","v":""},{"$f":"คณิตศาสตร์!AA329","v":0},{"$f":"ภาษาไทย!AO329","v":0},{"$f":"วิทยาศาสตร์!AM329","v":0},{"$f":"ภาษาอังกฤษ!AU329","v":0},0]
[null,320,{"$f":"IF(ข้อมูลนักเรียน!D332=\"\",\"\",ข้อมูลนักเรียน!D332)","v":""},{"$f":"คณิตศาสตร์!AA330","v":0},{"$f":"ภาษาไทย!AO330","v":0},{"$f":"วิทยาศาสตร์!AM330","v":0},{"$f":"ภาษาอังกฤษ!AU330","v":0},0]
[null,321,{"$f":"IF(ข้อมูลนักเรียน!D333=\"\",\"\",ข้อมูลนักเรียน!D333)","v":""},{"$f":"คณิตศาสตร์!AA331","v":0},{"$f":"ภาษาไทย!AO331","v":0},{"$f":"วิทยาศาสตร์!AM331","v":0},{"$f":"ภาษาอังกฤษ!AU331","v":0},0]
[null,322,{"$f":"IF(ข้อมูลนักเรียน!D334=\"\",\"\",ข้อมูลนักเรียน!D334)","v":""},{"$f":"คณิตศาสตร์!AA332","v":0},{"$f":"ภาษาไทย!AO332","v":0},{"$f":"วิทยาศาสตร์!AM332","v":0},{"$f":"ภาษาอังกฤษ!AU332","v":0},{"$f":"(D329+E329+F329+G329)/4","v":0}]
[null,323,{"$f":"IF(ข้อมูลนักเรียน!D335=\"\",\"\",ข้อมูลนักเรียน!D335)","v":""},{"$f":"คณิตศาสตร์!AA333","v":0},{"$f":"ภาษาไทย!AO333","v":0},{"$f":"วิทยาศาสตร์!AM333","v":0},{"$f":"ภาษาอังกฤษ!AU333","v":0},0]
[null,324,{"$f":"IF(ข้อมูลนักเรียน!D336=\"\",\"\",ข้อมูลนักเรียน!D336)","v":""},{"$f":"คณิตศาสตร์!AA334","v":0},{"$f":"ภาษาไทย!AO334","v":0},{"$f":"วิทยาศาสตร์!AM334","v":0},{"$f":"ภาษาอังกฤษ!AU334","v":0},0]
[null,325,{"$f":"IF(ข้อมูลนักเรียน!D337=\"\",\"\",ข้อมูลนักเรียน!D337)","v":""},{"$f":"คณิตศาสตร์!AA335","v":0},{"$f":"ภาษาไทย!AO335","v":0},{"$f":"วิทยาศาสตร์!AM335","v":0},{"$f":"ภาษาอังกฤษ!AU335","v":0},0]
[null,326,{"$f":"IF(ข้อมูลนักเรียน!D338=\"\",\"\",ข้อมูลนักเรียน!D338)","v":""},{"$f":"คณิตศาสตร์!AA336","v":0},{"$f":"ภาษาไทย!AO336","v":0},{"$f":"วิทยาศาสตร์!AM336","v":0},{"$f":"ภาษาอังกฤษ!AU336","v":0},0]
[null,327,{"$f":"IF(ข้อมูลนักเรียน!D339=\"\",\"\",ข้อมูลนักเรียน!D339)","v":""},{"$f":"คณิตศาสตร์!AA337","v":0},{"$f":"ภาษาไทย!AO337","v":0},{"$f":"วิทยาศาสตร์!AM337","v":0},{"$f":"ภาษาอังกฤษ!AU337","v":0},0]
[null,328,{"$f":"IF(ข้อมูลนักเรียน!D340=\"\",\"\",ข้อมูลนักเรียน!D340)","v":""},{"$f":"คณิตศาสตร์!AA338","v":0},{"$f":"ภาษาไทย!AO338","v":0},{"$f":"วิทยาศาสตร์!AM338","v":0},{"$f":"ภาษาอังกฤษ!AU338","v":0},0]
[null,329,{"$f":"IF(ข้อมูลนักเรียน!D341=\"\",\"\",ข้อมูลนักเรียน!D341)","v":""},{"$f":"คณิตศาสตร์!AA339","v":0},{"$f":"ภาษาไทย!AO339","v":0},{"$f":"วิทยาศาสตร์!AM339","v":0},{"$f":"ภาษาอังกฤษ!AU339","v":0},0]
[null,330,{"$f":"IF(ข้อมูลนักเรียน!D342=\"\",\"\",ข้อมูลนักเรียน!D342)","v":""},{"$f":"คณิตศาสตร์!AA340","v":0},{"$f":"ภาษาไทย!AO340","v":0},{"$f":"วิทยาศาสตร์!AM340","v":0},{"$f":"ภาษาอังกฤษ!AU340","v":0},0]
[null,331,{"$f":"IF(ข้อมูลนักเรียน!D343=\"\",\"\",ข้อมูลนักเรียน!D343)","v":""},{"$f":"คณิตศาสตร์!AA341","v":0},{"$f":"ภาษาไทย!AO341","v":0},{"$f":"วิทยาศาสตร์!AM341","v":0},{"$f":"ภาษาอังกฤษ!AU341","v":0},0]
[null,332,{"$f":"IF(ข้อมูลนักเรียน!D344=\"\",\"\",ข้อมูลนักเรียน!D344)","v":""},{"$f":"คณิตศาสตร์!AA342","v":0},{"$f":"ภาษาไทย!AO342","v":0},{"$f":"วิทยาศาสตร์!AM342","v":0},{"$f":"ภาษาอังกฤษ!AU342","v":0},0]
[null,333,{"$f":"IF(ข้อมูลนักเรียน!D345=\"\",\"\",ข้อมูลนักเรียน!D345)","v":""},{"$f":"คณิตศาสตร์!AA343","v":0},{"$f":"ภาษาไทย!AO343","v":0},{"$f":"วิทยาศาสตร์!AM343","v":0},{"$f":"ภาษาอังกฤษ!AU343","v":0},0]
[null,334,{"$f":"IF(ข้อมูลนักเรียน!D346=\"\",\"\",ข้อมูลนักเรียน!D346)","v":""},{"$f":"คณิตศาสตร์!AA344","v":0},{"$f":"ภาษาไทย!AO344","v":0},{"$f":"วิทยาศาสตร์!AM344","v":0},{"$f":"ภาษาอังกฤษ!AU344","v":0},0]
[null,335,{"$f":"IF(ข้อมูลนักเรียน!D347=\"\",\"\",ข้อมูลนักเรียน!D347)","v":""},{"$f":"คณิตศาสตร์!AA345","v":0},{"$f":"ภาษาไทย!AO345","v":0},{"$f":"วิทยาศาสตร์!AM345","v":0},{"$f":"ภาษาอังกฤษ!AU345","v":0},0]
[null,336,{"$f":"IF(ข้อมูลนักเรียน!D348=\"\",\"\",ข้อมูลนักเรียน!D348)","v":""},{"$f":"คณิตศาสตร์!AA346","v":0},{"$f":"ภาษาไทย!AO346","v":0},{"$f":"วิทยาศาสตร์!AM346","v":0},{"$f":"ภาษาอังกฤษ!AU346","v":0},0]
[null,337,{"$f":"IF(ข้อมูลนักเรียน!D349=\"\",\"\",ข้อมูลนักเรียน!D349)","v":""},{"$f":"คณิตศาสตร์!AA347","v":0},{"$f":"ภาษาไทย!AO347","v":0},{"$f":"วิทยาศาสตร์!AM347","v":0},{"$f":"ภาษาอังกฤษ!AU347","v":0},0]
[null,338,{"$f":"IF(ข้อมูลนักเรียน!D350=\"\",\"\",ข้อมูลนักเรียน!D350)","v":""},{"$f":"คณิตศาสตร์!AA348","v":0},{"$f":"ภาษาไทย!AO348","v":0},{"$f":"วิทยาศาสตร์!AM348","v":0},{"$f":"ภาษาอังกฤษ!AU348","v":0},0]
[null,339,{"$f":"IF(ข้อมูลนักเรียน!D351=\"\",\"\",ข้อมูลนักเรียน!D351)","v":""},{"$f":"คณิตศาสตร์!AA349","v":0},{"$f":"ภาษาไทย!AO349","v":0},{"$f":"วิทยาศาสตร์!AM349","v":0},{"$f":"ภาษาอังกฤษ!AU349","v":0},0]
[null,340,{"$f":"IF(ข้อมูลนักเรียน!D352=\"\",\"\",ข้อมูลนักเรียน!D352)","v":""},{"$f":"คณิตศาสตร์!AA350","v":0},{"$f":"ภาษาไทย!AO350","v":0},{"$f":"วิทยาศาสตร์!AM350","v":0},{"$f":"ภาษาอังกฤษ!AU350","v":0},0]
[null,341,{"$f":"IF(ข้อมูลนักเรียน!D353=\"\",\"\",ข้อมูลนักเรียน!D353)","v":""},{"$f":"คณิตศาสตร์!AA351","v":0},{"$f":"ภาษาไทย!AO351","v":0},{"$f":"วิทยาศาสตร์!AM351","v":0},{"$f":"ภาษาอังกฤษ!AU351","v":0},0]
[null,342,{"$f":"IF(ข้อมูลนักเรียน!D354=\"\",\"\",ข้อมูลนักเรียน!D354)","v":""},{"$f":"คณิตศาสตร์!AA352","v":0},{"$f":"ภาษาไทย!AO352","v":0},{"$f":"วิทยาศาสตร์!AM352","v":0},{"$f":"ภาษาอังกฤษ!AU352","v":0},0]
[null,343,{"$f":"IF(ข้อมูลนักเรียน!D355=\"\",\"\",ข้อมูลนักเรียน!D355)","v":""},{"$f":"คณิตศาสตร์!AA353","v":0},{"$f":"ภาษาไทย!AO353","v":0},{"$f":"วิทยาศาสตร์!AM353","v":0},{"$f":"ภาษาอังกฤษ!AU353","v":0},0]
[null,344,{"$f":"IF(ข้อมูลนักเรียน!D356=\"\",\"\",ข้อมูลนักเรียน!D356)","v":""},{"$f":"คณิตศาสตร์!AA354","v":0},{"$f":"ภาษาไทย!AO354","v":0},{"$f":"วิทยาศาสตร์!AM354","v":0},{"$f":"ภาษาอังกฤษ!AU354","v":0},0]
[null,345,{"$f":"IF(ข้อมูลนักเรียน!D357=\"\",\"\",ข้อมูลนักเรียน!D357)","v":""},{"$f":"คณิตศาสตร์!AA355","v":0},{"$f":"ภาษาไทย!AO355","v":0},{"$f":"วิทยาศาสตร์!AM355","v":0},{"$f":"ภาษาอังกฤษ!AU355","v":0},0]
[null,346,{"$f":"IF(ข้อมูลนักเรียน!D358=\"\",\"\",ข้อมูลนักเรียน!D358)","v":""},{"$f":"คณิตศาสตร์!AA356","v":0},{"$f":"ภาษาไทย!AO356","v":0},{"$f":"วิทยาศาสตร์!AM356","v":0},{"$f":"ภาษาอังกฤษ!AU356","v":0},0]
[null,347,{"$f":"IF(ข้อมูลนักเรียน!D359=\"\",\"\",ข้อมูลนักเรียน!D359)","v":""},{"$f":"คณิตศาสตร์!AA357","v":0},{"$f":"ภาษาไทย!AO357","v":0},{"$f":"วิทยาศาสตร์!AM357","v":0},{"$f":"ภาษาอังกฤษ!AU357","v":0},0]
[null,348,{"$f":"IF(ข้อมูลนักเรียน!D360=\"\",\"\",ข้อมูลนักเรียน!D360)","v":""},{"$f":"คณิตศาสตร์!AA358","v":0},{"$f":"ภาษาไทย!AO358","v":0},{"$f":"วิทยาศาสตร์!AM358","v":0},{"$f":"ภาษาอังกฤษ!AU358","v":0},0]
[null,349,{"$f":"IF(ข้อมูลนักเรียน!D361=\"\",\"\",ข้อมูลนักเรียน!D361)","v":""},{"$f":"คณิตศาสตร์!AA359","v":0},{"$f":"ภาษาไทย!AO359","v":0},{"$f":"วิทยาศาสตร์!AM359","v":0},{"$f":"ภาษาอังกฤษ!AU359","v":0},0]
[null,350,{"$f":"IF(ข้อมูลนักเรียน!D362=\"\",\"\",ข้อมูลนักเรียน!D362)","v":""},{"$f":"คณิตศาสตร์!AA360","v":0},{"$f":"ภาษาไทย!AO360","v":0},{"$f":"วิทยาศาสตร์!AM360","v":0},{"$f":"ภาษาอังกฤษ!AU360","v":0},0]

{"sheet":"สรุปรวม","index":7,"n_rows":59,"n_cols":10,"rows_kept":59,"cut":false,"hidden":false,"merged":[[2,1,2,9],[1,1,1,9],[10,2,10,4],[11,2,11,4],[12,2,12,4],[4,1,4,9],[10,7,10,8],[11,7,11,8],[7,2,7,8],[10,5,10,6],[11,5,11,6],[12,5,12,6],[5,1,5,9],[12,7,12,8],[8,2,8,4],[9,2,9,4],[8,7,8,8],[9,7,9,8],[8,5,8,6],[9,5,9,6],[15,6,15,9],[37,1,37,4],[37,6,37,9],[13,2,13,4],[49,3,49,4],[32,8,32,9],[15,1,15,4],[13,5,13,6],[13,7,13,8]]}
[]
[null,"แบบสรุปคะแนนการทดสอบวินิจฉัย ปีการศึกษา 2562"]
[null,"ระดับชั้นประถมศึกษาปีที่ 6"]
[]
[null,{"$f":"ข้อมูลนักเรียน!B4&\"\"&ข้อมูลนักเรียน!D4&\"   \"&ข้อมูลนักเรียน!B5&\"\"&ข้อมูลนักเรียน!D5","v":"โรงเรียนพิมพ์ชื่อโรงเรียน   ศูนย์อำนวยการเครือข่ายพิมพ์ชื่อศูนย์อำนวยการเครือข่าย"}]
[null,{"$f":"ข้อมูลนักเรียน!B8","v":"สำนักงานเขตพื้นที่การศึกษาประถมศึกษาสกลนคร  เขต 1"}]
[]
[null,null,"ผลเฉลี่ยรวม 4 วิชา"]
[null,null,"วิชา",null,null,"ค่าเฉลี่ย",null,"จำนวนผู้เข้าสอบ (คน)"]
[null,null,"คณิตศาสตร์",null,null,{"$f":"คณิตศาสตร์!E7","v":0},{"$f":"คณิตศาสตร์!G7","v":0},{"$f":"คณิตศาสตร์!E5","v":4}]
[null,null,"ภาษาไทย",null,null,{"$f":"ภาษาไทย!E7","v":0},{"$f":"ภาษาไทย!G7","v":0},{"$f":"ภาษาไทย!E5","v":4}]
[null,null,"วิทยาศาสตร์",null,null,{"$f":"วิทยาศาสตร์!E7","v":0},{"$f":"วิทยาศาสตร์!G7","v":0},{"$f":"วิทยาศาสตร์!E5","v":4}]
[null,null,"ภาษาอังกฤษ",null,null,{"$f":"ภาษาอังกฤษ!E7","v":0},{"$f":"ภาษาอังกฤษ!G7","v":0},{"$f":"ภาษาอังกฤษ!E5","v":4}]
[null,null,"ผลเฉลี่ยทั้ง 4 วิชา",null,null,{"$f":"AVERAGEA(F10:F13)","v":0}]
[]
[null,"รายวิชาคณิตศาสตร์",null,null,null,null,"รายวิชาภาษาไทย"]
[null,"ข้อที่","จำนวนผู้ตอบถูก","ข้อที่","จำนวนผู้ตอบถูก",null,"ข้อที่","จำนวนผู้ตอบถูก","ข้อที่","จำนวนผู้ตอบถูก"]
[null,1,{"$f":"คณิตศาสตร์!AD11","v":0},11,{"$f":"คณิตศาสตร์!AD21","v":0},null,1,{"$f":"ภาษาไทย!AR11","v":0},19,{"$f":"ภาษาไทย!AR29","v":0}]
[null,2,{"$f":"คณิตศาสตร์!AD12","v":0},12,{"$f":"คณิตศาสตร์!AD22","v":0},null,2,{"$f":"ภาษาไทย!AR12","v":0},20,{"$f":"ภาษาไทย!AR30","v":0}]
[null,3,{"$f":"คณิตศาสตร์!AD13","v":0},13,{"$f":"คณิตศาสตร์!AD23","v":0},null,3,{"$f":"ภาษาไทย!AR13","v":0},21,{"$f":"ภาษาไทย!AR31","v":0}]
[null,4,{"$f":"คณิตศาสตร์!AD14","v":0},14,{"$f":"คณิตศาสตร์!AD24","v":0},null,4,{"$f":"ภาษาไทย!AR14","v":0},22,{"$f":"ภาษาไทย!AR32","v":0}]
[null,5,{"$f":"คณิตศาสตร์!AD15","v":0},15,{"$f":"คณิตศาสตร์!AD25","v":0},null,5,{"$f":"ภาษาไทย!AR15","v":0},23,{"$f":"ภาษาไทย!AR33","v":0}]
[null,6,{"$f":"คณิตศาสตร์!AD16","v":0},16,{"$f":"คณิตศาสตร์!AD26","v":0},null,6,{"$f":"ภาษาไทย!AR16","v":0},24,{"$f":"ภาษาไทย!AR34","v":0}]
[null,7,{"$f":"คณิตศาสตร์!AD17","v":0},17,{"$f":"คณิตศาสตร์!AD31","v":0},null,7,{"$f":"ภาษาไทย!AR17","v":0},25,{"$f":"ภาษาไทย!AR35","v":0}]
[null,8,{"$f":"คณิตศาสตร์!AD18","v":0},18,{"$f":"คณิตศาสตร์!AD32","v":0},null,8,{"$f":"ภาษาไทย!AR18","v":0},26,{"$f":"ภาษาไทย!AR36","v":0}]
[null,9,{"$f":"คณิตศาสตร์!AD19","v":0},19,{"$f":"คณิตศาสตร์!AD33","v":0},null,9,{"$f":"ภาษาไทย!AR19","v":0},27,{"$f":"ภาษาไทย!AR37","v":0}]
[null,10,{"$f":"คณิตศาสตร์!AD20","v":0},20,{"$f":"คณิตศาสตร์!AD34","v":0},null,10,{"$f":"ภาษาไทย!AR20","v":0},28,{"$f":"ภาษาไทย!AR38","v":0}]
[null,null,null,null,null,null,11,{"$f":"ภาษาไทย!AR21","v":0},29,{"$f":"ภาษาไทย!AR39","v":0}]
[null,null,null,null,null,null,12,{"$f":"ภาษาไทย!AR22","v":0},30,{"$f":"ภาษาไทย!AR40","v":0}]
[null,null,null,null,null,null,13,{"$f":"ภาษาไทย!AR23","v":0},31,{"$f":"ภาษาไทย!AR41","v":0}]
[null,null,null,null,null,null,14,{"$f":"ภาษาไทย!AR24","v":0},32,{"$f":"ภาษาไทย!AR42","v":0}]
[null,null,null,null,null,null,15,{"$f":"ภาษาไทย!AR25","v":0}]
[null,null,null,null,null,null,16,{"$f":"ภาษาไทย!AR26","v":0},"คะแนนเฉลี่ย"]
[null,null,null,null,null,null,17,{"$f":"ภาษาไทย!AR27","v":0},33,{"$f":"ภาษาไทย!AR46","v":0}]
[null,null,null,null,null,null,18,{"$f":"ภาษาไทย!AR28","v":0},34,{"$f":"ภาษาไทย!AR47","v":0}]
[]
[]
[null,"รายวิชาวิทยาศาสตร์",null,null,null,null,"รายวิชาภาษาอังกฤษ"]
[null,"ข้อที่","จำนวนผู้ตอบถูก","ข้อที่","จำนวนผู้ตอบถูก",null,"ข้อที่","จำนวนผู้ตอบถูก","ข้อที่","จำนวนผู้ตอบถูก"]
[null,1,{"$f":"วิทยาศาสตร์!AP11","v":0},18,{"$f":"วิทยาศาสตร์!AP28","v":0},null,1,{"$f":"ภาษาอังกฤษ!AX11","v":0},21,{"$f":"ภาษาอังกฤษ!AX31","v":0}]
[null,2,{"$f":"วิทยาศาสตร์!AP12","v":0},19,{"$f":"วิทยาศาสตร์!AP29","v":0},null,2,{"$f":"ภาษาอังกฤษ!AX12","v":0},22,{"$f":"ภาษาอังกฤษ!AX32","v":0}]
[null,3,{"$f":"วิทยาศาสตร์!AP13","v":0},20,{"$f":"วิทยาศาสตร์!AP30","v":0},null,3,{"$f":"ภาษาอังกฤษ!AX13","v":0},23,{"$f":"ภาษาอังกฤษ!AX33","v":0}]
[null,4,{"$f":"วิทยาศาสตร์!AP14","v":0},21,{"$f":"วิทยาศาสตร์!AP31","v":0},null,4,{"$f":"ภาษาอังกฤษ!AX14","v":0},24,{"$f":"ภาษาอังกฤษ!AX34","v":0}]
[null,5,{"$f":"วิทยาศาสตร์!AP15","v":0},22,{"$f":"วิทยาศาสตร์!AP32","v":0},null,5,{"$f":"ภาษาอังกฤษ!AX15","v":0},25,{"$f":"ภาษาอังกฤษ!AX35","v":0}]
[null,6,{"$f":"วิทยาศาสตร์!AP16","v":0},23,{"$f":"วิทยาศาสตร์!AP33","v":0},null,6,{"$f":"ภาษาอังกฤษ!AX16","v":0},26,{"$f":"ภาษาอังกฤษ!AX36","v":0}]
[null,7,{"$f":"วิทยาศาสตร์!AP17","v":0},24,{"$f":"วิทยาศาสตร์!AP34","v":0},null,7,{"$f":"ภาษาอังกฤษ!AX17","v":0},27,{"$f":"ภาษาอังกฤษ!AX37","v":0}]
[null,8,{"$f":"วิทยาศาสตร์!AP18","v":0},25,{"$f":"วิทยาศาสตร์!AP35","v":0},null,8,{"$f":"ภาษาอังกฤษ!AX18","v":0},28,{"$f":"ภาษาอังกฤษ!AX38","v":0}]
[null,9,{"$f":"วิทยาศาสตร์!AP19","v":0},26,{"$f":"วิทยาศาสตร์!AP36","v":0},null,9,{"$f":"ภาษาอังกฤษ!AX19","v":0},29,{"$f":"ภาษาอังกฤษ!AX39","v":0}]
[null,10,{"$f":"วิทยาศาสตร์!AP20","v":0},null,null,null,10,{"$f":"ภาษาอังกฤษ!AX20","v":0},30,{"$f":"ภาษาอังกฤษ!AX40","v":0}]
[null,11,{"$f":"วิทยาศาสตร์!AP21","v":0},"คะแนนเฉลี่ย",null,null,11,{"$f":"ภาษาอังกฤษ!AX21","v":0},31,{"$f":"ภาษาอังกฤษ!AX41","v":0}]
[null,12,{"$f":"วิทยาศาสตร์!AP22","v":0},27,{"$f":"วิทยาศาสตร์!AP40","v":0},null,12,{"$f":"ภาษาอังกฤษ!AX22","v":0},32,{"$f":"ภาษาอังกฤษ!AX42","v":0}]
[null,13,{"$f":"วิทยาศาสตร์!AP23","v":0},28,{"$f":"วิทยาศาสตร์!AP41","v":0},null,13,{"$f":"ภาษาอังกฤษ!AX23","v":0},33,{"$f":"ภาษาอังกฤษ!AX43","v":0}]
[null,14,{"$f":"วิทยาศาสตร์!AP24","v":0},null,null,null,14,{"$f":"ภาษาอังกฤษ!AX24","v":0},34,{"$f":"ภาษาอังกฤษ!AX44","v":0}]
[null,15,{"$f":"วิทยาศาสตร์!AP25","v":0},null,null,null,15,{"$f":"ภาษาอังกฤษ!AX25","v":0},35,{"$f":"ภาษาอังกฤษ!AX45","v":0}]
[null,16,{"$f":"วิทยาศาสตร์!AP26","v":0},null,null,null,16,{"$f":"ภาษาอังกฤษ!AX26","v":0},36,{"$f":"ภาษาอังกฤษ!AX46","v":0}]
[null,17,{"$f":"วิทยาศาสตร์!AP27","v":0},null,null,null,17,{"$f":"ภาษาอังกฤษ!AX27","v":0},37,{"$f":"ภาษาอังกฤษ!AX47","v":0}]
[null,null,null,null,null,null,18,{"$f":"ภาษาอังกฤษ!AX28","v":0},38,{"$f":"ภาษาอังกฤษ!AX48","v":0}]
[null,null,null,null,null,null,19,{"$f":"ภาษาอังกฤษ!AX29","v":0},39,{"$f":"ภาษาอังกฤษ!AX49","v":0}]
[null,null,null,null,null,null,20,{"$f":"ภาษาอังกฤษ!AX30","v":0},40,{"$f":"ภาษาอังกฤษ!AX50","v":0}]

{"sheet":"สรุปรายสาระ","index":8,"n_rows":45,"n_cols":7,"rows_kept":45,"cut":false,"hidden":false,"merged":[[1,1,1,6],[37,1,37,6],[2,1,2,6],[3,1,3,6],[14,1,14,6],[22,4,22,6],[24,1,24,6]]}
[]
[null,"ข้อสอบรายกลุ่มสาระการเรียนรู้(วิชา)"]
[null,{"$f":"ข้อมูลนักเรียน!B4&\"\"&ข้อมูลนักเรียน!D4&\"   \"&ข้อมูลนักเรียน!B5&\"\"&ข้อมูลนักเรียน!D5","v":"โรงเรียนพิมพ์ชื่อโรงเรียน   ศูนย์อำนวยการเครือข่ายพิมพ์ชื่อศูนย์อำนวยการเครือข่าย"}]
[null,"วิชาคณิตศาสตร์"]
[]
[null,"สาระ","คะแนนเต็ม (ตามสาระ)","คะแนนที่ได้ (เฉลี่ย)","คิดเป็นร้อยละ","ข้อสอบข้อที่","หมายเหตุ"]
[null,"สาระที่ 1 จำนวนและการดำเนินการ",{"$f":"SUMIF(Answer!D4:D23,สรุปรายสาระ!B7,Answer!C4:C23)","v":35},{"$f":"Sara1Match","v":0},{"$f":"D7*100/C7","v":0},"1,2,3,4,5,6,17"]
[null,"สาระที่ 2 การวัด",{"$f":"SUMIF(Answer!D5:D24,สรุปรายสาระ!B8,Answer!C5:C24)","v":25},{"$f":"Sara2Match","v":0},{"$f":"D8*100/C8","v":0},"7,8,9,10,18"]
[null,"สาระที่ 3 เรขาคณิต",{"$f":"SUMIF(Answer!D6:D25,สรุปรายสาระ!B9,Answer!C6:C25)","v":15},{"$f":"Sara3Match","v":0},0,"11,12,15"]
[null,"สาระที่ 4 พีชคณิต",{"$f":"SUMIF(Answer!D7:D26,สรุปรายสาระ!B10,Answer!C7:C26)","v":10},{"$f":"Sara4Match","v":0},0,"13,19"]
[null,"สาระที่ 5 การวิเคราะห์ข้อมูลและความน่าจะเป็น",{"$f":"SUMIF(Answer!D8:D27,สรุปรายสาระ!B11,Answer!C8:C27)","v":15},{"$f":"Sara5Match","v":0},0,"14,16,20"]
[null,"สาระที่ 6 ทักษะและกระบวนการทางคณิตศาสตร์",{"$f":"SUMIF(Answer!D9:D28,สรุปรายสาระ!B12,Answer!C9:C28)","v":0},{"$f":"Sara6Match","v":0},{"$f":"D12*100/C12","v":{"$error":"#DIV/0!"}},"-","-"]
[null,"รวม",{"$f":"SUM(C7:C12)","v":100},{"$f":"SUM(D7:D12)","v":0}]
[]
[null,"วิชาภาษาไทย"]
[]
[null,"สาระ","คะแนนเต็ม (ตามสาระ)","คะแนนที่ได้ (เฉลี่ย)","คิดเป็นร้อยละ","ข้อสอบข้อที่","หมายเหตุ"]
[null,"สาระที่ 1 การอ่าน",{"$f":"SUMIF(Answer!I4:I37,สรุปรายสาระ!B18,Answer!H4:H37)","v":25},{"$f":"Sara1Thai","v":0},{"$f":"D18*100/C18","v":0},"1-10"]
[null,"สาระที่ 2 การเขียน",{"$f":"SUMIF(Answer!I5:I38,สรุปรายสาระ!B19,Answer!H5:H38)","v":25},{"$f":"Sara2Thai","v":0},{"$f":"D19*100/C19","v":0},"11-12"]
[null,"สาระที่ 3 การฟัง การดูและการพูด",{"$f":"SUMIF(Answer!I6:I39,สรุปรายสาระ!B20,Answer!H6:H39)","v":12.5},{"$f":"Sara3Thai","v":0},{"$f":"D20*100/C20","v":0},"13-17"]
[null,"สาระที่ 4 หลักการใช้ภาษาไทย",{"$f":"SUMIF(Answer!I7:I40,สรุปรายสาระ!B21,Answer!H7:H40)","v":25},{"$f":"Sara4Thai","v":0},0,"18-27"]
[null,"สาระที่ 5 วรรณคดีและวรรณกรรม",{"$f":"SUMIF(Answer!I8:I41,สรุปรายสาระ!B22,Answer!H8:H41)","v":12.5},{"$f":"Sara5Thai","v":0},0,"28-32"]
[null,"รวม",{"$f":"SUM(C18:C22)","v":100},{"$f":"SUM(D18:D22)","v":0}]
[]
[null,"วิชาวิทยาศาสตร์"]
[]
[null,"สาระ","คะแนนเต็ม (ตามสาระ)","คะแนนที่ได้ (เฉลี่ย)","คิดเป็นร้อยละ","ข้อสอบข้อที่","หมายเหตุ"]
[null,"สาระที่ 1 สิ่งมีชีวิตกับกระบวนการดำรงชีวิต",{"$f":"SUMIF(Answer!N4:N34,สรุปรายสาระ!B28,Answer!M4:M36)","v":29},{"$f":"Sara1Sci","v":0},{"$f":"D28*100/C28","v":0},"27,1,2,3,4,5,6,7"]
[null,"สาระที่ 2 ชีวิตกับสิ่งแวดล้อม",{"$f":"SUMIF(Answer!N5:N37,สรุปรายสาระ!B29,Answer!M5:M37)","v":7},{"$f":"Sara2Sci","v":0},{"$f":"D29*100/C29","v":0},"8,9"]
[null,"สาระที่ 3 สารและสมบัติของสาร",{"$f":"SUMIF(Answer!N6:N38,สรุปรายสาระ!B30,Answer!M6:M38)","v":17.5},{"$f":"Sara3Sci","v":0},0,"10,11,12,13,14"]
[null,"สาระที่ 4 แรงและการเคลื่อนที่",{"$f":"SUMIF(Answer!N7:N39,สรุปรายสาระ!B31,Answer!M7:M39)","v":10.5},{"$f":"Sara4Sci","v":0},0,"15,16,17"]
[null,"สาระที่ 5 พลังงาน",{"$f":"SUMIF(Answer!N8:N40,สรุปรายสาระ!B32,Answer!M8:M40)","v":18.5},{"$f":"Sara5Sci","v":0},0,"18,19,28,20,21"]
[null,"สาระที่ 6 กระบวนการเปลี่ยนแปลงของโลก",{"$f":"SUMIF(Answer!N9:N41,สรุปรายสาระ!B33,Answer!M9:M41)","v":10.5},{"$f":"Sara6Sci","v":0},0,"22,23,24"]
[null,"สาระที่ 7 ดาราศาสตร์และอวกาศ",{"$f":"SUMIF(Answer!N10:N42,สรุปรายสาระ!B34,Answer!M10:M42)","v":7},{"$f":"Sara7Sci","v":0},0,"25,26"]
[null,"สาระที่ 8 ธรรมชาติของวิทยาศาสตร์และเทคโนโลยี",{"$f":"SUMIF(Answer!N11:N43,สรุปรายสาระ!B35,Answer!M11:M43)","v":0},{"$f":"Sara8Sci","v":0},{"$error":"#DIV/0!"}]
[null,"รวม",{"$f":"SUM(C28:C35)","v":100},{"$f":"SUM(D28:D35)","v":0}]
[]
[null,"วิชาอังกฤษ"]
[]
[null,"สาระ","คะแนนเต็ม (ตามสาระ)","คะแนนที่ได้ (เฉลี่ย)","คิดเป็นร้อยละ","ข้อสอบข้อที่","หมายเหตุ"]
[null,"สาระที่ 1 ภาษาเพื่อการสื่อสาร",{"$f":"SUMIF(Answer!S4:S43,สรุปรายสาระ!B41,Answer!R4:R43)","v":65},{"$f":"Sara1Eng","v":0},{"$f":"D41*100/C41","v":0},"1-26"]
[null,"สาระที่ 2 ภาษาและวัฒนธรรม",{"$f":"SUMIF(Answer!S5:S44,สรุปรายสาระ!B42,Answer!R5:R44)","v":20},{"$f":"Sara2Eng","v":0},{"$f":"D42*100/C42","v":0},"27-34"]
[null,"สาระที่ 3  ภาษากับความสัมพันธ์กับกลุ่มสาระการเรียนรู้อื่น",{"$f":"SUMIF(Answer!S6:S45,สรุปรายสาระ!B43,Answer!R6:R45)","v":0},{"$f":"Sara3Eng","v":0},{"$error":"#DIV/0!"}]
[null,"สาระที่ 4 ภาษากับความสัมพันธ์กับชุมชนและโลก",{"$f":"SUMIF(Answer!S7:S46,สรุปรายสาระ!B44,Answer!R7:R46)","v":15},{"$f":"Sara4Eng","v":0},0,"35-40"]
[null,"รวม",{"$f":"SUM(C41:C44)","v":100},{"$f":"SUM(D41:D44)","v":0}]

{"sheet":"การใช้งาน","index":9,"n_rows":0,"n_cols":0,"rows_kept":0,"cut":false,"hidden":false,"merged":[]}

{"sheet":"ClearFormat","index":10,"n_rows":0,"n_cols":0,"rows_kept":0,"cut":false,"hidden":true,"merged":[]}

{"sheet":"PastrankfromSh8","index":11,"n_rows":9,"n_cols":8,"rows_kept":9,"cut":false,"hidden":true,"merged":[]}
[null,"โรงเรียนพิมพ์ชื่อโรงเรียน   ศูนย์อำนวยการเครือข่ายพิมพ์ชื่อศูนย์อำนวยการเครือข่าย"]
[null,"สำนักงานเขตพื้นที่การศึกษาประถมศึกษาสกลนคร  เขต 1"]
[]
[null,"ที่","ชื่อ-สกุล","คณิตศาสตร์","ภาษาไทย","วิทยาศาสตร์","ภาษาอังกฤษ","คะแนนเฉลี่ย"]
[null,1,"นายก",0,0,0,0,0]
[null,2,"นายข",0,0,0,0,0]
[null,3,"นายพ",0,0,0,0,0]
[null,4,"นายขเร",0,0,0,0,0]
[null,5,"นางสาว",0,0,0,0,0]

{"sheet":"คำนวณตามสาระ","index":12,"n_rows":41,"n_cols":90,"rows_kept":41,"cut":false,"hidden":true,"merged":[[28,39,28,42],[1,2,1,21],[33,2,33,21],[2,61,2,90],[2,24,2,58],[12,2,12,21],[21,2,21,21],[2,2,2,21],[29,32,29,33],[29,34,29,35],[29,36,29,37],[28,32,28,37],[30,32,30,33],[30,34,30,35],[30,36,30,37],[29,39,29,40],[29,41,29,42],[29,43,29,44],[30,39,30,40],[30,41,30,42],[30,43,30,44],[15,39,15,41],[15,42,15,43],[14,39,14,43],[16,39,16,41],[16,42,16,43],[15,45,15,46],[15,47,15,48],[14,45,14,48],[16,45,16,46],[16,47,16,48]]}
[]
[null,null,"ตารางคำนวณแยกคแนนแต่ละสาระ"]
[null,null,"วิชาคณิตศาตร์",null,null,null,null,null,null,null,null,null,null,null,null,null,null,null,null,null,null,null,null,null,null,null,null,null,null,null,null,null,null,null,null,null,null,null,null,null,null,null,null,null,null,null,null,null,null,null,null,null,null,null,null,null,null,null,null,null,null,"วิทยาศาสตร์"]
[]
[null,"สาระ",1,2,3,4,5,6,7,8,9,10,11,12,13,14,15,16,17,18,19,20,"รวม",null,null,null,null,null,null,null,null,null,null,null,null,null,null,null,null,null,null,null,null,null,null,null,null,null,null,null,null,null,null,null,null,null,null,null,null,null,null,"สาระ",1,2,3,4,5,6,7,8,9,10,11,12,13,14,15,16,17,18,19,20,21,22,23,24,25,26,27,28]
[null,{"$f":"สรุปรายสาระ!B7","v":"สาระที่ 1 จำนวนและการดำเนินการ"},{"$f":"COUNTIF(คณิตศาสตร์!AG11:AG360,\"✓\")*ScoreM1","v":0},{"$f":"COUNTIF(คณิตศาสตร์!AH11:AH360,\"✓\")*ScoreM2","v":0},{"$f":"COUNTIF(คณิตศาสตร์!AI11:AI360,\"✓\")*ScoreM3","v":0},{"$f":"COUNTIF(คณิตศาสตร์!AJ11:AJ360,\"✓\")*ScoreM4","v":0},{"$f":"COUNTIF(คณิตศาสตร์!AK11:AK360,\"✓\")*ScoreM5","v":0},{"$f":"COUNTIF(คณิตศาสตร์!AL11:AL360,\"✓\")*ScoreM17","v":0},null,null,null,null,null,null,null,null,null,null,{"$f":"COUNTIF(คณิตศาสตร์!AY11:AY360,\"✓\")*ScoreM17","v":0},null,null,null,{"$f":"SUM(C6:V6)/คณิตศาสตร์!E5","v":0}]
[null,{"$f":"สรุปรายสาระ!B8","v":"สาระที่ 2 การวัด"},null,null,null,null,null,null,{"$f":"COUNTIF(คณิตศาสตร์!AM11:AM360,\"✓\")*ScoreM7","v":0},{"$f":"COUNTIF(คณิตศาสตร์!AN11:AN360,\"✓\")*ScoreM8","v":0},{"$f":"COUNTIF(คณิตศาสตร์!AO11:AO360,\"✓\")*ScoreM9","v":0},{"$f":"COUNTIF(คณิตศาสตร์!AP11:AP360,\"✓\")*ScoreM10","v":0},null,null,null,null,null,null,null,{"$f":"COUNTIF(คณิตศาสตร์!AZ11:AZ360,\"✓\")*ScoreM18","v":0},null,null,{"$f":"SUM(C7:V7)/คณิตศาสตร์!E5","v":0}]
[null,{"$f":"สรุปรายสาระ!B9","v":"สาระที่ 3 เรขาคณิต"},null,null,null,null,null,null,null,null,null,null,{"$f":"COUNTIF(คณิตศาสตร์!AQ11:AQ360,\"✓\")*ScoreM11","v":0},{"$f":"COUNTIF(คณิตศาสตร์!AR11:AR360,\"✓\")*ScoreM12","v":0},null,null,{"$f":"COUNTIF(คณิตศาสตร์!AU11:AU360,\"✓\")*ScoreM15","v":0},null,null,null,null,null,{"$f":"SUM(C8:V8)/คณิตศาสตร์!E5","v":0}]
[null,{"$f":"สรุปรายสาระ!B10","v":"สาระที่ 4 พีชคณิต"},null,null,null,null,null,null,null,null,null,null,null,null,{"$f":"COUNTIF(คณิตศาสตร์!AS11:AS360,\"✓\")*ScoreM13","v":0},null,null,null,null,null,{"$f":"COUNTIF(คณิตศาสตร์!BA11:BA360,\"✓\")*ScoreM19","v":0},null,{"$f":"SUM(C9:V9)/คณิตศาสตร์!E5","v":0}]
[null,{"$f":"สรุปรายสาระ!B11","v":"สาระที่ 5 การวิเคราะห์ข้อมูลและความน่าจะเป็น"},null,null,null,null,null,null,null,null,null,null,null,null,null,{"$f":"COUNTIF(คณิตศาสตร์!AT11:AT360,\"✓\")*ScoreM14","v":0},null,{"$f":"COUNTIF(คณิตศาสตร์!AV11:AV360,\"✓\")*ScoreM16","v":0},null,null,null,{"$f":"COUNTIF(คณิตศาสตร์!BB11:BB360,\"✓\")*ScoreM20","v":0},{"$f":"SUM(C10:V10)/คณิตศาสตร์!E5","v":0}]
[null,{"$f":"สรุปรายสาระ!B12","v":"สาระที่ 6 ทักษะและกระบวนการทางคณิตศาสตร์"},null,null,null,null,null,null,null,null,null,null,null,null,null,null,null,null,null,null,null,null,{"$f":"SUM(C11:V11)/คณิตศาสตร์!E5","v":0}]
[null,null,null,null,null,null,null,null,null,null,null,null,null,null,null,null,null,null,null,null,null,null,{"$f":"SUM(W6:W11)","v":0}]
[null,null,"วิชาภาษาไทย"]
[]
[null,"สาระ",1,2,3,4,5,6,7,8,9,10,11,12,13,14,15,16,17,18,19,20,21,22,23,24,25,26,27,28,29,30,31,32,"รวม",33,34,"รวม",null,33,null,null,null,null,null,34]
[null,"สาระที่ 1 การอ่าน",{"$f":"COUNTIF(ภาษาไทย!AU11:AU360,\"✓\")*ScoreTh1","v":0},{"$f":"COUNTIF(ภาษาไทย!AV11:AV360,\"✓\")*ScoreTh2","v":0},{"$f":"COUNTIF(ภาษาไทย!AW11:AW360,\"✓\")*ScoreTh3","v":0},{"$f":"COUNTIF(ภาษาไทย!AX11:AX360,\"✓\")*ScoreTh4","v":0},{"$f":"COUNTIF(ภาษาไทย!AY11:AY360,\"✓\")*ScoreTh5","v":0},{"$f":"COUNTIF(ภาษาไทย!AZ11:AZ360,\"✓\")*ScoreTh6","v":0},{"$f":"COUNTIF(ภาษาไทย!BA11:BA360,\"✓\")*ScoreTh7","v":0},{"$f":"COUNTIF(ภาษาไทย!BB11:BB360,\"✓\")*ScoreTh8","v":0},{"$f":"COUNTIF(ภาษาไทย!BC11:BC360,\"✓\")*ScoreTh9","v":0},{"$f":"COUNTIF(ภาษาไทย!BD11:BD360,\"✓\")*ScoreTh10","v":0},null,null,null,null,null,null,null,null,null,null,null,null,null,null,null,null,null,null,null,null,null,null,{"$f":"SUM(C16:AH16)/ภาษาไทย!$E$5","v":0},null,null,{"$f":"SUM(AI16:AK16)","v":0},null,"sumคะแนนรวม",null,null,"คะแนนทั้งหมด นร",null,null,"sumคะแนนรวม",null,"คะแนนทั้งหมด นร"]
[null,"สาระที่ 2 การเขียน",null,null,null,null,null,null,null,null,null,null,{"$f":"COUNTIF(ภาษาไทย!BE11:BE360,\"✓\")*ScoreTh11","v":0},{"$f":"COUNTIF(ภาษาไทย!BF11:BF360,\"✓\")*ScoreTh12","v":0},null,null,null,null,null,null,null,null,null,null,null,null,null,null,null,null,null,null,null,null,{"$f":"SUM(C17:AH17)/ภาษาไทย!$E$5","v":0},{"$f":"AN17/AK31","v":0},{"$f":"AT17/AK31","v":0},{"$f":"SUM(AI17:AK17)","v":0},null,{"$f":"SUM(ภาษาไทย!AM11:AM360)","v":0},null,null,{"$f":"ScoreTh33*ภาษาไทย!E5","v":40},null,null,{"$f":"SUM(ภาษาไทย!AN11:AN360)","v":0},null,{"$f":"ScoreTh34*ภาษาไทย!E5","v":40}]
[null,"สาระที่ 3 การฟัง การดูและการพูด",null,null,null,null,null,null,null,null,null,null,null,null,{"$f":"COUNTIF(ภาษาไทย!BG11:BG360,\"✓\")*ScoreTh13","v":0},{"$f":"COUNTIF(ภาษาไทย!BH11:BH360,\"✓\")*ScoreTh14","v":0},{"$f":"COUNTIF(ภาษาไทย!BI11:BI360,\"✓\")*ScoreTh15","v":0},{"$f":"COUNTIF(ภาษาไทย!BJ11:BJ360,\"✓\")*ScoreTh16","v":0},{"$f":"COUNTIF(ภาษาไทย!BK11:BK360,\"✓\")*ScoreTh17","v":0},null,null,null,null,null,null,null,null,null,null,null,null,null,null,null,{"$f":"SUM(C18:AH18)/ภาษาไทย!$E$5","v":0},null,null,0]
[null,"สาระที่ 4 หลักการใช้ภาษาไทย",null,null,null,null,null,null,null,null,null,null,null,null,null,null,null,null,null,{"$f":"COUNTIF(ภาษาไทย!BL11:BL360,\"✓\")*ScoreTh18","v":0},{"$f":"COUNTIF(ภาษาไทย!BM11:BM360,\"✓\")*ScoreTh19","v":0},{"$f":"COUNTIF(ภาษาไทย!BN11:BN360,\"✓\")*ScoreTh20","v":0},{"$f":"COUNTIF(ภาษาไทย!BO11:BO360,\"✓\")*ScoreTh21","v":0},{"$f":"COUNTIF(ภาษาไทย!BP11:BP360,\"✓\")*ScoreTh22","v":0},{"$f":"COUNTIF(ภาษาไทย!BQ11:BQ360,\"✓\")*ScoreTh23","v":0},{"$f":"COUNTIF(ภาษาไทย!BR11:BR360,\"✓\")*ScoreTh24","v":0},{"$f":"COUNTIF(ภาษาไทย!BS11:BS360,\"✓\")*ScoreTh25","v":0},{"$f":"COUNTIF(ภาษาไทย!BT11:BT360,\"✓\")*ScoreTh26","v":0},{"$f":"COUNTIF(ภาษาไทย!BU11:BU360,\"✓\")*ScoreTh27","v":0},null,null,null,null,null,{"$f":"SUM(C19:AH19)/ภาษาไทย!$E$5","v":0},null,null,0]
[null,"สาระที่ 5 วรรณคดีและวรรณกรรม",null,null,null,null,null,null,null,null,null,null,null,null,null,null,null,null,null,null,null,null,null,null,null,null,null,null,null,{"$f":"COUNTIF(ภาษาไทย!BV11:BV360,\"✓\")*ScoreTh28","v":0},{"$f":"COUNTIF(ภาษาไทย!BW11:BW360,\"✓\")*ScoreTh29","v":0},{"$f":"COUNTIF(ภาษาไทย!BX11:BX360,\"✓\")*ScoreTh30","v":0},{"$f":"COUNTIF(ภาษาไทย!BY11:BY360,\"✓\")*ScoreTh31","v":0},{"$f":"COUNTIF(ภาษาไทย!BZ11:BZ360,\"✓\")*ScoreTh32","v":0},{"$f":"SUM(C20:AH20)/ภาษาไทย!$E$5","v":0},null,null,0]
[]
[null,null,"วิชาวิทย์"]
[]
[null,"สาระ",1,2,3,4,5,6,7,8,9,10,11,12,13,14,15,16,17,18,19,20,21,22,23,24,25,26,"รวม1-26",27,28,"รวม27-28"]
[null,"สาระที่ 1 สิ่งมีชีวิตกับกระบวนการดำรงชีวิต",{"$f":"COUNTIF(วิทยาศาสตร์!AS11:AS360,\"✓\")*ScoreSci1","v":0},{"$f":"COUNTIF(วิทยาศาสตร์!AT11:AT360,\"✓\")*ScoreSci2","v":0},{"$f":"COUNTIF(วิทยาศาสตร์!AU11:AU360,\"✓\")*ScoreSci3","v":0},{"$f":"COUNTIF(วิทยาศาสตร์!AV11:AV360,\"✓\")*ScoreSci4","v":0},{"$f":"COUNTIF(วิทยาศาสตร์!AW11:AW360,\"✓\")*ScoreSci5","v":0},{"$f":"COUNTIF(วิทยาศาสตร์!AX11:AX360,\"✓\")*ScoreSci6","v":0},{"$f":"COUNTIF(วิทยาศาสตร์!AY11:AY360,\"✓\")*ScoreSci7","v":0},null,null,null,null,null,null,null,null,null,null,null,null,null,null,null,null,null,null,null,{"$f":"SUM(C25:AB25)/วิทยาศาสตร์!$E$5","v":0},{"$f":"AG31/AK31","v":0},null,{"$f":"SUM(AC25:AE25)","v":0}]
[null,"สาระที่ 2 ชีวิตกับสิ่งแวดล้อม",null,null,null,null,null,null,null,{"$f":"COUNTIF(วิทยาศาสตร์!AZ11:AZ360,\"✓\")*ScoreSci8","v":0},{"$f":"COUNTIF(วิทยาศาสตร์!BA11:BA360,\"✓\")*ScoreSci9","v":0},null,null,null,null,null,null,null,null,null,null,null,null,null,null,null,null,null,{"$f":"SUM(C26:AB26)/วิทยาศาสตร์!$E$5","v":0},null,null,{"$f":"SUM(AC26:AE26)","v":0}]
[null,"สาระที่ 3 สารและสมบัติของสาร",null,null,null,null,null,null,null,null,null,{"$f":"COUNTIF(วิทยาศาสตร์!BB11:BB360,\"✓\")*ScoreSci10","v":0},{"$f":"COUNTIF(วิทยาศาสตร์!BC11:BC360,\"✓\")*ScoreSci11","v":0},{"$f":"COUNTIF(วิทยาศาสตร์!BD11:BD360,\"✓\")*ScoreSci12","v":0},{"$f":"COUNTIF(วิทยาศาสตร์!BE11:BE360,\"✓\")*ScoreSci13","v":0},{"$f":"COUNTIF(วิทยาศาสตร์!BF11:BF360,\"✓\")*ScoreSci14","v":0},null,null,null,null,null,null,null,null,null,null,null,null,{"$f":"SUM(C27:AB27)/วิทยาศาสตร์!$E$5","v":0},null,null,0]
[null,"สาระที่ 4 แรงและการเคลื่อนที่",null,null,null,null,null,null,null,null,null,null,null,null,null,null,{"$f":"COUNTIF(วิทยาศาสตร์!BG11:BG360,\"✓\")*ScoreSci15","v":0},{"$f":"COUNTIF(วิทยาศาสตร์!BH11:BH360,\"✓\")*ScoreSci16","v":0},{"$f":"COUNTIF(วิทยาศาสตร์!BI11:BI360,\"✓\")*ScoreSci17","v":0},null,null,null,null,null,null,null,null,null,{"$f":"SUM(C28:AB28)/วิทยาศาสตร์!$E$5","v":0},null,null,0]
[null,"สาระที่ 5 พลังงาน",null,null,null,null,null,null,null,null,null,null,null,null,null,null,null,null,null,{"$f":"COUNTIF(วิทยาศาสตร์!BJ11:BJ360,\"✓\")*ScoreSci18","v":0},{"$f":"COUNTIF(วิทยาศาสตร์!BK11:BK360,\"✓\")*ScoreSci19","v":0},{"$f":"COUNTIF(วิทยาศาสตร์!BL11:BL360,\"✓\")*ScoreSci20","v":0},{"$f":"COUNTIF(วิทยาศาสตร์!BM11:BM360,\"✓\")*ScoreSci21","v":0},null,null,null,null,null,{"$f":"SUM(C29:AB29)/วิทยาศาสตร์!$E$5","v":0},null,{"$f":"AN31/AK31","v":0},0,"ข้อ 27",null,null,null,null,null,null,"ข้อ 28"]
[null,"สาระที่ 6 กระบวนการเปลี่ยนแปลงของโลก",null,null,null,null,null,null,null,null,null,null,null,null,null,null,null,null,null,null,null,null,null,{"$f":"COUNTIF(วิทยาศาสตร์!BN11:BN360,\"✓\")*ScoreSci22","v":0},{"$f":"COUNTIF(วิทยาศาสตร์!BO11:BO360,\"✓\")*ScoreSci23","v":0},{"$f":"COUNTIF(วิทยาศาสตร์!BP11:BP360,\"✓\")*ScoreSci24","v":0},null,null,{"$f":"SUM(C30:AB30)/วิทยาศาสตร์!$E$5","v":0},null,null,0,"Sumคะแนนทำได้",null,"คะแนนทั่งหมด นร",null,"จำนวนนรเข้าสอบ",null,null,"Sumคะแนนทำได้",null,"คะแนนทั่งหมด นร"]
[null,"สาระที่ 7 ดาราศาสตร์และอวกาศ",null,null,null,null,null,null,null,null,null,null,null,null,null,null,null,null,null,null,null,null,null,null,null,null,{"$f":"COUNTIF(วิทยาศาสตร์!BQ11:BQ360,\"✓\")*ScoreSci25","v":0},{"$f":"COUNTIF(วิทยาศาสตร์!BR11:BR360,\"✓\")*ScoreSci26","v":0},{"$f":"SUM(C31:AB31)/วิทยาศาสตร์!$E$5","v":0},null,null,0,{"$f":"SUM(วิทยาศาสตร์!BX11:BX360)","v":0},null,{"$f":"ScoreSci27*AK31","v":18},null,{"$f":"วิทยาศาสตร์!E5","v":4},null,null,{"$f":"SUM(วิทยาศาสตร์!CB11:CB360)","v":0},null,{"$f":"ScoreSci28*AK31","v":18}]
[null,"สาระที่ 8 ธรรมชาติของวิทยาศาสตร์และเทคโนโลยี",null,null,null,null,null,null,null,null,null,null,null,null,null,null,null,null,null,null,null,null,null,null,null,null,null,null,{"$f":"SUM(C32:AB32)/วิทยาศาสตร์!$E$5","v":0},null,null,0]
[]
[null,null,"วิชาอังกฤษ"]
[]
[null,"สาระ",1,2,3,4,5,6,7,8,9,10,11,12,13,14,15,16,17,18,19,20,21,22,23,24,25,26,27,28,29,30,31,32,33,34,35,36,37,38,39,40,"รวม"]
[null,"สาระที่ 1 ภาษาเพื่อการสื่อสาร",{"$f":"COUNTIF(ภาษาอังกฤษ!BA11:BA360,\"✓\")*ScoreEn1","v":0},{"$f":"COUNTIF(ภาษาอังกฤษ!BB11:BB360,\"✓\")*ScoreEn2","v":0},{"$f":"COUNTIF(ภาษาอังกฤษ!BC11:BC360,\"✓\")*ScoreEn3","v":0},{"$f":"COUNTIF(ภาษาอังกฤษ!BD11:BD360,\"✓\")*ScoreEn4","v":0},{"$f":"COUNTIF(ภาษาอังกฤษ!BE11:BE360,\"✓\")*ScoreEn5","v":0},{"$f":"COUNTIF(ภาษาอังกฤษ!BF11:BF360,\"✓\")*ScoreEn6","v":0},{"$f":"COUNTIF(ภาษาอังกฤษ!BG11:BG360,\"✓\")*ScoreEn7","v":0},{"$f":"COUNTIF(ภาษาอังกฤษ!BH11:BH360,\"✓\")*ScoreEn8","v":0},{"$f":"COUNTIF(ภาษาอังกฤษ!BI11:BI360,\"✓\")*ScoreEn9","v":0},{"$f":"COUNTIF(ภาษาอังกฤษ!BJ11:BJ360,\"✓\")*ScoreEn10","v":0},{"$f":"COUNTIF(ภาษาอังกฤษ!BK11:BK360,\"✓\")*ScoreEn11","v":0},{"$f":"COUNTIF(ภาษาอังกฤษ!BL11:BL360,\"✓\")*ScoreEn12","v":0},{"$f":"COUNTIF(ภาษาอังกฤษ!BM11:BM360,\"✓\")*ScoreEn13","v":0},{"$f":"COUNTIF(ภาษาอังกฤษ!BN11:BN360,\"✓\")*ScoreEn14","v":0},{"$f":"COUNTIF(ภาษาอังกฤษ!BO11:BO360,\"✓\")*ScoreEn15","v":0},{"$f":"COUNTIF(ภาษาอังกฤษ!BP11:BP360,\"✓\")*ScoreEn16","v":0},{"$f":"COUNTIF(ภาษาอังกฤษ!BQ11:BQ360,\"✓\")*ScoreEn17","v":0},{"$f":"COUNTIF(ภาษาอังกฤษ!BR11:BR360,\"✓\")*ScoreEn18","v":0},{"$f":"COUNTIF(ภาษาอังกฤษ!BS11:BS360,\"✓\")*ScoreEn19","v":0},{"$f":"COUNTIF(ภาษาอังกฤษ!BT11:BT360,\"✓\")*ScoreEn20","v":0},{"$f":"COUNTIF(ภาษาอังกฤษ!BU11:BU360,\"✓\")*ScoreEn21","v":0},{"$f":"COUNTIF(ภาษาอังกฤษ!BV11:BV360,\"✓\")*ScoreEn22","v":0},{"$f":"COUNTIF(ภาษาอังกฤษ!BW11:BW360,\"✓\")*ScoreEn23","v":0},{"$f":"COUNTIF(ภาษาอังกฤษ!BX11:BX360,\"✓\")*ScoreEn24","v":0},{"$f":"COUNTIF(ภาษาอังกฤษ!BY11:BY360,\"✓\")*ScoreEn25","v":0},{"$f":"COUNTIF(ภาษาอังกฤษ!BZ11:BZ360,\"✓\")*ScoreEn26","v":0},null,null,null,null,null,null,null,null,null,null,null,null,null,null,{"$f":"SUM(C37:AP37)/ภาษาอังกฤษ!$E$5","v":0}]
[null,"สาระที่ 2 ภาษาและวัฒนธรรม",null,null,null,null,null,null,null,null,null,null,null,null,null,null,null,null,null,null,null,null,null,null,null,null,null,null,{"$f":"COUNTIF(ภาษาอังกฤษ!CA11:CA360,\"✓\")*ScoreEn27","v":0},{"$f":"COUNTIF(ภาษาอังกฤษ!CB11:CB360,\"✓\")*ScoreEn28","v":0},{"$f":"COUNTIF(ภาษาอังกฤษ!CC11:CC360,\"✓\")*ScoreEn29","v":0},{"$f":"COUNTIF(ภาษาอังกฤษ!CD11:CD360,\"✓\")*ScoreEn30","v":0},{"$f":"COUNTIF(ภาษาอังกฤษ!CE11:CE360,\"✓\")*ScoreEn31","v":0},{"$f":"COUNTIF(ภาษาอังกฤษ!CF11:CF360,\"✓\")*ScoreEn32","v":0},{"$f":"COUNTIF(ภาษาอังกฤษ!CG11:CG360,\"✓\")*ScoreEn33","v":0},{"$f":"COUNTIF(ภาษาอังกฤษ!CH11:CH360,\"✓\")*ScoreEn34","v":0},null,null,null,null,null,null,{"$f":"SUM(C38:AP38)/ภาษาอังกฤษ!$E$5","v":0}]
[null,"สาระที่ 3  ภาษากับความสัมพันธ์กับกลุ่มสาระการเรียนรู้อื่น",null,null,null,null,null,null,null,null,null,null,null,null,null,null,null,null,null,null,null,null,null,null,null,null,null,null,null,null,null,null,null,null,null,null,null,null,null,null,null,null,{"$f":"SUM(C39:AP39)/ภาษาอังกฤษ!$E$5","v":0}]
[null,"สาระที่ 4 ภาษากับความสัมพันธ์กับชุมชนและโลก",null,null,null,null,null,null,null,null,null,null,null,null,null,null,null,null,null,null,null,null,null,null,null,null,null,null,null,null,null,null,null,null,null,null,{"$f":"COUNTIF(ภาษาอังกฤษ!CI11:CI360,\"✓\")*ScoreEn35","v":0},{"$f":"COUNTIF(ภาษาอังกฤษ!CJ11:CJ360,\"✓\")*ScoreEn36","v":0},{"$f":"COUNTIF(ภาษาอังกฤษ!CK11:CK360,\"✓\")*ScoreEn37","v":0},{"$f":"COUNTIF(ภาษาอังกฤษ!CL11:CL360,\"✓\")*ScoreEn38","v":0},{"$f":"COUNTIF(ภาษาอังกฤษ!CM11:CM360,\"✓\")*ScoreEn39","v":0},{"$f":"COUNTIF(ภาษาอังกฤษ!CN11:CN360,\"✓\")*ScoreEn40","v":0},{"$f":"SUM(C40:AP40)/ภาษาอังกฤษ!$E$5","v":0}]
[null,null,null,null,null,null,null,null,null,null,null,null,null,null,null,null,null,null,null,null,null,null,null,null,null,null,null,null,null,null,null,null,null,null,null,null,null,null,null,null,null,null,{"$f":"SUM(AQ37:AQ40)","v":0}]

{"sheet":"List","index":13,"n_rows":31,"n_cols":2,"rows_kept":31,"cut":false,"hidden":true,"merged":[]}
[]
[null,"ภาษาไทย"]
[null,"สาระที่ 1 การอ่าน"]
[null,"สาระที่ 2 การเขียน"]
[null,"สาระที่ 3 การฟัง การดูและการพูด"]
[null,"สาระที่ 4 หลักการใช้ภาษาไทย"]
[null,"สาระที่ 5 วรรณคดีและวรรณกรรม"]
[]
[null,"คณิต"]
[null,"สาระที่ 1 จำนวนและการดำเนินการ"]
[null,"สาระที่ 2 การวัด"]
[null,"สาระที่ 3 เรขาคณิต"]
[null,"สาระที่ 4 พีชคณิต"]
[null,"สาระที่ 5 การวิเคราะห์ข้อมูลและความน่าจะเป็น"]
[null,"สาระที่ 6 ทักษะและกระบวนการทางคณิตศาสตร์"]
[]
[null,"วิทย์"]
[null,"สาระที่ 1 สิ่งมีชีวิตกับกระบวนการดำรงชีวิต"]
[null,"สาระที่ 2 ชีวิตกับสิ่งแวดล้อม"]
[null,"สาระที่ 3 สารและสมบัติของสาร"]
[null,"สาระที่ 4 แรงและการเคลื่อนที่"]
[null,"สาระที่ 5 พลังงาน"]
[null,"สาระที่ 6 กระบวนการเปลี่ยนแปลงของโลก"]
[null,"สาระที่ 7 ดาราศาสตร์และอวกาศ"]
[null,"สาระที่ 8 ธรรมชาติของวิทยาศาสตร์และเทคโนโลยี"]
[]
[null,"ภาษาอังกฤษ"]
[null,"สาระที่ 1 ภาษาเพื่อการสื่อสาร"]
[null,"สาระที่ 2 ภาษาและวัฒนธรรม"]
[null,"สาระที่ 3  ภาษากับความสัมพันธ์กับกลุ่มสาระการเรียนรู้อื่น"]
[null,"สาระที่ 4 ภาษากับความสัมพันธ์กับชุมชนและโลก"]